Workbook

Sheet za okres 07 2013 - 04 2014
A2: Odsetki i należności za okres od lipca 2013 do kwietnia 2014 (stan na 18.02.2015 r.)
A4: NR | B4: BLOK | C4: NALEŻNOŚĆ ZA OKRES LIPIEC 2013 - KWIECIEŃ 2014 | D4: ODSETKI | E4: ODSETKI PO WYŁĄCZENIU | F4: NALEŻNOŚĆ ŁĄCZNA + ODSETKI ŁĄCZNIE | G4: NALEŻNOŚĆ ŁĄCZNA + ODSETKI ŁĄCZNIE PO WYŁĄCZENIU
A5: 1 | B5: 3-go Maja 40 | C5: ='3 Maja'!E101 -> 5592 | D5: ='3 Maja'!H101 -> 647 | E5: ='3 Maja'!K101 -> 471 | F5: =C5+D5 -> 6239 | G5: =C5+E5 -> 6063
A6: 2 | B6: 3-go Maja 42 | C6: ='3 Maja'!E122 -> 4525 | D6: ='3 Maja'!H122 -> 526 | E6: ='3 Maja'!K122 -> 383 | F6: =C6+D6 -> 5051 | G6: =C6+E6 -> 4908
A7: 3 | B7: Słowackiego 47 A | C7: =Słowackiego!E82 -> 6207 | D7: =Słowackiego!H82 -> 720 | E7: =Słowackiego!K82 -> 524 | F7: =C7+D7 -> 6927 | G7: =C7+E7 -> 6731
A8: 4 | B8: 3-go Maja 24 | C8: ='3 Maja'!E59 -> 3045 | D8: ='3 Maja'!H59 -> 353 | E8: ='3 Maja'!K59 -> 257 | F8: =C8+D8 -> 3398 | G8: =C8+E8 -> 3302
A9: 5 | B9: 3-go Maja 24D | C9: ='3 Maja'!E17 -> 4560 | D9: ='3 Maja'!H17 -> 528 | E9: ='3 Maja'!K17 -> 385 | F9: =C9+D9 -> 5088 | G9: =C9+E9 -> 4945
A10: 6 | B10: 3-go Maja 24 E | C10: ='3 Maja'!E80 -> 3346 | D10: ='3 Maja'!H80 -> 389 | E10: ='3 Maja'!K80 -> 284 | F10: =C10+D10 -> 3735 | G10: =C10+E10 -> 3630
A11: 7 | B11: Lipowa 8 | C11: =Lipowa!E51 -> 2680 | D11: =Lipowa!H51 -> 310 | E11: =Lipowa!K51 -> 227 | F11: =C11+D11 -> 2990 | G11: =C11+E11 -> 2907
A12: 8 | B12: Chopina 19 B | C12: =Chopina!E68 -> 2670 | D12: =Chopina!H68 -> 309 | E12: =Chopina!K68 -> 226 | F12: =C12+D12 -> 2979 | G12: =C12+E12 -> 2896
A13: 9 | B13: Chopina 19 | C13: =Chopina!E34 -> 2740 | D13: =Chopina!H34 -> 318 | E13: =Chopina!K34 -> 233 | F13: =C13+D13 -> 3058 | G13: =C13+E13 -> 2973
A14: 10 | B14: Chopina 19 A | C14: =Chopina!E51 -> 3056 | D14: =Chopina!H51 -> 359 | E14: =Chopina!K51 -> 261 | F14: =C14+D14 -> 3415 | G14: =C14+E14 -> 3317
A15: 11 | B15: 3-go Maja 2 | C15: ='3 Maja'!E38 -> 11534 | D15: ='3 Maja'!H38 -> 1337 | E15: ='3 Maja'!K38 -> 975 | F15: =C15+D15 -> 12871 | G15: =C15+E15 -> 12509
A16: 12 | B16: Chopina 15 | C16: =Chopina!E17 -> 6644 | D16: =Chopina!H17 -> 770 | E16: =Chopina!K17 -> 564 | F16: =C16+D16 -> 7414 | G16: =C16+E16 -> 7208
A17: 13 | B17: Słowackiego 13 | C17: =Słowackiego!E60 -> 3590 | D17: =Słowackiego!H60 -> 418 | E17: =Słowackiego!K60 -> 306 | F17: =C17+D17 -> 4008 | G17: =C17+E17 -> 3896
A18: 14 | B18: Lipowa 6 A | C18: =Lipowa!E34 -> 4690 | D18: =Lipowa!H34 -> 544 | E18: =Lipowa!K34 -> 399 | F18: =C18+D18 -> 5234 | G18: =C18+E18 -> 5089
A19: 15 | B19: Lipowa 1 A | C19: =Lipowa!E17 -> 5705 | D19: =Lipowa!H17 -> 661 | E19: =Lipowa!K17 -> 483 | F19: =C19+D19 -> 6366 | G19: =C19+E19 -> 6188
A20: 16 | B20: Szaniawskiego 66 | C20: =Szaniawskiego!E17 -> 2740 | D20: =Szaniawskiego!H17 -> 318 | E20: =Szaniawskiego!K17 -> 232 | F20: =C20+D20 -> 3058 | G20: =C20+E20 -> 2972
A21: 17 | B21: Szaniawskiego 68 | C21: =Szaniawskiego!E38 -> 2667 | D21: =Szaniawskiego!H38 -> 308 | E21: =Szaniawskiego!K38 -> 224 | F21: =C21+D21 -> 2975 | G21: =C21+E21 -> 2891
A22: 18 | B22: Słowackiego 3 A | C22: =Słowackiego!E17 -> 5078 | D22: =Słowackiego!H17 -> 592 | E22: =Słowackiego!K17 -> 432 | F22: =C22+D22 -> 5670 | G22: =C22+E22 -> 5510
A23: 19 | B23: Słowackiego 3 B | C23: =Słowackiego!E38 -> 3945 | D23: =Słowackiego!H38 -> 457 | E23: =Słowackiego!K38 -> 335 | F23: =C23+D23 -> 4402 | G23: =C23+E23 -> 4280
A24: 20 | B24: Cmentarna 14 | C24: =Cmentarna!E17 -> 2020 | D24: =Cmentarna!H17 -> 235 | E24: =Cmentarna!K17 -> 172 | F24: =C24+D24 -> 2255 | G24: =C24+E24 -> 2192
A25: 21 | B25: Cmentarna 16 | C25: =Cmentarna!E34 -> 1550 | D25: =Cmentarna!H34 -> 178 | E25: =Cmentarna!K34 -> 131 | F25: =C25+D25 -> 1728 | G25: =C25+E25 -> 1681
A26: 22 | B26: Orlicz-Dreszera 12 | C26: ='O.-Dreszera'!E17 -> 2690 | D26: ='O.-Dreszera'!H17 -> 311 | E26: ='O.-Dreszera'!K17 -> 226 | F26: =C26+D26 -> 3001 | G26: =C26+E26 -> 2916
A27: 23 | B27: Orlicz-Dreszera 18 | C27: ='O.-Dreszera'!E34 -> 2559 | D27: ='O.-Dreszera'!H34 -> 297 | E27: ='O.-Dreszera'!K34 -> 216 | F27: =C27+D27 -> 2856 | G27: =C27+E27 -> 2775
A28: 24 | B28: 1000-lecia 3 | C28: ='Aleje 1000-lecia'!E17 -> 1839 | D28: ='Aleje 1000-lecia'!H17 -> 214 | E28: ='Aleje 1000-lecia'!K17 -> 156 | F28: =C28+D28 -> 2053 | G28: =C28+E28 -> 1995
A29: 25 | B29: 1000-lecia 5 | C29: ='Aleje 1000-lecia'!E34 -> 2390 | D29: ='Aleje 1000-lecia'!H34 -> 277 | E29: ='Aleje 1000-lecia'!K34 -> 202 | F29: =C29+D29 -> 2667 | G29: =C29+E29 -> 2592
A30: 26 | B30: Powstańców W-wy 1 | C30: ='Powstańców W-wy'!F17 -> 6840 | D30: ='Powstańców W-wy'!I17 -> 794 | E30: ='Powstańców W-wy'!L17 -> 580 | F30: =C30+D30 -> 7634 | G30: =C30+E30 -> 7420
A31: 27 | B31: Powstańców W-wy 3 | C31: ='Powstańców W-wy'!F34 -> 3410 | D31: ='Powstańców W-wy'!I34 -> 395 | E31: ='Powstańców W-wy'!L34 -> 288 | F31: =C31+D31 -> 3805 | G31: =C31+E31 -> 3698
A32: 28 | B32: Powstańców W-wy 5 | C32: ='Powstańców W-wy'!F51 -> 3876 | D32: ='Powstańców W-wy'!I51 -> 451 | E32: ='Powstańców W-wy'!L51 -> 329 | F32: =C32+D32 -> 4327 | G32: =C32+E32 -> 4205
A33: 29 | B33: Powstańców W-wy 7 | C33: ='Powstańców W-wy'!F68 -> 8343 | D33: ='Powstańców W-wy'!I68 -> 966 | E33: ='Powstańców W-wy'!L68 -> 708 | F33: =C33+D33 -> 9309 | G33: =C33+E33 -> 9051
A34: 30 | B34: Powstańców W-wy 15 | C34: ='Powstańców W-wy'!F85 -> 5370 | D34: ='Powstańców W-wy'!I85 -> 622 | E34: ='Powstańców W-wy'!L85 -> 455 | F34: =C34+D34 -> 5992 | G34: =C34+E34 -> 5825
A35: 31 | B35: Powstańców W-wy 17 | C35: ='Powstańców W-wy'!F102 -> 4463 | D35: ='Powstańców W-wy'!I102 -> 519 | E35: ='Powstańców W-wy'!L102 -> 378 | F35: =C35+D35 -> 4982 | G35: =C35+E35 -> 4841
A36: 32 | B36: Powstańców W-wy 21 | C36: ='Powstańców W-wy'!F119 -> 4153 | D36: ='Powstańców W-wy'!I119 -> 482 | E36: ='Powstańców W-wy'!L119 -> 352 | F36: =C36+D36 -> 4635 | G36: =C36+E36 -> 4505
A37: 33 | B37: Powstańców W-wy 71 | C37: ='Powstańców W-wy'!F136 -> 5375 | D37: ='Powstańców W-wy'!I136 -> 622 | E37: ='Powstańców W-wy'!L136 -> 457 | F37: =C37+D37 -> 5997 | G37: =C37+E37 -> 5832
A38: 34 | B38: Powstańców W-wy 73 | C38: ='Powstańców W-wy'!F153 -> 4290 | D38: ='Powstańców W-wy'!I153 -> 497 | E38: ='Powstańców W-wy'!L153 -> 360 | F38: =C38+D38 -> 4787 | G38: =C38+E38 -> 4650
A39: 35 | B39: Powstańców W-wy 75 | C39: ='Powstańców W-wy'!F170 -> 6472 | D39: ='Powstańców W-wy'!I170 -> 750 | E39: ='Powstańców W-wy'!L170 -> 548 | F39: =C39+D39 -> 7222 | G39: =C39+E39 -> 7020
A40: 36 | B40: Powstańców W-wy 77 | C40: ='Powstańców W-wy'!F187 -> 7782 | D40: ='Powstańców W-wy'!I187 -> 903 | E40: ='Powstańców W-wy'!L187 -> 658 | F40: =C40+D40 -> 8685 | G40: =C40+E40 -> 8440
A41: 37 | B41: Powstańców W-wy 79 | C41: ='Powstańców W-wy'!F204 -> 7685 | D41: ='Powstańców W-wy'!I204 -> 894 | E41: ='Powstańców W-wy'!L204 -> 651 | F41: =C41+D41 -> 8579 | G41: =C41+E41 -> 8336
A42: 38 | B42: A. Mickiewicza 8 A | C42: =Mickiewicza!E17 -> 4445 | D42: =Mickiewicza!H17 -> 515 | E42: =Mickiewicza!K17 -> 375 | F42: =C42+D42 -> 4960 | G42: =C42+E42 -> 4820
...

Sheet Ogółem
A2: NR | B2: BLOK | C2: NALEŻNOŚĆ ZA OKRES LIPIEC 2013 - KWIECIEŃ 2014 | D2: ODSETKI | E2: ODSETKI PO WYŁĄCZENIU | F2: NALEŻNOŚĆ ZA OKRES MAJ 2014 - STYCZEŃ 2015 | G2: ODSETKI | H2: ODSETKI PO WYŁĄCZENIU | I2: NALEŻNOŚĆ ŁĄCZNA + ODSETKI ŁĄCZNIE | J2: NALEŻNOŚĆ ŁĄCZNA + ODSETKI ŁĄCZNIE PO WYŁĄCZENIU | K2: Proporcjonalne rozliczenie odsetek i należności głównej | L2: Należność główna | M2: Odsetki | N2: SUMA | O2: Sprawdzenie
A3: 1 | B3: 3-go Maja 40 | C3: ='3 Maja'!E101 -> 5592 | D3: ='3 Maja'!H38 -> 1337 | E3: ='3 Maja'!K101 -> 471 | F3: ='3 Maja'!Y100 -> 5628 | G3: ='3 Maja'!AB96 -> 17 | H3: ='3 Maja'!AE100 -> 173 | I3: =C3+D3+F3+G3 -> 12574 | J3: =C3+E3+F3+H3 -> 11864 | K3: =(C3+E3)/C3 -> 1.0842275 | L3: =INT(C3/K3) -> 5157 | M3: =INT(C3-L3) -> 435 | N3: =L3+M3 -> 5592 | O3: =C3=N3 -> TRUE
A4: 2 | B4: 3-go Maja 42 | C4: ='3 Maja'!E122 -> 4525 | D4: ='3 Maja'!H122 -> 526 | E4: ='3 Maja'!K122 -> 383 | F4: ='3 Maja'!Y121 -> 4698 | G4: ='3 Maja'!AB117 -> 15 | H4: ='3 Maja'!AE121 -> 144 | I4: =C4+D4+F4+G4 -> 9764 | J4: =C4+E4+F4+H4 -> 9750 | K4: =(C4+E4)/C4 -> 1.0846409 | L4: =INT(C4/K4) -> 4171 | M4: =INT(C4-L4) -> 354 | N4: =L4+M4 -> 4525 | O4: =C4=N4 -> TRUE
A5: 3 | B5: Słowackiego 47 A | C5: =Słowackiego!E82 -> 6207 | D5: =Słowackiego!H82 -> 720 | E5: =Słowackiego!K82 -> 524 | F5: =Słowackiego!Y81 -> 6372 | G5: =Słowackiego!AB77 -> 20 | H5: =Słowackiego!AE81 -> 194 | I5: =C5+D5+F5+G5 -> 13319 | J5: =C5+E5+F5+H5 -> 13297 | K5: =(C5+E5)/C5 -> 1.0844208 | L5: =INT(C5/K5) -> 5723 | M5: =INT(C5-L5) -> 484 | N5: =L5+M5 -> 6207 | O5: =C5=N5 -> TRUE
A6: 4 | B6: 3-go Maja 24 | C6: ='3 Maja'!E59 -> 3045 | D6: ='3 Maja'!H59 -> 353 | E6: ='3 Maja'!K59 -> 257 | F6: ='3 Maja'!Y58 -> 3195 | G6: ='3 Maja'!AB54 -> 10 | H6: ='3 Maja'!AE58 -> 92 | I6: =C6+D6+F6+G6 -> 6603 | J6: =C6+E6+F6+H6 -> 6589 | K6: =(C6+E6)/C6 -> 1.0844007 | L6: =INT(C6/K6) -> 2808 | M6: =INT(C6-L6) -> 237 | N6: =L6+M6 -> 3045 | O6: =C6=N6 -> TRUE
A7: 5 | B7: 3-go Maja 24D | C7: ='3 Maja'!E17 -> 4560 | D7: ='3 Maja'!H17 -> 528 | E7: ='3 Maja'!K17 -> 385 | F7: ='3 Maja'!Y16 -> 4818 | G7: ='3 Maja'!AB16 -> 177 | H7: ='3 Maja'!AE16 -> 147 | I7: =C7+D7+F7+G7 -> 10083 | J7: =C7+E7+F7+H7 -> 9910 | K7: =(C7+E7)/C7 -> 1.0844298 | L7: =INT(C7/K7) -> 4204 | M7: =INT(C7-L7) -> 356 | N7: =L7+M7 -> 4560 | O7: =C7=N7 -> TRUE
A8: 6 | B8: 3-go Maja 24 E | C8: ='3 Maja'!E80 -> 3346 | D8: ='3 Maja'!H80 -> 389 | E8: ='3 Maja'!K80 -> 284 | F8: ='3 Maja'!Y79 -> 3492 | G8: ='3 Maja'!AB75 -> 11 | H8: ='3 Maja'!AE79 -> 100 | I8: =C8+D8+F8+G8 -> 7238 | J8: =C8+E8+F8+H8 -> 7222 | K8: =(C8+E8)/C8 -> 1.0848775 | L8: =INT(C8/K8) -> 3084 | M8: =INT(C8-L8) -> 262 | N8: =L8+M8 -> 3346 | O8: =C8=N8 -> TRUE
A9: 7 | B9: Lipowa 8 | C9: =Lipowa!E51 -> 2680 | D9: =Lipowa!H51 -> 310 | E9: =Lipowa!K51 -> 227 | F9: =Lipowa!Y50 -> 2922 | G9: =Lipowa!AB46 -> 9 | H9: =Lipowa!AE50 -> 76 | I9: =C9+D9+F9+G9 -> 5921 | J9: =C9+E9+F9+H9 -> 5905 | K9: =(C9+E9)/C9 -> 1.0847015 | L9: =INT(C9/K9) -> 2470 | M9: =INT(C9-L9) -> 210 | N9: =L9+M9 -> 2680 | O9: =C9=N9 -> TRUE
A10: 8 | B10: Chopina 19 B | C10: =Chopina!E68 -> 2670 | D10: =Chopina!H68 -> 309 | E10: =Chopina!K68 -> 226 | F10: =Chopina!Y67 -> 2802 | G10: =Chopina!AB63 -> 9 | H10: =Chopina!AE67 -> 74 | I10: =C10+D10+F10+G10 -> 5790 | J10: =C10+E10+F10+H10 -> 5772 | K10: =(C10+E10)/C10 -> 1.0846442 | L10: =INT(C10/K10) -> 2461 | M10: =INT(C10-L10) -> 209 | N10: =L10+M10 -> 2670 | O10: =C10=N10 -> TRUE
A11: 9 | B11: Chopina 19 | C11: =Chopina!E34 -> 2740 | D11: =Chopina!H34 -> 318 | E11: =Chopina!K34 -> 233 | F11: =Chopina!Y33 -> 2952 | G11: =Chopina!AB29 -> 9 | H11: =Chopina!AE33 -> 78 | I11: =C11+D11+F11+G11 -> 6019 | J11: =C11+E11+F11+H11 -> 6003 | K11: =(C11+E11)/C11 -> 1.0850365 | L11: =INT(C11/K11) -> 2525 | M11: =INT(C11-L11) -> 215 | N11: =L11+M11 -> 2740 | O11: =C11=N11 -> TRUE
A12: 10 | B12: Chopina 19 A | C12: =Chopina!E51 -> 3056 | D12: =Chopina!H51 -> 359 | E12: =Chopina!K51 -> 261 | F12: =Chopina!Y50 -> 2880 | G12: =Chopina!AB46 -> 9 | H12: =Chopina!AE50 -> 75 | I12: =C12+D12+F12+G12 -> 6304 | J12: =C12+E12+F12+H12 -> 6272 | K12: =(C12+E12)/C12 -> 1.0854058 | L12: =INT(C12/K12) -> 2815 | M12: =INT(C12-L12) -> 241 | N12: =L12+M12 -> 3056 | O12: =C12=N12 -> TRUE
A13: 11 | B13: 3-go Maja 2 | C13: ='3 Maja'!E38 -> 11534 | D13: ='3 Maja'!H38 -> 1337 | E13: ='3 Maja'!K38 -> 975 | F13: ='3 Maja'!Y37 -> 11898 | G13: ='3 Maja'!AB36 -> 10 | H13: ='3 Maja'!AE37 -> 377 | I13: =C13+D13+F13+G13 -> 24779 | J13: =C13+E13+F13+H13 -> 24784 | K13: =(C13+E13)/C13 -> 1.0845327 | L13: =INT(C13/K13) -> 10634 | M13: =INT(C13-L13) -> 900 | N13: =L13+M13 -> 11534 | O13: =C13=N13 -> TRUE
A14: 12 | B14: Chopina 15 | C14: =Chopina!E17 -> 6644 | D14: =Chopina!H17 -> 770 | E14: =Chopina!K17 -> 564 | F14: =Chopina!Y16 -> 6792 | G14: =Chopina!AB12 -> 22 | H14: =Chopina!AE16 -> 206 | I14: =C14+D14+F14+G14 -> 14228 | J14: =C14+E14+F14+H14 -> 14206 | K14: =(C14+E14)/C14 -> 1.0848886 | L14: =INT(C14/K14) -> 6124 | M14: =INT(C14-L14) -> 520 | N14: =L14+M14 -> 6644 | O14: =C14=N14 -> TRUE
A15: 13 | B15: Słowackiego 13 | C15: =Słowackiego!E60 -> 3590 | D15: =Słowackiego!H60 -> 418 | E15: =Słowackiego!K60 -> 306 | F15: =Słowackiego!Y59 -> 3666 | G15: =Słowackiego!AB55 -> 12 | H15: =Słowackiego!AE59 -> 106 | I15: =C15+D15+F15+G15 -> 7686 | J15: =C15+E15+F15+H15 -> 7668 | K15: =(C15+E15)/C15 -> 1.0852368 | L15: =INT(C15/K15) -> 3308 | M15: =INT(C15-L15) -> 282 | N15: =L15+M15 -> 3590 | O15: =C15=N15 -> TRUE
A16: 14 | B16: Lipowa 6 A | C16: =Lipowa!E34 -> 4690 | D16: =Lipowa!H34 -> 544 | E16: =Lipowa!K34 -> 399 | F16: =Lipowa!Y33 -> 4701 | G16: =Lipowa!AB29 -> 15 | H16: =Lipowa!AE33 -> 146 | I16: =C16+D16+F16+G16 -> 9950 | J16: =C16+E16+F16+H16 -> 9936 | K16: =(C16+E16)/C16 -> 1.0850746 | L16: =INT(C16/K16) -> 4322 | M16: =INT(C16-L16) -> 368 | N16: =L16+M16 -> 4690 | O16: =C16=N16 -> TRUE
A17: 15 | B17: Lipowa 1 A | C17: =Lipowa!E17 -> 5705 | D17: =Lipowa!H17 -> 661 | E17: =Lipowa!K17 -> 483 | F17: =Lipowa!Y16 -> 5804 | G17: =Lipowa!AB12 -> 18 | H17: =Lipowa!AE16 -> 179 | I17: =C17+D17+F17+G17 -> 12188 | J17: =C17+E17+F17+H17 -> 12171 | K17: =(C17+E17)/C17 -> 1.0846626 | L17: =INT(C17/K17) -> 5259 | M17: =INT(C17-L17) -> 446 | N17: =L17+M17 -> 5705 | O17: =C17=N17 -> TRUE
A18: 16 | B18: Szaniawskiego 66 | C18: =Szaniawskiego!E17 -> 2740 | D18: =Szaniawskiego!H17 -> 318 | E18: =Szaniawskiego!K17 -> 232 | F18: =Szaniawskiego!Y16 -> 2636 | G18: =Szaniawskiego!AB12 -> 8 | H18: =Szaniawskiego!AE16 -> 70 | I18: =C18+D18+F18+G18 -> 5702 | J18: =C18+E18+F18+H18 -> 5678 | K18: =(C18+E18)/C18 -> 1.0846715 | L18: =INT(C18/K18) -> 2526 | M18: =INT(C18-L18) -> 214 | N18: =L18+M18 -> 2740 | O18: =C18=N18 -> TRUE
A19: 17 | B19: Szaniawskiego 68 | C19: =Szaniawskiego!E38 -> 2667 | D19: =Szaniawskiego!H38 -> 308 | E19: =Szaniawskiego!K38 -> 224 | F19: =Szaniawskiego!Y37 -> 2646 | G19: =Szaniawskiego!AB33 -> 8 | H19: =Szaniawskiego!AE37 -> 70 | I19: =C19+D19+F19+G19 -> 5629 | J19: =C19+E19+F19+H19 -> 5607 | K19: =(C19+E19)/C19 -> 1.0839895 | L19: =INT(C19/K19) -> 2460 | M19: =INT(C19-L19) -> 207 | N19: =L19+M19 -> 2667 | O19: =C19=N19 -> TRUE
A20: 18 | B20: Słowackiego 3 A | C20: =Słowackiego!E17 -> 5078 | D20: =Słowackiego!H17 -> 592 | E20: =Słowackiego!K17 -> 432 | F20: =Słowackiego!Y16 -> 5200 | G20: =Słowackiego!AB12 -> 16 | H20: =Słowackiego!AE16 -> 160 | I20: =C20+D20+F20+G20 -> 10886 | J20: =C20+E20+F20+H20 -> 10870 | K20: =(C20+E20)/C20 -> 1.0850729 | L20: =INT(C20/K20) -> 4679 | M20: =INT(C20-L20) -> 399 | N20: =L20+M20 -> 5078 | O20: =C20=N20 -> TRUE
A21: 19 | B21: Słowackiego 3 B | C21: =Słowackiego!E38 -> 3945 | D21: =Słowackiego!H38 -> 457 | E21: =Słowackiego!K38 -> 335 | F21: =Słowackiego!Y37 -> 4280 | G21: =Słowackiego!AB33 -> 14 | H21: =Słowackiego!AE37 -> 124 | I21: =C21+D21+F21+G21 -> 8696 | J21: =C21+E21+F21+H21 -> 8684 | K21: =(C21+E21)/C21 -> 1.0849176 | L21: =INT(C21/K21) -> 3636 | M21: =INT(C21-L21) -> 309 | N21: =L21+M21 -> 3945 | O21: =C21=N21 -> TRUE
A22: 20 | B22: Cmentarna 14 | C22: =Cmentarna!E17 -> 2020 | D22: =Cmentarna!H17 -> 235 | E22: =Cmentarna!K17 -> 172 | F22: =Cmentarna!Y16 -> 2142 | G22: =Cmentarna!AB12 -> 0 | H22: =Cmentarna!AE16 -> 44 | I22: =C22+D22+F22+G22 -> 4397 | J22: =C22+E22+F22+H22 -> 4378 | K22: =(C22+E22)/C22 -> 1.0851485 | L22: =INT(C22/K22) -> 1861 | M22: =INT(C22-L22) -> 159 | N22: =L22+M22 -> 2020 | O22: =C22=N22 -> TRUE
A23: 21 | B23: Cmentarna 16 | C23: =Cmentarna!E34 -> 1550 | D23: =Cmentarna!H34 -> 178 | E23: =Cmentarna!K34 -> 131 | F23: =Cmentarna!Y33 -> 1692 | G23: =Cmentarna!AB29 -> 0 | H23: =Cmentarna!AE33 -> 28 | I23: =C23+D23+F23+G23 -> 3420 | J23: =C23+E23+F23+H23 -> 3401 | K23: =(C23+E23)/C23 -> 1.0845161 | L23: =INT(C23/K23) -> 1429 | M23: =INT(C23-L23) -> 121 | N23: =L23+M23 -> 1550 | O23: =C23=N23 -> TRUE
A24: 22 | B24: Orlicz-Dreszera 12 | C24: ='O.-Dreszera'!E17 -> 2690 | D24: ='O.-Dreszera'!H17 -> 311 | E24: ='O.-Dreszera'!K17 -> 226 | F24: ='O.-Dreszera'!Y16 -> 3000 | G24: ='O.-Dreszera'!AB12 -> 9 | H24: ='O.-Dreszera'!AE16 -> 85 | I24: =C24+D24+F24+G24 -> 6010 | J24: =C24+E24+F24+H24 -> 6001 | K24: =(C24+E24)/C24 -> 1.0840149 | L24: =INT(C24/K24) -> 2481 | M24: =INT(C24-L24) -> 209 | N24: =L24+M24 -> 2690 | O24: =C24=N24 -> TRUE
A25: 23 | B25: Orlicz-Dreszera 18 | C25: ='O.-Dreszera'!E34 -> 2559 | D25: ='O.-Dreszera'!H34 -> 297 | E25: ='O.-Dreszera'!K34 -> 216 | F25: ='O.-Dreszera'!Y33 -> 2628 | G25: ='O.-Dreszera'!AB29 -> 9 | H25: ='O.-Dreszera'!AE33 -> 68 | I25: =C25+D25+F25+G25 -> 5493 | J25: =C25+E25+F25+H25 -> 5471 | K25: =(2319+E25)/2319 -> 1.0931436 | L25: =INT(2319/K25) -> 2121 | M25: =INT(2319-L25) -> 198 | N25: =L25+M25 -> 2319 | O25: =C25=N25 -> FALSE
A26: 24 | B26: 1000-lecia 3 | C26: ='Aleje 1000-lecia'!E17 -> 1839 | D26: ='Aleje 1000-lecia'!H17 -> 214 | E26: ='Aleje 1000-lecia'!K17 -> 156 | F26: ='Aleje 1000-lecia'!Y16 -> 1932 | G26: ='Aleje 1000-lecia'!AB12 -> 0 | H26: ='Aleje 1000-lecia'!AE16 -> 33 | I26: =C26+D26+F26+G26 -> 3985 | J26: =C26+E26+F26+H26 -> 3960 | K26: =(C26+E26)/C26 -> 1.0848287 | L26: =INT(C26/K26) -> 1695 | M26: =INT(C26-L26) -> 144 | N26: =L26+M26 -> 1839 | O26: =C26=N26 -> TRUE
A27: 25 | B27: 1000-lecia 5 | C27: ='Aleje 1000-lecia'!E34 -> 2390 | D27: ='Aleje 1000-lecia'!H34 -> 277 | E27: ='Aleje 1000-lecia'!K34 -> 202 | F27: ='Aleje 1000-lecia'!Y33 -> 2592 | G27: ='Aleje 1000-lecia'!AB29 -> 8 | H27: ='Aleje 1000-lecia'!AE33 -> 68 | I27: =C27+D27+F27+G27 -> 5267 | J27: =C27+E27+F27+H27 -> 5252 | K27: =(C27+E27)/C27 -> 1.0845188 | L27: =INT(C27/K27) -> 2203 | M27: =INT(C27-L27) -> 187 | N27: =L27+M27 -> 2390 | O27: =C27=N27 -> TRUE
A28: 26 | B28: Powstańców W-wy 1 | C28: ='Powstańców W-wy'!F17 -> 6840 | D28: ='Powstańców W-wy'!I17 -> 794 | E28: ='Powstańców W-wy'!L17 -> 580 | F28: ='Powstańców W-wy'!Z16 -> 7152 | G28: ='Powstańców W-wy'!AC12 -> 23 | H28: ='Powstańców W-wy'!AF16 -> 219 | I28: =C28+D28+F28+G28 -> 14809 | J28: =C28+E28+F28+H28 -> 14791 | K28: =(C28+E28)/C28 -> 1.0847953 | L28: =INT(C28/K28) -> 6305 | M28: =INT(C28-L28) -> 535 | N28: =L28+M28 -> 6840 | O28: =C28=N28 -> TRUE
A29: 27 | B29: Powstańców W-wy 3 | C29: ='Powstańców W-wy'!F34 -> 3410 | D29: ='Powstańców W-wy'!I34 -> 395 | E29: ='Powstańców W-wy'!L34 -> 288 | F29: ='Powstańców W-wy'!Z33 -> 3672 | G29: ='Powstańców W-wy'!AC29 -> 12 | H29: ='Powstańców W-wy'!AF33 -> 105 | I29: =C29+D29+F29+G29 -> 7489 | J29: =C29+E29+F29+H29 -> 7475 | K29: =(C29+E29)/C29 -> 1.0844575 | L29: =INT(C29/K29) -> 3144 | M29: =INT(C29-L29) -> 266 | N29: =L29+M29 -> 3410 | O29: =C29=N29 -> TRUE
A30: 28 | B30: Powstańców W-wy 5 | C30: ='Powstańców W-wy'!F51 -> 3876 | D30: ='Powstańców W-wy'!I51 -> 451 | E30: ='Powstańców W-wy'!L51 -> 329 | F30: ='Powstańców W-wy'!Z50 -> 3900 | G30: ='Powstańców W-wy'!AC46 -> 12 | H30: ='Powstańców W-wy'!AF50 -> 113 | I30: =C30+D30+F30+G30 -> 8239 | J30: =C30+E30+F30+H30 -> 8218 | K30: =(C30+E30)/C30 -> 1.0848813 | L30: =INT(C30/K30) -> 3572 | M30: =INT(C30-L30) -> 304 | N30: =L30+M30 -> 3876 | O30: =C30=N30 -> TRUE
A31: 29 | B31: Powstańców W-wy 7 | C31: ='Powstańców W-wy'!F68 -> 8343 | D31: ='Powstańców W-wy'!I68 -> 966 | E31: ='Powstańców W-wy'!L68 -> 708 | F31: ='Powstańców W-wy'!Z67 -> 8781 | G31: ='Powstańców W-wy'!AC63 -> 28 | H31: ='Powstańców W-wy'!AF67 -> 274 | I31: =C31+D31+F31+G31 -> 18118 | J31: =C31+E31+F31+H31 -> 18106 | K31: =(C31+E31)/C31 -> 1.0848616 | L31: =INT(C31/K31) -> 7690 | M31: =INT(C31-L31) -> 653 | N31: =L31+M31 -> 8343 | O31: =C31=N31 -> TRUE
A32: 30 | B32: Powstańców W-wy 15 | C32: ='Powstańców W-wy'!F85 -> 5370 | D32: ='Powstańców W-wy'!I85 -> 622 | E32: ='Powstańców W-wy'!L85 -> 455 | F32: ='Powstańców W-wy'!Z84 -> 5934 | G32: ='Powstańców W-wy'!AC80 -> 19 | H32: ='Powstańców W-wy'!AF84 -> 182 | I32: =C32+D32+F32+G32 -> 11945 | J32: =C32+E32+F32+H32 -> 11941 | K32: =(C32+E32)/C32 -> 1.08473 | L32: =INT(C32/K32) -> 4950 | M32: =INT(C32-L32) -> 420 | N32: =L32+M32 -> 5370 | O32: =C32=N32 -> TRUE
A33: 31 | B33: Powstańców W-wy 17 | C33: ='Powstańców W-wy'!F102 -> 4463 | D33: ='Powstańców W-wy'!I102 -> 519 | E33: ='Powstańców W-wy'!L102 -> 378 | F33: ='Powstańców W-wy'!Z101 -> 4722 | G33: ='Powstańców W-wy'!AC97 -> 15 | H33: ='Powstańców W-wy'!AF101 -> 144 | I33: =C33+D33+F33+G33 -> 9719 | J33: =C33+E33+F33+H33 -> 9707 | K33: =(C33+E33)/C33 -> 1.0846964 | L33: =INT(C33/K33) -> 4114 | M33: =INT(C33-L33) -> 349 | N33: =L33+M33 -> 4463 | O33: =C33=N33 -> TRUE
A34: 32 | B34: Powstańców W-wy 21 | C34: ='Powstańców W-wy'!F119 -> 4153 | D34: ='Powstańców W-wy'!I119 -> 482 | E34: ='Powstańców W-wy'!L119 -> 352 | F34: ='Powstańców W-wy'!Z118 -> 4428 | G34: ='Powstańców W-wy'!AC114 -> 14 | H34: ='Powstańców W-wy'!AF118 -> 134 | I34: =C34+D34+F34+G34 -> 9077 | J34: =C34+E34+F34+H34 -> 9067 | K34: =(C34+E34)/C34 -> 1.084758 | L34: =INT(C34/K34) -> 3828 | M34: =INT(C34-L34) -> 325 | N34: =L34+M34 -> 4153 | O34: =C34=N34 -> TRUE
A35: 33 | B35: Powstańców W-wy 71 | C35: ='Powstańców W-wy'!F136 -> 5375 | D35: ='Powstańców W-wy'!I136 -> 622 | E35: ='Powstańców W-wy'!L136 -> 457 | F35: ='Powstańców W-wy'!Z135 -> 5460 | G35: ='Powstańców W-wy'!AC131 -> 17 | H35: ='Powstańców W-wy'!AF135 -> 168 | I35: =C35+D35+F35+G35 -> 11474 | J35: =C35+E35+F35+H35 -> 11460 | K35: =(C35+E35)/C35 -> 1.0850233 | L35: =INT(C35/K35) -> 4953 | M35: =INT(C35-L35) -> 422 | N35: =L35+M35 -> 5375 | O35: =C35=N35 -> TRUE
A36: 34 | B36: Powstańców W-wy 73 | C36: ='Powstańców W-wy'!F153 -> 4290 | D36: ='Powstańców W-wy'!I153 -> 497 | E36: ='Powstańców W-wy'!L153 -> 360 | F36: ='Powstańców W-wy'!Z152 -> 4432 | G36: ='Powstańców W-wy'!AC148 -> 14 | H36: ='Powstańców W-wy'!AF152 -> 129 | I36: =C36+D36+F36+G36 -> 9233 | J36: =C36+E36+F36+H36 -> 9211 | K36: =(C36+E36)/C36 -> 1.0839161 | L36: =INT(C36/K36) -> 3957 | M36: =INT(C36-L36) -> 333 | N36: =L36+M36 -> 4290 | O36: =C36=N36 -> TRUE
A37: 35 | B37: Powstańców W-wy 75 | C37: ='Powstańców W-wy'!F170 -> 6472 | D37: ='Powstańców W-wy'!I170 -> 750 | E37: ='Powstańców W-wy'!L170 -> 548 | F37: ='Powstańców W-wy'!Z169 -> 6714 | G37: ='Powstańców W-wy'!AC165 -> 21 | H37: ='Powstańców W-wy'!AF169 -> 207 | I37: =C37+D37+F37+G37 -> 13957 | J37: =C37+E37+F37+H37 -> 13941 | K37: =(C37+E37)/C37 -> 1.0846724 | L37: =INT(C37/K37) -> 5966 | M37: =INT(C37-L37) -> 506 | N37: =L37+M37 -> 6472 | O37: =C37=N37 -> TRUE
A38: 36 | B38: Powstańców W-wy 77 | C38: ='Powstańców W-wy'!F187 -> 7782 | D38: ='Powstańców W-wy'!I187 -> 903 | E38: ='Powstańców W-wy'!L187 -> 658 | F38: ='Powstańców W-wy'!Z186 -> 8064 | G38: ='Powstańców W-wy'!AC182 -> 26 | H38: ='Powstańców W-wy'!AF186 -> 247 | I38: =C38+D38+F38+G38 -> 16775 | J38: =C38+E38+F38+H38 -> 16751 | K38: =(C38+E38)/C38 -> 1.0845541 | L38: =INT(C38/K38) -> 7175 | M38: =INT(C38-L38) -> 607 | N38: =L38+M38 -> 7782 | O38: =C38=N38 -> TRUE
A39: 37 | B39: Powstańców W-wy 79 | C39: ='Powstańców W-wy'!F204 -> 7685 | D39: ='Powstańców W-wy'!I204 -> 894 | E39: ='Powstańców W-wy'!L204 -> 651 | F39: ='Powstańców W-wy'!Z203 -> 7428 | G39: ='Powstańców W-wy'!AC199 -> 23 | H39: ='Powstańców W-wy'!AF203 -> 227 | I39: =C39+D39+F39+G39 -> 16030 | J39: =C39+E39+F39+H39 -> 15991 | K39: =(C39+E39)/C39 -> 1.0847105 | L39: =INT(C39/K39) -> 7084 | M39: =INT(C39-L39) -> 601 | N39: =L39+M39 -> 7685 | O39: =C39=N39 -> TRUE
A40: 38 | B40: A. Mickiewicza 8 A | C40: =Mickiewicza!E17 -> 4445 | D40: =Mickiewicza!H17 -> 515 | E40: =Mickiewicza!K17 -> 375 | F40: =Mickiewicza!Y16 -> 4584 | G40: =Mickiewicza!AB12 -> 14 | H40: =Mickiewicza!AE16 -> 141 | I40: =C40+D40+F40+G40 -> 9558 | J40: =C40+E40+F40+H40 -> 9545 | K40: =(C40+E40)/C40 -> 1.0843645 | L40: =INT(C40/K40) -> 4099 | M40: =INT(C40-L40) -> 346 | N40: =L40+M40 -> 4445 | O40: =C40=N40 -> TRUE
A41: 39 | B41: Cicha 9 | C41: =Cicha!E81 -> 3740 | D41: =Cicha!H81 -> 433 | E41: =Cicha!K81 -> 317 | F41: =Cicha!Y80 -> 3856 | G41: =Cicha!AB76 -> 12 | H41: =Cicha!AE80 -> 111 | I41: =C41+D41+F41+G41 -> 8041 | J41: =C41+E41+F41+H41 -> 8024 | K41: =(C41+E41)/C41 -> 1.0847594 | L41: =INT(C41/K41) -> 3447 | M41: =INT(C41-L41) -> 293 | N41: =L41+M41 -> 3740 | O41: =C41=N41 -> TRUE
...

Sheet 3 Maja
A2: ul. 3-go maja 24 D | S2: ul. 3-go maja 24 D
F4: Odsetki za zwłokę - przed decyzją o wyłączeniu | I4: Odsetki za zwłokę po wyłączeniu | Z4: Odsetki za zwłokę - przed decyzją o wyłączeniu | AC4: Odsetki za zwłokę po wyłączeniu
A5: Lp | B5: Miesiąc | C5: Ilość osób wg. poszczególnych stawek opłat | E5: Miesięczna opłata za gospodarowanie odpadami na nieruchomości | F5: Liczba dni zwłoki | H5: Kwota odsetek | I5: Liczba dni zwłoki po wyłączeniu | K5: Kwota odsetek po wyłączeniu | L5: Proporcjonalne rozliczenie odsetek i należności głównej | M5: Należność główna | N5: Odsetki | O5: SUMA | P5: Księgowanie należności głównej | Q5: Księgowanie odsetek | S5: Lp | T5: Miesiąc | U5: Ilość osób wg. poszczególnych stawek opłat | Y5: Miesięczna opłata za gospodarowanie odpadami na nieruchomości | Z5: Liczba dni zwłoki | AB5: Kwota odsetek | AC5: Liczba dni zwłoki po wyłączeniu | AE5: Kwota odsetek po wyłączeniu
C6: stawka 5 zł | D6: stawka 9 zł | F6: stawka 10% | G6: stawka 8% | I6: stawka 10% | J6: stawka 8% | U6: stawka 6 zł | V6: stawka 5 zł | W6: stawka 10 zł | X6: stawka 9 zł | Z6: stawka 10% | AA6: stawka 8% | AC6: stawka 10% | AD6: stawka 8%
A7: 1 | B7: lipiec 2013 | C7: 66 | D7: 14 | E7: =C7*5+D7*9 -> 456 | F7: ='liczba dni zwłoki'!$E$5 -> 455 | G7: ='liczba dni zwłoki'!$F$5 -> 132 | H7: =ROUND(((E7*0.1*F7)/365)+((E7*0.08*G7)/365),0) -> 70 | I7: ='liczba dni zwłoki'!$H$5 -> 323 | J7: ='liczba dni zwłoki'!$I$5 -> 130 | K7: =ROUND((((E7*0.1*I7)/365)+((E7*0.08*J7)/365)),0) -> 53 | L7: =(E7+K7)/E7 -> 1.1162281 | M7: =E7/L7 -> 408.51866 | N7: =E7-M7 -> 47.481336 | O7: =M7+N7 -> 456 | P7: =O7 -> 456 | S7: 11 | T7: maj 2014 | U7: 66 | V7: 0 | W7: 14 | X7: 0 | Y7: =U7*6+V7*5+W7*10+X7*9 -> 536 | Z7: ='liczba dni zwłoki'!$E$15 -> 149 | AA7: ='liczba dni zwłoki'!$F$15 -> 132 | AB7: =ROUND((((Y7*0.1*Z7)/365)+((Y7*0.08*AA7)/365)),0) -> 37 | AC7: ='liczba dni zwłoki'!$H$15 -> 106 | AD7: ='liczba dni zwłoki'!$I$15 -> 130 | AE7: =ROUND((((Y7*0.1*AC7)/365)+((Y7*0.08*AD7)/365)),0) -> 31
A8: 2 | B8: sierpień 2013 | C8: 66 | D8: 14 | E8: =+C8*5+D8*9 -> 456 | F8: ='liczba dni zwłoki'!$E$6 -> 422 | G8: ='liczba dni zwłoki'!$F$6 -> 132 | H8: =ROUND(((E8*0.1*F8)/365)+((E8*0.08*G8)/365),0) -> 66 | I8: ='liczba dni zwłoki'!$H$6 -> 290 | J8: ='liczba dni zwłoki'!$I$6 -> 130 | K8: =ROUND((((E8*0.1*I8)/365)+((E8*0.08*J8)/365)),0) -> 49 | L8: =(E8+K8)/E8 -> 1.1074561 | M8: =E8/L8 -> 411.75446 | N8: =E8-M8 -> 44.245545 | O8: =M8+N8 -> 456 | P8: =O8 -> 456 | S8: 12 | T8: czerwiec 2014 | U8: 66 | V8: 0 | W8: 14 | X8: 0 | Y8: =U8*6+V8*5+W8*10+X8*9 -> 536 | Z8: ='liczba dni zwłoki'!$E$16 -> 120 | AA8: ='liczba dni zwłoki'!$F$16 -> 132 | AB8: =ROUND((((Y8*0.1*Z8)/365)+((Y8*0.08*AA8)/365)),0) -> 33 | AC8: ='liczba dni zwłoki'!$H$16 -> 77 | AD8: ='liczba dni zwłoki'!$I$16 -> 130 | AE8: =ROUND((((Y8*0.1*AC8)/365)+((Y8*0.08*AD8)/365)),0) -> 27
A9: 3 | B9: wrzesień 2013 | C9: 66 | D9: 14 | E9: =C9*5+D9*9 -> 456 | F9: ='liczba dni zwłoki'!$E$7 -> 393 | G9: ='liczba dni zwłoki'!$F$7 -> 132 | H9: =ROUND(((E9*0.1*F9)/365)+((E9*0.08*G9)/365),0) -> 62 | I9: ='liczba dni zwłoki'!$H$7 -> 261 | J9: ='liczba dni zwłoki'!$I$7 -> 130 | K9: =ROUND((((E9*0.1*I9)/365)+((E9*0.08*J9)/365)),0) -> 46 | L9: =(E9+K9)/E9 -> 1.1008772 | M9: =E9/L9 -> 414.21514 | N9: =E9-M9 -> 41.784861 | O9: =M9+N9 -> 456 | P9: =O9 -> 456 | S9: 13 | T9: lipiec 2014 | U9: 66 | V9: 0 | W9: 14 | X9: 0 | Y9: =U9*6+V9*5+W9*10+X9*9 -> 536 | Z9: ='liczba dni zwłoki'!$E$17 -> 90 | AA9: ='liczba dni zwłoki'!$F$17 -> 132 | AB9: =ROUND((((Y9*0.1*Z9)/365)+((Y9*0.08*AA9)/365)),0) -> 29 | AC9: ='liczba dni zwłoki'!$H$17 -> 47 | AD9: ='liczba dni zwłoki'!$I$17 -> 130 | AE9: =ROUND((((Y9*0.1*AC9)/365)+((Y9*0.08*AD9)/365)),0) -> 22
A10: 4 | B10: październik 2013 | C10: 66 | D10: 14 | E10: =C10*5+D10*9 -> 456 | F10: ='liczba dni zwłoki'!$E$8 -> 363 | G10: ='liczba dni zwłoki'!$F$8 -> 132 | H10: =ROUND(((E10*0.1*F10)/365)+((E10*0.08*G10)/365),0) -> 59 | I10: ='liczba dni zwłoki'!$H$8 -> 231 | J10: ='liczba dni zwłoki'!$I$8 -> 130 | K10: =ROUND((((E10*0.1*I10)/365)+((E10*0.08*J10)/365)),0) -> 42 | L10: =(E10+K10)/E10 -> 1.0921053 | M10: =E10/L10 -> 417.54217 | N10: =E10-M10 -> 38.457831 | O10: =M10+N10 -> 456 | P10: =O10 -> 456 | S10: 14 | T10: sierpień 2014 | U10: 66 | V10: 0 | W10: 14 | X10: 0 | Y10: =U10*6+V10*5+W10*10+X10*9 -> 536 | Z10: ='liczba dni zwłoki'!$E$18 -> 58 | AA10: ='liczba dni zwłoki'!$F$18 -> 132 | AB10: =ROUND((((Y10*0.1*Z10)/365)+((Y10*0.08*AA10)/365)),0) -> 24 | AC10: ='liczba dni zwłoki'!$H$18 -> 15 | AD10: ='liczba dni zwłoki'!$I$18 -> 130 | AE10: =ROUND((((Y10*0.1*AC10)/365)+((Y10*0.08*AD10)/365)),0) -> 17
A11: 5 | B11: listopad 2013 | C11: 66 | D11: 14 | E11: =C11*5+D11*9 -> 456 | F11: ='liczba dni zwłoki'!$E$9 -> 330 | G11: ='liczba dni zwłoki'!$F$9 -> 132 | H11: =ROUND(((E11*0.1*F11)/365)+((E11*0.08*G11)/365),0) -> 54 | I11: ='liczba dni zwłoki'!$H$9 -> 198 | J11: ='liczba dni zwłoki'!$I$9 -> 130 | K11: =ROUND((((E11*0.1*I11)/365)+((E11*0.08*J11)/365)),0) -> 38 | L11: =(E11+K11)/E11 -> 1.0833333 | M11: =E11/L11 -> 420.92308 | N11: =E11-M11 -> 35.076923 | O11: =M11+N11 -> 456 | P11: =O11 -> 456 | S11: 15 | T11: wrzesień 2014 | U11: 65 | V11: 0 | W11: 14 | X11: 0 | Y11: =U11*6+V11*5+W11*10+X11*9 -> 530 | Z11: ='liczba dni zwłoki'!$E$19 -> 28 | AA11: ='liczba dni zwłoki'!$F$19 -> 132 | AB11: =ROUND((((Y11*0.1*Z11)/365)+((Y11*0.08*AA11)/365)),0) -> 19 | AC11: ='liczba dni zwłoki'!$H$19 -> 0 | AD11: ='liczba dni zwłoki'!$I$19 -> 130 | AE11: =ROUND((((Y11*0.1*AC11)/365)+((Y11*0.08*AD11)/365)),0) -> 15
A12: 6 | B12: grudzień 2013 | C12: 66 | D12: 14 | E12: =C12*5+D12*9 -> 456 | F12: ='liczba dni zwłoki'!$E$10 -> 302 | G12: ='liczba dni zwłoki'!$F$10 -> 132 | H12: =ROUND(((E12*0.1*F12)/365)+((E12*0.08*G12)/365),0) -> 51 | I12: ='liczba dni zwłoki'!$H$10 -> 170 | J12: ='liczba dni zwłoki'!$I$10 -> 130 | K12: =ROUND((((E12*0.1*I12)/365)+((E12*0.08*J12)/365)),0) -> 34 | L12: =(E12+K12)/E12 -> 1.0745614 | M12: =E12/L12 -> 424.35918 | N12: =E12-M12 -> 31.640816 | O12: =M12+N12 -> 456 | P12: =O12 -> 456 | S12: 16 | T12: październik 2014 | U12: 66 | V12: 0 | W12: 14 | X12: 0 | Y12: =U12*6+V12*5+W12*10+X12*9 -> 536 | Z12: ='liczba dni zwłoki'!$E$20 -> 0 | AA12: ='liczba dni zwłoki'!$F$20 -> 130 | AB12: =ROUND((((Y12*0.1*Z12)/365)+((Y12*0.08*AA12)/365)),0) -> 15 | AC12: ='liczba dni zwłoki'!$H$20 -> 0 | AD12: ='liczba dni zwłoki'!$I$20 -> 129 | AE12: =ROUND((((Y12*0.1*AC12)/365)+((Y12*0.08*AD12)/365)),0) -> 15
A13: 7 | B13: styczeń 2014 | C13: 66 | D13: 14 | E13: =C13*5+D13*9 -> 456 | F13: ='liczba dni zwłoki'!$E$11 -> 271 | G13: ='liczba dni zwłoki'!$F$11 -> 132 | H13: =ROUND(((E13*0.1*F13)/365)+((E13*0.08*G13)/365),0) -> 47 | I13: ='liczba dni zwłoki'!$H$11 -> 144 | J13: ='liczba dni zwłoki'!$I$11 -> 130 | K13: =ROUND((((E13*0.1*I13)/365)+((E13*0.08*J13)/365)),0) -> 31 | L13: =(E13+K13)/E13 -> 1.0679825 | M13: =E13/L13 -> 426.97331 | N13: =E13-M13 -> 29.026694 | O13: =M13+N13 -> 456 | P13: =O13 -> 456 | S13: 17 | T13: listopad 2014 | U13: 66 | V13: 0 | W13: 14 | X13: 0 | Y13: =U13*6+V13*5+W13*10+X13*9 -> 536 | Z13: ='liczba dni zwłoki'!$E$21 -> 0 | AA13: ='liczba dni zwłoki'!$F$21 -> 99 | AB13: =ROUND((((Y13*0.1*Z13)/365)+((Y13*0.08*AA13)/365)),0) -> 12 | AC13: ='liczba dni zwłoki'!$H$21 -> 0 | AD13: ='liczba dni zwłoki'!$I$21 -> 99 | AE13: =ROUND((((Y13*0.1*AC13)/365)+((Y13*0.08*AD13)/365)),0) -> 12
A14: 8 | B14: luty 2014 | C14: 66 | D14: 14 | E14: =C14*5+D14*9 -> 456 | F14: ='liczba dni zwłoki'!$E$12 -> 240 | G14: ='liczba dni zwłoki'!$F$12 -> 132 | H14: =ROUND(((E14*0.1*F14)/365)+((E14*0.08*G14)/365),0) -> 43 | I14: ='liczba dni zwłoki'!$H$12 -> 144 | J14: ='liczba dni zwłoki'!$I$12 -> 130 | K14: =ROUND((((E14*0.1*I14)/365)+((E14*0.08*J14)/365)),0) -> 31 | L14: =(E14+K14)/E14 -> 1.0679825 | M14: =E14/L14 -> 426.97331 | N14: =E14-M14 -> 29.026694 | O14: =M14+N14 -> 456 | P14: =O14 -> 456 | S14: 18 | T14: grudzień 2014 | U14: 66 | V14: 0 | W14: 14 | X14: 0 | Y14: =U14*6+V14*5+W14*10+X14*9 -> 536 | Z14: ='liczba dni zwłoki'!$E$22 -> 0 | AA14: ='liczba dni zwłoki'!$F$22 -> 69 | AB14: =ROUND((((Y14*0.1*Z14)/365)+((Y14*0.08*AA14)/365)),0) -> 8 | AC14: ='liczba dni zwłoki'!$H$22 -> 0 | AD14: ='liczba dni zwłoki'!$I$22 -> 69 | AE14: =ROUND((((Y14*0.1*AC14)/365)+((Y14*0.08*AD14)/365)),0) -> 8
A15: 9 | B15: marzec 2014 | C15: 66 | D15: 14 | E15: =C15*5+D15*9 -> 456 | F15: ='liczba dni zwłoki'!$E$13 -> 212 | G15: ='liczba dni zwłoki'!$F$13 -> 132 | H15: =ROUND(((E15*0.1*F15)/365)+((E15*0.08*G15)/365),0) -> 40 | I15: ='liczba dni zwłoki'!$H$13 -> 144 | J15: ='liczba dni zwłoki'!$I$13 -> 130 | K15: =ROUND((((E15*0.1*I15)/365)+((E15*0.08*J15)/365)),0) -> 31 | L15: =(E15+K15)/E15 -> 1.0679825 | M15: =E15/L15 -> 426.97331 | N15: =E15-M15 -> 29.026694 | O15: =M15+N15 -> 456 | P15: =O15 -> 456 | S15: 19 | T15: styczeń 2015 | U15: 66 | V15: 0 | W15: 14 | X15: 0 | Y15: =U15*6+V15*5+W15*10+X15*9 -> 536 | Z15: ='liczba dni zwłoki'!$E$23 -> 0 | AA15: ='liczba dni zwłoki'!$F$23 -> 36 | AB15: 0 | AC15: ='liczba dni zwłoki'!$H$23 -> 0 | AD15: ='liczba dni zwłoki'!$I$23 -> 36 | AE15: 0
A16: 10 | B16: kwiecień 2014 | C16: 66 | D16: 14 | E16: =C16*5+D16*9 -> 456 | F16: ='liczba dni zwłoki'!$E$14 -> 181 | G16: ='liczba dni zwłoki'!$F$14 -> 132 | H16: =ROUND(((E16*0.1*F16)/365)+((E16*0.08*G16)/365),0) -> 36 | I16: ='liczba dni zwłoki'!$H$14 -> 138 | J16: ='liczba dni zwłoki'!$I$14 -> 130 | K16: =ROUND((((E16*0.1*I16)/365)+((E16*0.08*J16)/365)),0) -> 30 | L16: =(E16+K16)/E16 -> 1.0657895 | M16: =E16/L16 -> 427.85185 | N16: =E16-M16 -> 28.148148 | O16: =M16+N16 -> 456 | P16: =O16-Q16 -> 102.08446 | Q16: =N17 -> 353.91554 | X16: suma | Y16: =SUM(Y7:Y15) -> 4818 | AB16: =SUM(AB7:AB15) -> 177 | AE16: =SUM(AE7:AE15) -> 147
D17: suma | E17: =SUM(E7:E16) -> 4560 | H17: =SUM(H7:H16) -> 528 | K17: =SUM(K7:K16) -> 385 | M17: =SUM(M7:M16) -> 4206.0845 | N17: =E17-M17 -> 353.91554 | O17: =M17+N17 -> 4560 | P17: =SUM(P7:P16) -> 4206.0845 | Q17: =SUM(Q7:Q16) -> 353.91554
A23: ul. 3-go maja 2 | S23: ul. 3-go maja 2
F25: Odsetki za zwłokę - przed decyzją o wyłączeniu | I25: Odsetki za zwłokę po wyłączeniu | Z25: Odsetki za zwłokę - przed decyzją o wyłączeniu | AC25: Odsetki za zwłokę po wyłączeniu
A26: Lp | B26: Miesiąc | C26: Ilość osób wg. poszczególnych stawek opłat | E26: Miesięczna opłata za gospodarowanie odpadami na nieruchomości | F26: Liczba dni zwłoki | H26: Kwota odsetek | I26: Liczba dni zwłoki po wyłączeniu | K26: Kwota odsetek po wyłączeniu | L26: Proporcjonalne rozliczenie odsetek i należności głównej | M26: Należność główna | N26: Odsetki | O26: SUMA | P26: Księgowanie należności głównej | Q26: Księgowanie odsetek | S26: Lp | T26: Miesiąc | U26: Ilość osób wg. poszczególnych stawek opłat | Y26: Miesięczna opłata za gospodarowanie odpadami na nieruchomości | Z26: Liczba dni zwłoki | AB26: Kwota odsetek | AC26: Liczba dni zwłoki po wyłączeniu | AE26: Kwota odsetek po wyłączeniu
C27: stawka 5 zł | D27: stawka 9 zł | F27: stawka 10% | G27: stawka 8% | I27: stawka 10% | J27: stawka 8% | U27: stawka 6 zł | V27: stawka 5 zł | W27: stawka 10 zł | X27: stawka 9 zł | Z27: stawka 10% | AA27: stawka 8% | AC27: stawka 10% | AD27: stawka 8%
A28: 1 | B28: lipiec 2013 | C28: 169 | D28: 36 | E28: =C28*5+D28*9 -> 1169 | F28: ='liczba dni zwłoki'!$E$5 -> 455 | G28: ='liczba dni zwłoki'!$F$5 -> 132 | H28: =ROUND(((E28*0.1*F28)/365)+((E28*0.08*G28)/365),0) -> 180 | I28: ='liczba dni zwłoki'!$H$5 -> 323 | J28: ='liczba dni zwłoki'!$I$5 -> 130 | K28: =ROUND((((E28*0.1*I28)/365)+((E28*0.08*J28)/365)),0) -> 137 | L28: =(E28+K28)/E28 -> 1.1171942 | M28: =E28/L28 -> 1046.3714 | N28: =E28-M28 -> 122.62864 | O28: =M28+N28 -> 1169 | P28: =O28 -> 1169 | S28: 11 | T28: maj 2014 | U28: 176 | V28: 0 | W28: 30 | X28: 0 | Y28: =U28*6+V28*5+W28*10+X28*9 -> 1356 | Z28: ='liczba dni zwłoki'!$E$15 -> 149 | AA28: ='liczba dni zwłoki'!$F$15 -> 132 | AB28: =ROUND((((Y28*0.1*Z28)/365)+((Y28*0.08*AA28)/365)),0) -> 95 | AC28: ='liczba dni zwłoki'!$H$15 -> 106 | AD28: ='liczba dni zwłoki'!$I$15 -> 130 | AE28: =ROUND((((Y28*0.1*AC28)/365)+((Y28*0.08*AD28)/365)),0) -> 78
A29: 2 | B29: sierpień 2013 | C29: 168 | D29: 35 | E29: =+C29*5+D29*9 -> 1155 | F29: ='liczba dni zwłoki'!$E$6 -> 422 | G29: ='liczba dni zwłoki'!$F$6 -> 132 | H29: =ROUND(((E29*0.1*F29)/365)+((E29*0.08*G29)/365),0) -> 167 | I29: ='liczba dni zwłoki'!$H$6 -> 290 | J29: ='liczba dni zwłoki'!$I$6 -> 130 | K29: =ROUND((((E29*0.1*I29)/365)+((E29*0.08*J29)/365)),0) -> 125 | L29: =(E29+K29)/E29 -> 1.1082251 | M29: =E29/L29 -> 1042.207 | N29: =E29-M29 -> 112.79297 | O29: =M29+N29 -> 1155 | P29: =O29 -> 1155 | S29: 12 | T29: czerwiec 2014 | U29: 175 | V29: 0 | W29: 30 | X29: 0 | Y29: =U29*6+V29*5+W29*10+X29*9 -> 1350 | Z29: ='liczba dni zwłoki'!$E$16 -> 120 | AA29: ='liczba dni zwłoki'!$F$16 -> 132 | AB29: =ROUND((((Y29*0.1*Z29)/365)+((Y29*0.08*AA29)/365)),0) -> 83 | AC29: ='liczba dni zwłoki'!$H$16 -> 77 | AD29: ='liczba dni zwłoki'!$I$16 -> 130 | AE29: =ROUND((((Y29*0.1*AC29)/365)+((Y29*0.08*AD29)/365)),0) -> 67
A30: 3 | B30: wrzesień 2013 | C30: 167 | D30: 35 | E30: =C30*5+D30*9 -> 1150 | F30: ='liczba dni zwłoki'!$E$7 -> 393 | G30: ='liczba dni zwłoki'!$F$7 -> 132 | H30: =ROUND(((E30*0.1*F30)/365)+((E30*0.08*G30)/365),0) -> 157 | I30: ='liczba dni zwłoki'!$H$7 -> 261 | J30: ='liczba dni zwłoki'!$I$7 -> 130 | K30: =ROUND((((E30*0.1*I30)/365)+((E30*0.08*J30)/365)),0) -> 115 | L30: =(E30+K30)/E30 -> 1.1 | M30: =E30/L30 -> 1045.4545 | N30: =E30-M30 -> 104.54545 | O30: =M30+N30 -> 1150 | P30: =O30 -> 1150 | S30: 13 | T30: lipiec 2014 | U30: 176 | V30: 0 | W30: 27 | X30: 0 | Y30: =U30*6+V30*5+W30*10+X30*9 -> 1326 | Z30: ='liczba dni zwłoki'!$E$17 -> 90 | AA30: ='liczba dni zwłoki'!$F$17 -> 132 | AB30: =ROUND((((Y30*0.1*Z30)/365)+((Y30*0.08*AA30)/365)),0) -> 71 | AC30: ='liczba dni zwłoki'!$H$17 -> 47 | AD30: ='liczba dni zwłoki'!$I$17 -> 130 | AE30: =ROUND((((Y30*0.1*AC30)/365)+((Y30*0.08*AD30)/365)),0) -> 55
A31: 4 | B31: październik 2013 | C31: 167 | D31: 35 | E31: =C31*5+D31*9 -> 1150 | F31: ='liczba dni zwłoki'!$E$8 -> 363 | G31: ='liczba dni zwłoki'!$F$8 -> 132 | H31: =ROUND(((E31*0.1*F31)/365)+((E31*0.08*G31)/365),0) -> 148 | I31: ='liczba dni zwłoki'!$H$8 -> 231 | J31: ='liczba dni zwłoki'!$I$8 -> 130 | K31: =ROUND((((E31*0.1*I31)/365)+((E31*0.08*J31)/365)),0) -> 106 | L31: =(E31+K31)/E31 -> 1.0921739 | M31: =E31/L31 -> 1052.9459 | N31: =E31-M31 -> 97.05414 | O31: =M31+N31 -> 1150 | P31: =O31 -> 1150 | S31: 14 | T31: sierpień 2014 | U31: 178 | V31: 0 | W31: 27 | X31: 0 | Y31: =U31*6+V31*5+W31*10+X31*9 -> 1338 | Z31: ='liczba dni zwłoki'!$E$18 -> 58 | AA31: ='liczba dni zwłoki'!$F$18 -> 132 | AB31: =ROUND((((Y31*0.1*Z31)/365)+((Y31*0.08*AA31)/365)),0) -> 60 | AC31: ='liczba dni zwłoki'!$H$18 -> 15 | AD31: ='liczba dni zwłoki'!$I$18 -> 130 | AE31: =ROUND((((Y31*0.1*AC31)/365)+((Y31*0.08*AD31)/365)),0) -> 44
A32: 5 | B32: listopad 2013 | C32: 167 | D32: 35 | E32: =C32*5+D32*9 -> 1150 | F32: ='liczba dni zwłoki'!$E$9 -> 330 | G32: ='liczba dni zwłoki'!$F$9 -> 132 | H32: =ROUND(((E32*0.1*F32)/365)+((E32*0.08*G32)/365),0) -> 137 | I32: ='liczba dni zwłoki'!$H$9 -> 198 | J32: ='liczba dni zwłoki'!$I$9 -> 130 | K32: =ROUND((((E32*0.1*I32)/365)+((E32*0.08*J32)/365)),0) -> 95 | L32: =(E32+K32)/E32 -> 1.0826087 | M32: =E32/L32 -> 1062.249 | N32: =E32-M32 -> 87.751004 | O32: =M32+N32 -> 1150 | P32: =O32 -> 1150 | S32: 15 | T32: wrzesień 2014 | U32: 177 | V32: 0 | W32: 27 | X32: 0 | Y32: =U32*6+V32*5+W32*10+X32*9 -> 1332 | Z32: ='liczba dni zwłoki'!$E$19 -> 28 | AA32: ='liczba dni zwłoki'!$F$19 -> 132 | AB32: =ROUND((((Y32*0.1*Z32)/365)+((Y32*0.08*AA32)/365)),0) -> 49 | AC32: ='liczba dni zwłoki'!$H$19 -> 0 | AD32: ='liczba dni zwłoki'!$I$19 -> 130 | AE32: =ROUND((((Y32*0.1*AC32)/365)+((Y32*0.08*AD32)/365)),0) -> 38
A33: 6 | B33: grudzień 2013 | C33: 169 | D33: 34 | E33: =C33*5+D33*9 -> 1151 | F33: ='liczba dni zwłoki'!$E$10 -> 302 | G33: ='liczba dni zwłoki'!$F$10 -> 132 | H33: =ROUND(((E33*0.1*F33)/365)+((E33*0.08*G33)/365),0) -> 129 | I33: ='liczba dni zwłoki'!$H$10 -> 170 | J33: ='liczba dni zwłoki'!$I$10 -> 130 | K33: =ROUND((((E33*0.1*I33)/365)+((E33*0.08*J33)/365)),0) -> 86 | L33: =(E33+K33)/E33 -> 1.0747176 | M33: =E33/L33 -> 1070.979 | N33: =E33-M33 -> 80.021019 | O33: =M33+N33 -> 1151 | P33: =O33 -> 1151 | S33: 16 | T33: październik 2014 | U33: 174 | V33: 0 | W33: 25 | X33: 0 | Y33: =U33*6+V33*5+W33*10+X33*9 -> 1294 | Z33: ='liczba dni zwłoki'!$E$20 -> 0 | AA33: ='liczba dni zwłoki'!$F$20 -> 130 | AB33: =ROUND((((Y33*0.1*Z33)/365)+((Y33*0.08*AA33)/365)),0) -> 37 | AC33: ='liczba dni zwłoki'!$H$20 -> 0 | AD33: ='liczba dni zwłoki'!$I$20 -> 129 | AE33: =ROUND((((Y33*0.1*AC33)/365)+((Y33*0.08*AD33)/365)),0) -> 37
A34: 7 | B34: styczeń 2014 | C34: 176 | D34: 31 | E34: =C34*5+D34*9 -> 1159 | F34: ='liczba dni zwłoki'!$E$11 -> 271 | G34: ='liczba dni zwłoki'!$F$11 -> 132 | H34: =ROUND(((E34*0.1*F34)/365)+((E34*0.08*G34)/365),0) -> 120 | I34: ='liczba dni zwłoki'!$H$11 -> 144 | J34: ='liczba dni zwłoki'!$I$11 -> 130 | K34: =ROUND((((E34*0.1*I34)/365)+((E34*0.08*J34)/365)),0) -> 79 | L34: =(E34+K34)/E34 -> 1.0681622 | M34: =E34/L34 -> 1085.0412 | N34: =E34-M34 -> 73.958805 | O34: =M34+N34 -> 1159 | P34: =O34 -> 1159 | S34: 17 | T34: listopad 2014 | U34: 174 | V34: 0 | W34: 25 | X34: 0 | Y34: =U34*6+V34*5+W34*10+X34*9 -> 1294 | Z34: ='liczba dni zwłoki'!$E$21 -> 0 | AA34: ='liczba dni zwłoki'!$F$21 -> 99 | AB34: =ROUND((((Y34*0.1*Z34)/365)+((Y34*0.08*AA34)/365)),0) -> 28 | AC34: ='liczba dni zwłoki'!$H$21 -> 0 | AD34: ='liczba dni zwłoki'!$I$21 -> 99 | AE34: =ROUND((((Y34*0.1*AC34)/365)+((Y34*0.08*AD34)/365)),0) -> 28
A35: 8 | B35: luty 2014 | C35: 176 | D35: 30 | E35: =C35*5+D35*9 -> 1150 | F35: ='liczba dni zwłoki'!$E$12 -> 240 | G35: ='liczba dni zwłoki'!$F$12 -> 132 | H35: =ROUND(((E35*0.1*F35)/365)+((E35*0.08*G35)/365),0) -> 109 | I35: ='liczba dni zwłoki'!$H$12 -> 144 | J35: ='liczba dni zwłoki'!$I$12 -> 130 | K35: =ROUND((((E35*0.1*I35)/365)+((E35*0.08*J35)/365)),0) -> 78 | L35: =(E35+K35)/E35 -> 1.0678261 | M35: =E35/L35 -> 1076.9544 | N35: =E35-M35 -> 73.045603 | O35: =M35+N35 -> 1150 | P35: =O35 -> 1150 | S35: 18 | T35: grudzień 2014 | U35: 176 | V35: 0 | W35: 25 | X35: 0 | Y35: =U35*6+V35*5+W35*10+X35*9 -> 1306 | Z35: ='liczba dni zwłoki'!$E$22 -> 0 | AA35: ='liczba dni zwłoki'!$F$22 -> 69 | AB35: =ROUND((((Y35*0.1*Z35)/365)+((Y35*0.08*AA35)/365)),0) -> 20 | AC35: ='liczba dni zwłoki'!$H$22 -> 0 | AD35: ='liczba dni zwłoki'!$I$22 -> 69 | AE35: =ROUND((((Y35*0.1*AC35)/365)+((Y35*0.08*AD35)/365)),0) -> 20
A36: 9 | B36: marzec 2014 | C36: 176 | D36: 30 | E36: =C36*5+D36*9 -> 1150 | F36: ='liczba dni zwłoki'!$E$13 -> 212 | G36: ='liczba dni zwłoki'!$F$13 -> 132 | H36: =ROUND(((E36*0.1*F36)/365)+((E36*0.08*G36)/365),0) -> 100 | I36: ='liczba dni zwłoki'!$H$13 -> 144 | J36: ='liczba dni zwłoki'!$I$13 -> 130 | K36: =ROUND((((E36*0.1*I36)/365)+((E36*0.08*J36)/365)),0) -> 78 | L36: =(E36+K36)/E36 -> 1.0678261 | M36: =E36/L36 -> 1076.9544 | N36: =E36-M36 -> 73.045603 | O36: =M36+N36 -> 1150 | P36: =O36 -> 1150 | S36: 19 | T36: styczeń 2015 | U36: 177 | V36: 0 | W36: 24 | X36: 0 | Y36: =U36*6+V36*5+W36*10+X36*9 -> 1302 | Z36: ='liczba dni zwłoki'!$E$23 -> 0 | AA36: ='liczba dni zwłoki'!$F$23 -> 36 | AB36: =ROUND((((Y36*0.1*Z36)/365)+((Y36*0.08*AA36)/365)),0) -> 10 | AC36: ='liczba dni zwłoki'!$H$23 -> 0 | AD36: ='liczba dni zwłoki'!$I$23 -> 36 | AE36: =ROUND((((Y36*0.1*AC36)/365)+((Y36*0.08*AD36)/365)),0) -> 10
A37: 10 | B37: kwicień 2014 | C37: 176 | D37: 30 | E37: =C37*5+D37*9 -> 1150 | F37: ='liczba dni zwłoki'!$E$14 -> 181 | G37: ='liczba dni zwłoki'!$F$14 -> 132 | H37: =ROUND(((E37*0.1*F37)/365)+((E37*0.08*G37)/365),0) -> 90 | I37: ='liczba dni zwłoki'!$H$14 -> 138 | J37: ='liczba dni zwłoki'!$I$14 -> 130 | K37: =ROUND((((E37*0.1*I37)/365)+((E37*0.08*J37)/365)),0) -> 76 | L37: =(E37+K37)/E37 -> 1.066087 | M37: =E37/L37 -> 1078.7113 | N37: =E37-M37 -> 71.288744 | O37: =M37+N37 -> 1150 | P37: =O37-Q37 -> 253.86802 | Q37: =N38 -> 896.13198 | X37: suma | Y37: =SUM(Y28:Y36) -> 11898 | AB37: =SUM(AB28:AB36) -> 453 | AE37: =SUM(AE28:AE36) -> 377
D38: Suma | E38: =SUM(E28:E37) -> 11534 | H38: =SUM(H28:H37) -> 1337 | K38: =SUM(K28:K37) -> 975 | M38: =SUM(M28:M37) -> 10637.868 | N38: =E38-M38 -> 896.13198 | O38: =M38+N38 -> 11534 | P38: =SUM(P28:P37) -> 10637.868 | Q38: =SUM(Q28:Q37) -> 896.13198
A44: ul. 3-go maja 24 | S44: ul. 3-go maja 24
F46: Odsetki za zwłokę - przed decyzją o wyłączeniu | I46: Odsetki za zwłokę po wyłączeniu | Z46: Odsetki za zwłokę - przed decyzją o wyłączeniu | AC46: Odsetki za zwłokę po wyłączeniu
A47: Lp | B47: Miesiąc | C47: Ilość osób wg. poszczególnych stawek opłat | E47: Miesięczna opłata za gospodarowanie odpadami na nieruchomości | F47: Liczba dni zwłoki | H47: Kwota odsetek | I47: Liczba dni zwłoki po wyłączeniu | K47: Kwota odsetek po wyłączeniu | L47: Proporcjonalne rozliczenie odsetek i należności głównej | M47: Należność główna | N47: Odsetki | O47: SUMA | P47: Księgowanie należności głównej | Q47: Księgowanie odsetek | S47: Lp | T47: Miesiąc | U47: Ilość osób wg. poszczególnych stawek opłat | Y47: Miesięczna opłata za gospodarowanie odpadami na nieruchomości | Z47: Liczba dni zwłoki | AB47: Kwota odsetek | AC47: Liczba dni zwłoki po wyłączeniu | AE47: Kwota odsetek po wyłączeniu
C48: stawka 5 zł | D48: stawka 9 zł | F48: stawka 10% | G48: stawka 8% | I48: stawka 10% | J48: stawka 8% | U48: stawka 6 zł | V48: stawka 5 zł | W48: stawka 10 zł | X48: stawka 9 zł | Z48: stawka 10% | AA48: stawka 8% | AC48: stawka 10% | AD48: stawka 8%
A49: 1 | B49: lipiec 2013 | C49: 60 | D49: 1 | E49: =C49*5+D49*9 -> 309 | F49: ='liczba dni zwłoki'!$E$5 -> 455 | G49: ='liczba dni zwłoki'!$F$5 -> 132 | H49: =ROUND(((E49*0.1*F49)/365)+((E49*0.08*G49)/365),0) -> 47 | I49: ='liczba dni zwłoki'!$H$5 -> 323 | J49: ='liczba dni zwłoki'!$I$5 -> 130 | K49: =ROUND((((E49*0.1*I49)/365)+((E49*0.08*J49)/365)),0) -> 36 | L49: =(E49+K49)/E49 -> 1.1165049 | M49: =E49/L49 -> 276.75652 | N49: =E49-M49 -> 32.243478 | O49: =M49+N49 -> 309 | P49: =O49 -> 309 | S49: 11 | T49: maj 2014 | U49: 51 | V49: 7 | W49: 1 | X49: 0 | Y49: =U49*6+V49*5+W49*10+X49*9 -> 351 | Z49: ='liczba dni zwłoki'!$E$15 -> 149 | AA49: ='liczba dni zwłoki'!$F$15 -> 132 | AB49: =ROUND((((Y49*0.1*Z49)/365)+((Y49*0.08*AA49)/365)),0) -> 24 | AC49: ='liczba dni zwłoki'!$H$15 -> 106 | AD49: ='liczba dni zwłoki'!$I$15 -> 130 | AE49: =ROUND((((Y49*0.1*AC49)/365)+((Y49*0.08*AD49)/365)),0) -> 20
A50: 2 | B50: sierpień 2013 | C50: 60 | D50: 1 | E50: =+C50*5+D50*9 -> 309 | F50: ='liczba dni zwłoki'!$E$6 -> 422 | G50: ='liczba dni zwłoki'!$F$6 -> 132 | H50: =ROUND(((E50*0.1*F50)/365)+((E50*0.08*G50)/365),0) -> 45 | I50: ='liczba dni zwłoki'!$H$6 -> 290 | J50: ='liczba dni zwłoki'!$I$6 -> 130 | K50: =ROUND((((E50*0.1*I50)/365)+((E50*0.08*J50)/365)),0) -> 33 | L50: =(E50+K50)/E50 -> 1.1067961 | M50: =E50/L50 -> 279.18421 | N50: =E50-M50 -> 29.815789 | O50: =M50+N50 -> 309 | P50: =O50 -> 309 | S50: 12 | T50: czerwiec 2014 | U50: 51 | V50: 7 | W50: 1 | X50: 0 | Y50: =U50*6+V50*5+W50*10+X50*9 -> 351 | Z50: ='liczba dni zwłoki'!$E$16 -> 120 | AA50: ='liczba dni zwłoki'!$F$16 -> 132 | AB50: =ROUND((((Y50*0.1*Z50)/365)+((Y50*0.08*AA50)/365)),0) -> 22 | AC50: ='liczba dni zwłoki'!$H$16 -> 77 | AD50: ='liczba dni zwłoki'!$I$16 -> 130 | AE50: =ROUND((((Y50*0.1*AC50)/365)+((Y50*0.08*AD50)/365)),0) -> 17
A51: 3 | B51: wrzesień 2013 | C51: 60 | D51: 1 | E51: =C51*5+D51*9 -> 309 | F51: ='liczba dni zwłoki'!$E$7 -> 393 | G51: ='liczba dni zwłoki'!$F$7 -> 132 | H51: =ROUND(((E51*0.1*F51)/365)+((E51*0.08*G51)/365),0) -> 42 | I51: ='liczba dni zwłoki'!$H$7 -> 261 | J51: ='liczba dni zwłoki'!$I$7 -> 130 | K51: =ROUND((((E51*0.1*I51)/365)+((E51*0.08*J51)/365)),0) -> 31 | L51: =(E51+K51)/E51 -> 1.1003236 | M51: =E51/L51 -> 280.82647 | N51: =E51-M51 -> 28.173529 | O51: =M51+N51 -> 309 | P51: =O51 -> 309 | S51: 13 | T51: lipiec 2014 | U51: 51 | V51: 7 | W51: 1 | X51: 0 | Y51: =U51*6+V51*5+W51*10+X51*9 -> 351 | Z51: ='liczba dni zwłoki'!$E$17 -> 90 | AA51: ='liczba dni zwłoki'!$F$17 -> 132 | AB51: =ROUND((((Y51*0.1*Z51)/365)+((Y51*0.08*AA51)/365)),0) -> 19 | AC51: ='liczba dni zwłoki'!$H$17 -> 47 | AD51: ='liczba dni zwłoki'!$I$17 -> 130 | AE51: =ROUND((((Y51*0.1*AC51)/365)+((Y51*0.08*AD51)/365)),0) -> 15
A52: 4 | B52: październik 2013 | C52: 60 | D52: 1 | E52: =C52*5+D52*9 -> 309 | F52: ='liczba dni zwłoki'!$E$8 -> 363 | G52: ='liczba dni zwłoki'!$F$8 -> 132 | H52: =ROUND(((E52*0.1*F52)/365)+((E52*0.08*G52)/365),0) -> 40 | I52: ='liczba dni zwłoki'!$H$8 -> 231 | J52: ='liczba dni zwłoki'!$I$8 -> 130 | K52: =ROUND((((E52*0.1*I52)/365)+((E52*0.08*J52)/365)),0) -> 28 | L52: =(E52+K52)/E52 -> 1.0906149 | M52: =E52/L52 -> 283.32641 | N52: =E52-M52 -> 25.673591 | O52: =M52+N52 -> 309 | P52: =O52 -> 309 | S52: 14 | T52: sierpień 2014 | U52: 52 | V52: 7 | W52: 1 | X52: 0 | Y52: =U52*6+V52*5+W52*10+X52*9 -> 357 | Z52: ='liczba dni zwłoki'!$E$18 -> 58 | AA52: ='liczba dni zwłoki'!$F$18 -> 132 | AB52: =ROUND((((Y52*0.1*Z52)/365)+((Y52*0.08*AA52)/365)),0) -> 16 | AC52: ='liczba dni zwłoki'!$H$18 -> 15 | AD52: ='liczba dni zwłoki'!$I$18 -> 130 | AE52: =ROUND((((Y52*0.1*AC52)/365)+((Y52*0.08*AD52)/365)),0) -> 12
A53: 5 | B53: listopad 2013 | C53: 60 | D53: 1 | E53: =C53*5+D53*9 -> 309 | F53: ='liczba dni zwłoki'!$E$9 -> 330 | G53: ='liczba dni zwłoki'!$F$9 -> 132 | H53: =ROUND(((E53*0.1*F53)/365)+((E53*0.08*G53)/365),0) -> 37 | I53: ='liczba dni zwłoki'!$H$9 -> 198 | J53: ='liczba dni zwłoki'!$I$9 -> 130 | K53: =ROUND((((E53*0.1*I53)/365)+((E53*0.08*J53)/365)),0) -> 26 | L53: =(E53+K53)/E53 -> 1.0841424 | M53: =E53/L53 -> 285.01791 | N53: =E53-M53 -> 23.98209 | O53: =M53+N53 -> 309 | P53: =O53 -> 309 | S53: 15 | T53: wrzesień 2014 | U53: 52 | V53: 7 | W53: 1 | X53: 0 | Y53: =U53*6+V53*5+W53*10+X53*9 -> 357 | Z53: ='liczba dni zwłoki'!$E$19 -> 28 | AA53: ='liczba dni zwłoki'!$F$19 -> 132 | AB53: =ROUND((((Y53*0.1*Z53)/365)+((Y53*0.08*AA53)/365)),0) -> 13 | AC53: ='liczba dni zwłoki'!$H$19 -> 0 | AD53: ='liczba dni zwłoki'!$I$19 -> 130 | AE53: =ROUND((((Y53*0.1*AC53)/365)+((Y53*0.08*AD53)/365)),0) -> 10
A54: 6 | B54: grudzień 2013 | C54: 59 | D54: 1 | E54: =C54*5+D54*9 -> 304 | F54: ='liczba dni zwłoki'!$E$10 -> 302 | G54: ='liczba dni zwłoki'!$F$10 -> 132 | H54: =ROUND(((E54*0.1*F54)/365)+((E54*0.08*G54)/365),0) -> 34 | I54: ='liczba dni zwłoki'!$H$10 -> 170 | J54: ='liczba dni zwłoki'!$I$10 -> 130 | K54: =ROUND((((E54*0.1*I54)/365)+((E54*0.08*J54)/365)),0) -> 23 | L54: =(E54+K54)/E54 -> 1.0756579 | M54: =E54/L54 -> 282.61774 | N54: =E54-M54 -> 21.382263 | O54: =M54+N54 -> 304 | P54: =O54 -> 304 | S54: 16 | T54: październik 2014 | U54: 52 | V54: 7 | W54: 1 | X54: 0 | Y54: =U54*6+V54*5+W54*10+X54*9 -> 357 | Z54: ='liczba dni zwłoki'!$E$20 -> 0 | AA54: ='liczba dni zwłoki'!$F$20 -> 130 | AB54: =ROUND((((Y54*0.1*Z54)/365)+((Y54*0.08*AA54)/365)),0) -> 10 | AC54: ='liczba dni zwłoki'!$H$20 -> 0 | AD54: ='liczba dni zwłoki'!$I$20 -> 129 | AE54: =ROUND((((Y54*0.1*AC54)/365)+((Y54*0.08*AD54)/365)),0) -> 10
...

Sheet Cicha
A2: ul. Cicha 3 | S2: ul. Cicha 3
F4: Odsetki za zwłokę - przed decyzją o wyłączeniu | I4: Odsetki za zwłokę po wyłączeniu | Z4: Odsetki za zwłokę - przed decyzją o wyłączeniu | AC4: Odsetki za zwłokę po wyłączeniu
A5: Lp | B5: Miesiąc | C5: Ilość osób wg. poszczególnych stawek opłat | E5: Miesięczna opłata za gospodarowanie odpadami na nieruchomości | F5: Liczba dni zwłoki | H5: Kwota odsetek | I5: Liczba dni zwłoki po wyłączeniu | K5: Kwota odsetek po wyłączeniu | L5: Proporcjonalne rozliczenie odsetek i należności głównej | M5: Należność główna | N5: Odsetki | O5: SUMA | P5: Księgowanie należności głównej | Q5: Księgowanie odsetek | S5: Lp | T5: Miesiąc | U5: Ilość osób wg. poszczególnych stawek opłat | Y5: Miesięczna opłata za gospodarowanie odpadami na nieruchomości | Z5: Liczba dni zwłoki | AB5: Kwota odsetek | AC5: Liczba dni zwłoki po wyłączeniu | AE5: Kwota odsetek po wyłączeniu
C6: stawka 5 zł | D6: stawka 9 zł | F6: stawka 10% | G6: stawka 8% | I6: stawka 10% | J6: stawka 8% | U6: stawka 6 zł | V6: stawka 5 zł | W6: stawka 10 zł | X6: stawka 9 zł | Z6: stawka 10% | AA6: stawka 8% | AC6: stawka 10% | AD6: stawka 8%
A7: 1 | B7: lipiec 2013 | C7: 101 | D7: 14 | E7: =C7*5+D7*9 -> 631 | F7: ='liczba dni zwłoki'!$E$5 -> 455 | G7: ='liczba dni zwłoki'!$F$5 -> 132 | H7: =ROUND(((E7*0.1*F7)/365)+((E7*0.08*G7)/365),0) -> 97 | I7: ='liczba dni zwłoki'!$H$5 -> 323 | J7: ='liczba dni zwłoki'!$I$5 -> 130 | K7: =ROUND((((E7*0.1*I7)/365)+((E7*0.08*J7)/365)),0) -> 74 | L7: =(E7+K7)/E7 -> 1.1172742 | M7: =E7/L7 -> 564.76738 | N7: =E7-M7 -> 66.232624 | O7: =M7+N7 -> 631 | P7: =O7 -> 631 | S7: 11 | T7: maj 2014 | U7: 91 | V7: 6 | W7: 10 | X7: 0 | Y7: =U7*6+V7*5+W7*10+X7*9 -> 676 | Z7: ='liczba dni zwłoki'!$E$15 -> 149 | AA7: ='liczba dni zwłoki'!$F$15 -> 132 | AB7: =ROUND((((Y7*0.1*Z7)/365)+((Y7*0.08*AA7)/365)),0) -> 47 | AC7: ='liczba dni zwłoki'!$H$15 -> 106 | AD7: ='liczba dni zwłoki'!$I$15 -> 130 | AE7: =ROUND((((Y7*0.1*AC7)/365)+((Y7*0.08*AD7)/365)),0) -> 39
A8: 2 | B8: sierpień 2013 | C8: 102 | D8: 14 | E8: =+C8*5+D8*9 -> 636 | F8: ='liczba dni zwłoki'!$E$6 -> 422 | G8: ='liczba dni zwłoki'!$F$6 -> 132 | H8: =ROUND(((E8*0.1*F8)/365)+((E8*0.08*G8)/365),0) -> 92 | I8: ='liczba dni zwłoki'!$H$6 -> 290 | J8: ='liczba dni zwłoki'!$I$6 -> 130 | K8: =ROUND((((E8*0.1*I8)/365)+((E8*0.08*J8)/365)),0) -> 69 | L8: =(E8+K8)/E8 -> 1.1084906 | M8: =E8/L8 -> 573.75319 | N8: =E8-M8 -> 62.246809 | O8: =M8+N8 -> 636 | P8: =O8 -> 636 | S8: 12 | T8: czerwiec 2014 | U8: 91 | V8: 6 | W8: 10 | X8: 0 | Y8: =U8*6+V8*5+W8*10+X8*9 -> 676 | Z8: ='liczba dni zwłoki'!$E$16 -> 120 | AA8: ='liczba dni zwłoki'!$F$16 -> 132 | AB8: =ROUND((((Y8*0.1*Z8)/365)+((Y8*0.08*AA8)/365)),0) -> 42 | AC8: ='liczba dni zwłoki'!$H$16 -> 77 | AD8: ='liczba dni zwłoki'!$I$16 -> 130 | AE8: =ROUND((((Y8*0.1*AC8)/365)+((Y8*0.08*AD8)/365)),0) -> 34
A9: 3 | B9: wrzesień 2013 | C9: 102 | D9: 10 | E9: =C9*5+D9*9 -> 600 | F9: ='liczba dni zwłoki'!$E$7 -> 393 | G9: ='liczba dni zwłoki'!$F$7 -> 132 | H9: =ROUND(((E9*0.1*F9)/365)+((E9*0.08*G9)/365),0) -> 82 | I9: ='liczba dni zwłoki'!$H$7 -> 261 | J9: ='liczba dni zwłoki'!$I$7 -> 130 | K9: =ROUND((((E9*0.1*I9)/365)+((E9*0.08*J9)/365)),0) -> 60 | L9: =(E9+K9)/E9 -> 1.1 | M9: =E9/L9 -> 545.45455 | N9: =E9-M9 -> 54.545455 | O9: =M9+N9 -> 600 | P9: =O9 -> 600 | S9: 13 | T9: lipiec 2014 | U9: 91 | V9: 6 | W9: 10 | X9: 0 | Y9: =U9*6+V9*5+W9*10+X9*9 -> 676 | Z9: ='liczba dni zwłoki'!$E$17 -> 90 | AA9: ='liczba dni zwłoki'!$F$17 -> 132 | AB9: =ROUND((((Y9*0.1*Z9)/365)+((Y9*0.08*AA9)/365)),0) -> 36 | AC9: ='liczba dni zwłoki'!$H$17 -> 47 | AD9: ='liczba dni zwłoki'!$I$17 -> 130 | AE9: =ROUND((((Y9*0.1*AC9)/365)+((Y9*0.08*AD9)/365)),0) -> 28
A10: 4 | B10: październik 2013 | C10: 102 | D10: 10 | E10: =C10*5+D10*9 -> 600 | F10: ='liczba dni zwłoki'!$E$8 -> 363 | G10: ='liczba dni zwłoki'!$F$8 -> 132 | H10: =ROUND(((E10*0.1*F10)/365)+((E10*0.08*G10)/365),0) -> 77 | I10: ='liczba dni zwłoki'!$H$8 -> 231 | J10: ='liczba dni zwłoki'!$I$8 -> 130 | K10: =ROUND((((E10*0.1*I10)/365)+((E10*0.08*J10)/365)),0) -> 55 | L10: =(E10+K10)/E10 -> 1.0916667 | M10: =E10/L10 -> 549.61832 | N10: =E10-M10 -> 50.381679 | O10: =M10+N10 -> 600 | P10: =O10 -> 600 | S10: 14 | T10: sierpień 2014 | U10: 91 | V10: 6 | W10: 10 | X10: 0 | Y10: =U10*6+V10*5+W10*10+X10*9 -> 676 | Z10: ='liczba dni zwłoki'!$E$18 -> 58 | AA10: ='liczba dni zwłoki'!$F$18 -> 132 | AB10: =ROUND((((Y10*0.1*Z10)/365)+((Y10*0.08*AA10)/365)),0) -> 30 | AC10: ='liczba dni zwłoki'!$H$18 -> 15 | AD10: ='liczba dni zwłoki'!$I$18 -> 130 | AE10: =ROUND((((Y10*0.1*AC10)/365)+((Y10*0.08*AD10)/365)),0) -> 22
A11: 5 | B11: listopad 2013 | C11: 101 | D11: 10 | E11: =C11*5+D11*9 -> 595 | F11: ='liczba dni zwłoki'!$E$9 -> 330 | G11: ='liczba dni zwłoki'!$F$9 -> 132 | H11: =ROUND(((E11*0.1*F11)/365)+((E11*0.08*G11)/365),0) -> 71 | I11: ='liczba dni zwłoki'!$H$9 -> 198 | J11: ='liczba dni zwłoki'!$I$9 -> 130 | K11: =ROUND((((E11*0.1*I11)/365)+((E11*0.08*J11)/365)),0) -> 49 | L11: =(E11+K11)/E11 -> 1.0823529 | M11: =E11/L11 -> 549.72826 | N11: =E11-M11 -> 45.271739 | O11: =M11+N11 -> 595 | P11: =O11 -> 595 | S11: 15 | T11: wrzesień 2014 | U11: 91 | V11: 6 | W11: 10 | X11: 0 | Y11: =U11*6+V11*5+W11*10+X11*9 -> 676 | Z11: ='liczba dni zwłoki'!$E$19 -> 28 | AA11: ='liczba dni zwłoki'!$F$19 -> 132 | AB11: =ROUND((((Y11*0.1*Z11)/365)+((Y11*0.08*AA11)/365)),0) -> 25 | AC11: ='liczba dni zwłoki'!$H$19 -> 0 | AD11: ='liczba dni zwłoki'!$I$19 -> 130 | AE11: =ROUND((((Y11*0.1*AC11)/365)+((Y11*0.08*AD11)/365)),0) -> 19
A12: 6 | B12: grudzień 2013 | C12: 101 | D12: 10 | E12: =C12*5+D12*9 -> 595 | F12: ='liczba dni zwłoki'!$E$10 -> 302 | G12: ='liczba dni zwłoki'!$F$10 -> 132 | H12: =ROUND(((E12*0.1*F12)/365)+((E12*0.08*G12)/365),0) -> 66 | I12: ='liczba dni zwłoki'!$H$10 -> 170 | J12: ='liczba dni zwłoki'!$I$10 -> 130 | K12: =ROUND((((E12*0.1*I12)/365)+((E12*0.08*J12)/365)),0) -> 45 | L12: =(E12+K12)/E12 -> 1.0756303 | M12: =E12/L12 -> 553.16406 | N12: =E12-M12 -> 41.835938 | O12: =M12+N12 -> 595 | P12: =O12 -> 595 | S12: 16 | T12: październik 2014 | U12: 91 | V12: 6 | W12: 10 | X12: 0 | Y12: =U12*6+V12*5+W12*10+X12*9 -> 676 | Z12: ='liczba dni zwłoki'!$E$20 -> 0 | AA12: ='liczba dni zwłoki'!$F$20 -> 130 | AB12: =ROUND((((Y12*0.1*Z12)/365)+((Y12*0.08*AA12)/365)),0) -> 19 | AC12: ='liczba dni zwłoki'!$H$20 -> 0 | AD12: ='liczba dni zwłoki'!$I$20 -> 129 | AE12: =ROUND((((Y12*0.1*AC12)/365)+((Y12*0.08*AD12)/365)),0) -> 19
A13: 7 | B13: styczeń 2014 | C13: 101 | D13: 10 | E13: =C13*5+D13*9 -> 595 | F13: ='liczba dni zwłoki'!$E$11 -> 271 | G13: ='liczba dni zwłoki'!$F$11 -> 132 | H13: =ROUND(((E13*0.1*F13)/365)+((E13*0.08*G13)/365),0) -> 61 | I13: ='liczba dni zwłoki'!$H$11 -> 144 | J13: ='liczba dni zwłoki'!$I$11 -> 130 | K13: =ROUND((((E13*0.1*I13)/365)+((E13*0.08*J13)/365)),0) -> 40 | L13: =(E13+K13)/E13 -> 1.0672269 | M13: =E13/L13 -> 557.51969 | N13: =E13-M13 -> 37.480315 | O13: =M13+N13 -> 595 | P13: =O13 -> 595 | S13: 17 | T13: listopad 2014 | U13: 91 | V13: 6 | W13: 10 | X13: 0 | Y13: =U13*6+V13*5+W13*10+X13*9 -> 676 | Z13: ='liczba dni zwłoki'!$E$21 -> 0 | AA13: ='liczba dni zwłoki'!$F$21 -> 99 | AB13: =ROUND((((Y13*0.1*Z13)/365)+((Y13*0.08*AA13)/365)),0) -> 15 | AC13: ='liczba dni zwłoki'!$H$21 -> 0 | AD13: ='liczba dni zwłoki'!$I$21 -> 99 | AE13: =ROUND((((Y13*0.1*AC13)/365)+((Y13*0.08*AD13)/365)),0) -> 15
A14: 8 | B14: luty 2014 | C14: 101 | D14: 10 | E14: =C14*5+D14*9 -> 595 | F14: ='liczba dni zwłoki'!$E$12 -> 240 | G14: ='liczba dni zwłoki'!$F$12 -> 132 | H14: =ROUND(((E14*0.1*F14)/365)+((E14*0.08*G14)/365),0) -> 56 | I14: ='liczba dni zwłoki'!$H$12 -> 144 | J14: ='liczba dni zwłoki'!$I$12 -> 130 | K14: =ROUND((((E14*0.1*I14)/365)+((E14*0.08*J14)/365)),0) -> 40 | L14: =(E14+K14)/E14 -> 1.0672269 | M14: =E14/L14 -> 557.51969 | N14: =E14-M14 -> 37.480315 | O14: =M14+N14 -> 595 | P14: =O14 -> 595 | S14: 18 | T14: grudzień 2014 | U14: 91 | V14: 6 | W14: 10 | X14: 0 | Y14: =U14*6+V14*5+W14*10+X14*9 -> 676 | Z14: ='liczba dni zwłoki'!$E$22 -> 0 | AA14: ='liczba dni zwłoki'!$F$22 -> 69 | AB14: =ROUND((((Y14*0.1*Z14)/365)+((Y14*0.08*AA14)/365)),0) -> 10 | AC14: ='liczba dni zwłoki'!$H$22 -> 0 | AD14: ='liczba dni zwłoki'!$I$22 -> 69 | AE14: =ROUND((((Y14*0.1*AC14)/365)+((Y14*0.08*AD14)/365)),0) -> 10
A15: 9 | B15: marzec 2014 | C15: 97 | D15: 10 | E15: =C15*5+D15*9 -> 575 | F15: ='liczba dni zwłoki'!$E$13 -> 212 | G15: ='liczba dni zwłoki'!$F$13 -> 132 | H15: =ROUND(((E15*0.1*F15)/365)+((E15*0.08*G15)/365),0) -> 50 | I15: ='liczba dni zwłoki'!$H$13 -> 144 | J15: ='liczba dni zwłoki'!$I$13 -> 130 | K15: =ROUND((((E15*0.1*I15)/365)+((E15*0.08*J15)/365)),0) -> 39 | L15: =(E15+K15)/E15 -> 1.0678261 | M15: =E15/L15 -> 538.4772 | N15: =E15-M15 -> 36.522801 | O15: =M15+N15 -> 575 | P15: =O15 -> 575 | S15: 19 | T15: styczeń 2015 | U15: 91 | V15: 6 | W15: 10 | X15: 0 | Y15: =U15*6+V15*5+W15*10+X15*9 -> 676 | Z15: ='liczba dni zwłoki'!$E$23 -> 0 | AA15: ='liczba dni zwłoki'!$F$23 -> 36 | AB15: 0 | AC15: ='liczba dni zwłoki'!$H$23 -> 0 | AD15: ='liczba dni zwłoki'!$I$23 -> 36 | AE15: 0
