Workbook

Sheet za okres 07 2013 - 04 2014
A2: Odsetki i należności za okres od lipca 2013 do kwietnia 2014 (stan na 18.02.2015 r.)
A4: NR | B4: BLOK | C4: NALEŻNOŚĆ ZA OKRES LIPIEC 2013 - KWIECIEŃ 2014 | D4: ODSETKI | E4: ODSETKI PO WYŁĄCZENIU | F4: NALEŻNOŚĆ ŁĄCZNA + ODSETKI ŁĄCZNIE | G4: NALEŻNOŚĆ ŁĄCZNA + ODSETKI ŁĄCZNIE PO WYŁĄCZENIU
A5: 1 | B5: 3-go Maja 40 | C5: ='3 Maja'!E101 -> 5592 | D5: ='3 Maja'!H101 -> 647 | E5: ='3 Maja'!K101 -> 471 | F5: =C5+D5 -> 6239 | G5: =C5+E5 -> 6063
A6: 2 | B6: 3-go Maja 42 | C6: ='3 Maja'!E122 -> 4525 | D6: ='3 Maja'!H122 -> 526 | E6: ='3 Maja'!K122 -> 383 | F6: =C6+D6 -> 5051 | G6: =C6+E6 -> 4908
A7: 3 | B7: Słowackiego 47 A | C7: =Słowackiego!E82 -> 6207 | D7: =Słowackiego!H82 -> 720 | E7: =Słowackiego!K82 -> 524 | F7: =C7+D7 -> 6927 | G7: =C7+E7 -> 6731
A8: 4 | B8: 3-go Maja 24 | C8: ='3 Maja'!E59 -> 3045 | D8: ='3 Maja'!H59 -> 353 | E8: ='3 Maja'!K59 -> 257 | F8: =C8+D8 -> 3398 | G8: =C8+E8 -> 3302
A9: 5 | B9: 3-go Maja 24D | C9: ='3 Maja'!E17 -> 4560 | D9: ='3 Maja'!H17 -> 528 | E9: ='3 Maja'!K17 -> 385 | F9: =C9+D9 -> 5088 | G9: =C9+E9 -> 4945
A10: 6 | B10: 3-go Maja 24 E | C10: ='3 Maja'!E80 -> 3346 | D10: ='3 Maja'!H80 -> 389 | E10: ='3 Maja'!K80 -> 284 | F10: =C10+D10 -> 3735 | G10: =C10+E10 -> 3630
A11: 7 | B11: Lipowa 8 | C11: =Lipowa!E51 -> 2680 | D11: =Lipowa!H51 -> 310 | E11: =Lipowa!K51 -> 227 | F11: =C11+D11 -> 2990 | G11: =C11+E11 -> 2907
A12: 8 | B12: Chopina 19 B | C12: =Chopina!E68 -> 2670 | D12: =Chopina!H68 -> 309 | E12: =Chopina!K68 -> 226 | F12: =C12+D12 -> 2979 | G12: =C12+E12 -> 2896
A13: 9 | B13: Chopina 19 | C13: =Chopina!E34 -> 2740 | D13: =Chopina!H34 -> 318 | E13: =Chopina!K34 -> 233 | F13: =C13+D13 -> 3058 | G13: =C13+E13 -> 2973
A14: 10 | B14: Chopina 19 A | C14: =Chopina!E51 -> 3056 | D14: =Chopina!H51 -> 359 | E14: =Chopina!K51 -> 261 | F14: =C14+D14 -> 3415 | G14: =C14+E14 -> 3317
A15: 11 | B15: 3-go Maja 2 | C15: ='3 Maja'!E38 -> 11534 | D15: ='3 Maja'!H38 -> 1337 | E15: ='3 Maja'!K38 -> 975 | F15: =C15+D15 -> 12871 | G15: =C15+E15 -> 12509
A16: 12 | B16: Chopina 15 | C16: =Chopina!E17 -> 6644 | D16: =Chopina!H17 -> 770 | E16: =Chopina!K17 -> 564 | F16: =C16+D16 -> 7414 | G16: =C16+E16 -> 7208
A17: 13 | B17: Słowackiego 13 | C17: =Słowackiego!E60 -> 3590 | D17: =Słowackiego!H60 -> 418 | E17: =Słowackiego!K60 -> 306 | F17: =C17+D17 -> 4008 | G17: =C17+E17 -> 3896
A18: 14 | B18: Lipowa 6 A | C18: =Lipowa!E34 -> 4690 | D18: =Lipowa!H34 -> 544 | E18: =Lipowa!K34 -> 399 | F18: =C18+D18 -> 5234 | G18: =C18+E18 -> 5089
A19: 15 | B19: Lipowa 1 A | C19: =Lipowa!E17 -> 5705 | D19: =Lipowa!H17 -> 661 | E19: =Lipowa!K17 -> 483 | F19: =C19+D19 -> 6366 | G19: =C19+E19 -> 6188
A20: 16 | B20: Szaniawskiego 66 | C20: =Szaniawskiego!E17 -> 2740 | D20: =Szaniawskiego!H17 -> 318 | E20: =Szaniawskiego!K17 -> 232 | F20: =C20+D20 -> 3058 | G20: =C20+E20 -> 2972
A21: 17 | B21: Szaniawskiego 68 | C21: =Szaniawskiego!E38 -> 2667 | D21: =Szaniawskiego!H38 -> 308 | E21: =Szaniawskiego!K38 -> 224 | F21: =C21+D21 -> 2975 | G21: =C21+E21 -> 2891
A22: 18 | B22: Słowackiego 3 A | C22: =Słowackiego!E17 -> 5078 | D22: =Słowackiego!H17 -> 592 | E22: =Słowackiego!K17 -> 432 | F22: =C22+D22 -> 5670 | G22: =C22+E22 -> 5510
A23: 19 | B23: Słowackiego 3 B | C23: =Słowackiego!E38 -> 3945 | D23: =Słowackiego!H38 -> 457 | E23: =Słowackiego!K38 -> 335 | F23: =C23+D23 -> 4402 | G23: =C23+E23 -> 4280
A24: 20 | B24: Cmentarna 14 | C24: =Cmentarna!E17 -> 2020 | D24: =Cmentarna!H17 -> 235 | E24: =Cmentarna!K17 -> 172 | F24: =C24+D24 -> 2255 | G24: =C24+E24 -> 2192
A25: 21 | B25: Cmentarna 16 | C25: =Cmentarna!E34 -> 1550 | D25: =Cmentarna!H34 -> 178 | E25: =Cmentarna!K34 -> 131 | F25: =C25+D25 -> 1728 | G25: =C25+E25 -> 1681
A26: 22 | B26: Orlicz-Dreszera 12 | C26: ='O.-Dreszera'!E17 -> 2690 | D26: ='O.-Dreszera'!H17 -> 311 | E26: ='O.-Dreszera'!K17 -> 226 | F26: =C26+D26 -> 3001 | G26: =C26+E26 -> 2916
A27: 23 | B27: Orlicz-Dreszera 18 | C27: ='O.-Dreszera'!E34 -> 2559 | D27: ='O.-Dreszera'!H34 -> 297 | E27: ='O.-Dreszera'!K34 -> 216 | F27: =C27+D27 -> 2856 | G27: =C27+E27 -> 2775
A28: 24 | B28: 1000-lecia 3 | C28: ='Aleje 1000-lecia'!E17 -> 1839 | D28: ='Aleje 1000-lecia'!H17 -> 214 | E28: ='Aleje 1000-lecia'!K17 -> 156 | F28: =C28+D28 -> 2053 | G28: =C28+E28 -> 1995
A29: 25 | B29: 1000-lecia 5 | C29: ='Aleje 1000-lecia'!E34 -> 2390 | D29: ='Aleje 1000-lecia'!H34 -> 277 | E29: ='Aleje 1000-lecia'!K34 -> 202 | F29: =C29+D29 -> 2667 | G29: =C29+E29 -> 2592
A30: 26 | B30: Powstańców W-wy 1 | C30: ='Powstańców W-wy'!F17 -> 6840 | D30: ='Powstańców W-wy'!I17 -> 794 | E30: ='Powstańców W-wy'!L17 -> 580 | F30: =C30+D30 -> 7634 | G30: =C30+E30 -> 7420
A31: 27 | B31: Powstańców W-wy 3 | C31: ='Powstańców W-wy'!F34 -> 3410 | D31: ='Powstańców W-wy'!I34 -> 395 | E31: ='Powstańców W-wy'!L34 -> 288 | F31: =C31+D31 -> 3805 | G31: =C31+E31 -> 3698
A32: 28 | B32: Powstańców W-wy 5 | C32: ='Powstańców W-wy'!F51 -> 3876 | D32: ='Powstańców W-wy'!I51 -> 451 | E32: ='Powstańców W-wy'!L51 -> 329 | F32: =C32+D32 -> 4327 | G32: =C32+E32 -> 4205
A33: 29 | B33: Powstańców W-wy 7 | C33: ='Powstańców W-wy'!F68 -> 8343 | D33: ='Powstańców W-wy'!I68 -> 966 | E33: ='Powstańców W-wy'!L68 -> 708 | F33: =C33+D33 -> 9309 | G33: =C33+E33 -> 9051
A34: 30 | B34: Powstańców W-wy 15 | C34: ='Powstańców W-wy'!F85 -> 5370 | D34: ='Powstańców W-wy'!I85 -> 622 | E34: ='Powstańców W-wy'!L85 -> 455 | F34: =C34+D34 -> 5992 | G34: =C34+E34 -> 5825
A35: 31 | B35: Powstańców W-wy 17 | C35: ='Powstańców W-wy'!F102 -> 4463 | D35: ='Powstańców W-wy'!I102 -> 519 | E35: ='Powstańców W-wy'!L102 -> 378 | F35: =C35+D35 -> 4982 | G35: =C35+E35 -> 4841
A36: 32 | B36: Powstańców W-wy 21 | C36: ='Powstańców W-wy'!F119 -> 4153 | D36: ='Powstańców W-wy'!I119 -> 482 | E36: ='Powstańców W-wy'!L119 -> 352 | F36: =C36+D36 -> 4635 | G36: =C36+E36 -> 4505
A37: 33 | B37: Powstańców W-wy 71 | C37: ='Powstańców W-wy'!F136 -> 5375 | D37: ='Powstańców W-wy'!I136 -> 622 | E37: ='Powstańców W-wy'!L136 -> 457 | F37: =C37+D37 -> 5997 | G37: =C37+E37 -> 5832
A38: 34 | B38: Powstańców W-wy 73 | C38: ='Powstańców W-wy'!F153 -> 4290 | D38: ='Powstańców W-wy'!I153 -> 497 | E38: ='Powstańców W-wy'!L153 -> 360 | F38: =C38+D38 -> 4787 | G38: =C38+E38 -> 4650
A39: 35 | B39: Powstańców W-wy 75 | C39: ='Powstańców W-wy'!F170 -> 6472 | D39: ='Powstańców W-wy'!I170 -> 750 | E39: ='Powstańców W-wy'!L170 -> 548 | F39: =C39+D39 -> 7222 | G39: =C39+E39 -> 7020
A40: 36 | B40: Powstańców W-wy 77 | C40: ='Powstańców W-wy'!F187 -> 7782 | D40: ='Powstańców W-wy'!I187 -> 903 | E40: ='Powstańców W-wy'!L187 -> 658 | F40: =C40+D40 -> 8685 | G40: =C40+E40 -> 8440
A41: 37 | B41: Powstańców W-wy 79 | C41: ='Powstańców W-wy'!F204 -> 7685 | D41: ='Powstańców W-wy'!I204 -> 894 | E41: ='Powstańców W-wy'!L204 -> 651 | F41: =C41+D41 -> 8579 | G41: =C41+E41 -> 8336
A42: 38 | B42: A. Mickiewicza 8 A | C42: =Mickiewicza!E17 -> 4445 | D42: =Mickiewicza!H17 -> 515 | E42: =Mickiewicza!K17 -> 375 | F42: =C42+D42 -> 4960 | G42: =C42+E42 -> 4820
A43: 39 | B43: Cicha 9 | C43: =Cicha!E81 -> 3740 | D43: =Cicha!H81 -> 433 | E43: =Cicha!K81 -> 317 | F43: =C43+D43 -> 4173 | G43: =C43+E43 -> 4057
A44: 40 | B44: Cicha 11 | C44: =Cicha!E102 -> 4905 | D44: =Cicha!H102 -> 566 | E44: =Cicha!K102 -> 413 | F44: =C44+D44 -> 5471 | G44: =C44+E44 -> 5318
A45: 41 | B45: Cicha 17 | C45: =Cicha!E188 -> 4599 | D45: =Cicha!H188 -> 533 | E45: =Cicha!K188 -> 389 | F45: =C45+D45 -> 5132 | G45: =C45+E45 -> 4988
A46: 42 | B46: Cicha 13 | C46: =Cicha!E124 -> 2032 | D46: =Cicha!H124 -> 234 | E46: =Cicha!K124 -> 172 | F46: =C46+D46 -> 2266 | G46: =C46+E46 -> 2204
A47: 43 | B47: Cicha 15 | C47: =Cicha!E145 -> 6168 | D47: =Cicha!H145 -> 715 | E47: =Cicha!K145 -> 523 | F47: =C47+D47 -> 6883 | G47: =C47+E47 -> 6691
A48: 44 | B48: Cicha 3 | C48: =Cicha!E17 -> 5997 | D48: =Cicha!H17 -> 697 | E48: =Cicha!K17 -> 509 | F48: =C48+D48 -> 6694 | G48: =C48+E48 -> 6506
A49: 45 | B49: Cicha 5 | C49: =Cicha!E39 -> 5356 | D49: =Cicha!H39 -> 623 | E49: =Cicha!K39 -> 453 | F49: =C49+D49 -> 5979 | G49: =C49+E49 -> 5809
A50: 46 | B50: Cicha 7 | C50: =Cicha!E60 -> 4654 | D50: =Cicha!H60 -> 539 | E50: =Cicha!K60 -> 395 | F50: =C50+D50 -> 5193 | G50: =C50+E50 -> 5049
A51: 47 | B51: Krzywe Koło 34 | C51: ='Krzywe Koło'!E17 -> 6722 | D51: ='Krzywe Koło'!H17 -> 778 | E51: ='Krzywe Koło'!K17 -> 567 | F51: =C51+D51 -> 7500 | G51: =C51+E51 -> 7289
A52: 48 | B52: Krzywe Koło 34 B | C52: ='Krzywe Koło'!E34 -> 416 | D52: ='Krzywe Koło'!H34 -> 0 | E52: ='Krzywe Koło'!K34 -> 0 | F52: =C52+D52 -> 416 | G52: =C52+E52 -> 416
A53: 49 | B53: 1-go Maja 59 | C53: ='1 Maja'!E17 -> 7224 | D53: ='1 Maja'!H17 -> 841 | E53: ='1 Maja'!K17 -> 614 | F53: =C53+D53 -> 8065 | G53: =C53+E53 -> 7838
A54: 50 | B54: 1-go Maja 61 | C54: ='1 Maja'!E38 -> 4284 | D54: ='1 Maja'!H38 -> 496 | E54: ='1 Maja'!K38 -> 364 | F54: =C54+D54 -> 4780 | G54: =C54+E54 -> 4648
A55: 51 | B55: 1-go Maja 63 | C55: ='1 Maja'!E60 -> 4470 | D55: ='1 Maja'!H60 -> 519 | E55: ='1 Maja'!K60 -> 380 | F55: =C55+D55 -> 4989 | G55: =C55+E55 -> 4850
A56: 52 | B56: 1-go Maja 69 | C56: ='1 Maja'!E102 -> 3949 | D56: ='1 Maja'!H102 -> 459 | E56: ='1 Maja'!K102 -> 334 | F56: =C56+D56 -> 4408 | G56: =C56+E56 -> 4283
A57: 53 | B57: 1-go Maja 71 | C57: ='1 Maja'!E123 -> 5866 | D57: ='1 Maja'!H123 -> 677 | E57: ='1 Maja'!K123 -> 497 | F57: =C57+D57 -> 6543 | G57: =C57+E57 -> 6363
A58: 54 | B58: 1-go Maja 73 | C58: ='1 Maja'!E144 -> 4221 | D58: ='1 Maja'!H144 -> 490 | E58: ='1 Maja'!K144 -> 355 | F58: =C58+D58 -> 4711 | G58: =C58+E58 -> 4576
A59: 55 | B59: Lubelska 85 | C59: =Lubelska!E102 -> 2830 | D59: =Lubelska!H102 -> 329 | E59: =Lubelska!K102 -> 241 | F59: =C59+D59 -> 3159 | G59: =C59+E59 -> 3071
A60: 56 | B60: Lubelska 87 | C60: =Lubelska!E123 -> 2745 | D60: =Lubelska!H123 -> 318 | E60: =Lubelska!K123 -> 234 | F60: =C60+D60 -> 3063 | G60: =C60+E60 -> 2979
A61: 57 | B61: 1-go Maja 75 | C61: ='1 Maja'!E165 -> 6453 | D61: ='1 Maja'!H165 -> 747 | E61: ='1 Maja'!K165 -> 546 | F61: =C61+D61 -> 7200 | G61: =C61+E61 -> 6999
A62: 58 | B62: 1-go Maja 81 | C62: ='1 Maja'!E228 -> 4430 | D62: ='1 Maja'!H228 -> 514 | E62: ='1 Maja'!K228 -> 374 | F62: =C62+D62 -> 4944 | G62: =C62+E62 -> 4804
A63: 59 | B63: 1-go Maja 85 | C63: ='1 Maja'!E270 -> 6009 | D63: ='1 Maja'!H270 -> 699 | E63: ='1 Maja'!K270 -> 510 | F63: =C63+D63 -> 6708 | G63: =C63+E63 -> 6519
A64: 60 | B64: 1-go Maja 79 | C64: ='1 Maja'!E207 -> 5164 | D64: ='1 Maja'!H207 -> 600 | E64: ='1 Maja'!K207 -> 438 | F64: =C64+D64 -> 5764 | G64: =C64+E64 -> 5602
A65: 61 | B65: 1-go Maja 83 | C65: ='1 Maja'!E249 -> 4705 | D65: ='1 Maja'!H249 -> 544 | E65: ='1 Maja'!K249 -> 397 | F65: =C65+D65 -> 5249 | G65: =C65+E65 -> 5102
A66: 62 | B66: 1-go Maja 87 | C66: ='1 Maja'!E291 -> 6105 | D66: ='1 Maja'!H291 -> 708 | E66: ='1 Maja'!K291 -> 517 | F66: =C66+D66 -> 6813 | G66: =C66+E66 -> 6622
A67: 63 | B67: Lubelska 63 | C67: =Lubelska!E17 -> 4070 | D67: =Lubelska!H17 -> 472 | E67: =Lubelska!K17 -> 343 | F67: =C67+D67 -> 4542 | G67: =C67+E67 -> 4413
A68: 64 | B68: Lubelska 73 | C68: =Lubelska!E38 -> 4480 | D68: =Lubelska!H38 -> 518 | E68: =Lubelska!K38 -> 377 | F68: =C68+D68 -> 4998 | G68: =C68+E68 -> 4857
A69: 65 | B69: Lubelska 77 | C69: =Lubelska!E59 -> 4950 | D69: =Lubelska!H59 -> 574 | E69: =Lubelska!K59 -> 417 | F69: =C69+D69 -> 5524 | G69: =C69+E69 -> 5367
A70: 66 | B70: Lubelska 79 | C70: =Lubelska!E81 -> 6041 | D70: =Lubelska!H81 -> 699 | E70: =Lubelska!K81 -> 510 | F70: =C70+D70 -> 6740 | G70: =C70+E70 -> 6551
A71: 67 | B71: 1-go Maja 77 | C71: ='1 Maja'!E186 -> 5225 | D71: ='1 Maja'!H186 -> 607 | E71: ='1 Maja'!K186 -> 442 | F71: =C71+D71 -> 5832 | G71: =C71+E71 -> 5667
A72: 68 | B72: Popiełuszki 2 | C72: =Popiełuszki!E17 -> 6241 | D72: =Popiełuszki!H17 -> 723 | E72: =Popiełuszki!K17 -> 529 | F72: =C72+D72 -> 6964 | G72: =C72+E72 -> 6770
A73: 69 | B73: Popiełuszki 4 | C73: =Popiełuszki!E38 -> 6610 | D73: =Popiełuszki!H38 -> 766 | E73: =Popiełuszki!K38 -> 559 | F73: =C73+D73 -> 7376 | G73: =C73+E73 -> 7169
A74: 70 | B74: Popiełuszki 8 | C74: =Popiełuszki!E115 -> 4650 | D74: =Popiełuszki!H115 -> 536 | E74: =Popiełuszki!K115 -> 392 | F74: =C74+D74 -> 5186 | G74: =C74+E74 -> 5042
A75: 71 | B75: Popiełuszki 10 | C75: =Popiełuszki!E150 -> 4390 | D75: =Popiełuszki!H150 -> 508 | E75: =Popiełuszki!K150 -> 369 | F75: =C75+D75 -> 4898 | G75: =C75+E75 -> 4759
A76: 72 | B76: Popiełuszki 10 A | C76: =Popiełuszki!E167 -> 1594 | D76: =Popiełuszki!H167 -> 184 | E76: =Popiełuszki!K167 -> 133 | F76: =C76+D76 -> 1778 | G76: =C76+E76 -> 1727
A77: 73 | B77: Popiełuszki 6 | C77: =Popiełuszki!E80 -> 7611 | D77: =Popiełuszki!H80 -> 884 | E77: =Popiełuszki!K80 -> 645 | F77: =C77+D77 -> 8495 | G77: =C77+E77 -> 8256
A78: 74 | B78: Popiełuszki 5 | C78: =Popiełuszki!E59 -> 5330 | D78: =Popiełuszki!H59 -> 617 | E78: =Popiełuszki!K59 -> 452 | F78: =C78+D78 -> 5947 | G78: =C78+E78 -> 5782
A79: 75 | B79: Popiełuszki 7 | C79: =Popiełuszki!E97 -> 4776 | D79: =Popiełuszki!H97 -> 553 | E79: =Popiełuszki!K97 -> 405 | F79: =C79+D79 -> 5329 | G79: =C79+E79 -> 5181
A80: 76 | B80: Popiełuszki 9 | C80: =Popiełuszki!E133 -> 2380 | D80: =Popiełuszki!H133 -> 274 | E80: =Popiełuszki!K133 -> 202 | F80: =C80+D80 -> 2654 | G80: =C80+E80 -> 2582
A81: 77 | B81: Popiełuszki 11 | C81: =Popiełuszki!E184 -> 4453 | D81: =Popiełuszki!H184 -> 519 | E81: =Popiełuszki!K184 -> 377 | F81: =C81+D81 -> 4972 | G81: =C81+E81 -> 4830
A82: 78 | B82: Popiełuszki 13 | C82: =Popiełuszki!E219 -> 2755 | D82: =Popiełuszki!H219 -> 320 | E82: =Popiełuszki!K219 -> 235 | F82: =C82+D82 -> 3075 | G82: =C82+E82 -> 2990
A83: 79 | B83: Popiełuszki 12 | C83: =Popiełuszki!E201 -> 3745 | D83: =Popiełuszki!H201 -> 437 | E83: =Popiełuszki!K201 -> 320 | F83: =C83+D83 -> 4182 | G83: =C83+E83 -> 4065
A84: 80 | B84: Popiełuszki 14 | C84: =Popiełuszki!E236 -> 4636 | D84: =Popiełuszki!H236 -> 537 | E84: =Popiełuszki!K236 -> 394 | F84: =C84+D84 -> 5173 | G84: =C84+E84 -> 5030
A85: 81 | B85: Popiełuszki 16 | C85: =Popiełuszki!E253 -> 6830 | D85: =Popiełuszki!H253 -> 790 | E85: =Popiełuszki!K253 -> 577 | F85: =C85+D85 -> 7620 | G85: =C85+E85 -> 7407
A86: 82 | B86: Popiełuszki 25 | C86: =Popiełuszki!E270 -> 4378 | D86: =Popiełuszki!H270 -> 508 | E86: =Popiełuszki!K270 -> 370 | F86: =C86+D86 -> 4886 | G86: =C86+E86 -> 4748
A87: 83 | B87: Krzywe Koło 34C | C87: ='Krzywe Koło'!E51 -> 2736 | D87: ='Krzywe Koło'!H51 -> 317 | E87: ='Krzywe Koło'!K51 -> 233 | F87: =C87+D87 -> 3053 | G87: =C87+E87 -> 2969
A88: 84 | B88: Zielona 9 | C88: =Zielona!E17 -> 504 | D88: =Zielona!H17 -> 8 | E88: =Zielona!K17 -> 0 | F88: =C88+D88 -> 512 | G88: =C88+E88 -> 504
A89: 85 | B89: Cicha 15 A | C89: =Cicha!E167 -> 3307 | D89: =Cicha!H167 -> 385 | E89: =Cicha!K167 -> 281 | F89: =C89+D89 -> 3692 | G89: =C89+E89 -> 3588
A90: 86 | B90: 1-go Maja 65 | C90: ='1 Maja'!E81 -> 4951 | D90: ='1 Maja'!H81 -> 575 | E90: ='1 Maja'!K81 -> 419 | F90: =C90+D90 -> 5526 | G90: =C90+E90 -> 5370
A91: 87 | B91: Lubelska 89 | C91: =Lubelska!E144 -> 2480 | D91: =Lubelska!H144 -> 288 | E91: =Lubelska!K144 -> 211 | F91: =C91+D91 -> 2768 | G91: =C91+E91 -> 2691
A92: 88 | B92: Lubelska 91 | C92: =Lubelska!E165 -> 2518 | D92: =Lubelska!H165 -> 290 | E92: =Lubelska!K165 -> 214 | F92: =C92+D92 -> 2808 | G92: =C92+E92 -> 2732
A93: 89 | B93: Lubelska 93 | C93: =Lubelska!E186 -> 4645 | D93: =Lubelska!H186 -> 540 | E93: =Lubelska!K186 -> 394 | F93: =C93+D93 -> 5185 | G93: =C93+E93 -> 5039
A94: RAZEM | C94: =SUM(C5:C93) -> 399896 | D94: =SUM(D5:D93) -> 46274 | E94: =SUM(E5:E93) -> 33782 | F94: =SUM(F5:F93) -> 446170 | G94: =SUM(G5:G93) -> 433678

Sheet Ogółem
A2: NR | B2: BLOK | C2: NALEŻNOŚĆ ZA OKRES LIPIEC 2013 - KWIECIEŃ 2014 | D2: ODSETKI | E2: ODSETKI PO WYŁĄCZENIU | F2: NALEŻNOŚĆ ZA OKRES MAJ 2014 - STYCZEŃ 2015 | G2: ODSETKI | H2: ODSETKI PO WYŁĄCZENIU | I2: NALEŻNOŚĆ ŁĄCZNA + ODSETKI ŁĄCZNIE | J2: NALEŻNOŚĆ ŁĄCZNA + ODSETKI ŁĄCZNIE PO WYŁĄCZENIU | K2: Proporcjonalne rozliczenie odsetek i należności głównej | L2: Należność główna | M2: Odsetki | N2: SUMA | O2: Sprawdzenie
A3: 1 | B3: 3-go Maja 40 | C3: ='3 Maja'!E101 -> 5592 | D3: ='3 Maja'!H38 -> 1337 | E3: ='3 Maja'!K101 -> 471 | F3: ='3 Maja'!Y100 -> 5628 | G3: ='3 Maja'!AB96 -> 17 | H3: ='3 Maja'!AE100 -> 173 | I3: =C3+D3+F3+G3 -> 12574 | J3: =C3+E3+F3+H3 -> 11864 | K3: =(C3+E3)/C3 -> 1.0842275 | L3: =INT(C3/K3) -> 5157 | M3: =INT(C3-L3) -> 435 | N3: =L3+M3 -> 5592 | O3: =C3=N3 -> TRUE
A4: 2 | B4: 3-go Maja 42 | C4: ='3 Maja'!E122 -> 4525 | D4: ='3 Maja'!H122 -> 526 | E4: ='3 Maja'!K122 -> 383 | F4: ='3 Maja'!Y121 -> 4698 | G4: ='3 Maja'!AB117 -> 15 | H4: ='3 Maja'!AE121 -> 144 | I4: =C4+D4+F4+G4 -> 9764 | J4: =C4+E4+F4+H4 -> 9750 | K4: =(C4+E4)/C4 -> 1.0846409 | L4: =INT(C4/K4) -> 4171 | M4: =INT(C4-L4) -> 354 | N4: =L4+M4 -> 4525 | O4: =C4=N4 -> TRUE
A5: 3 | B5: Słowackiego 47 A | C5: =Słowackiego!E82 -> 6207 | D5: =Słowackiego!H82 -> 720 | E5: =Słowackiego!K82 -> 524 | F5: =Słowackiego!Y81 -> 6372 | G5: =Słowackiego!AB77 -> 20 | H5: =Słowackiego!AE81 -> 194 | I5: =C5+D5+F5+G5 -> 13319 | J5: =C5+E5+F5+H5 -> 13297 | K5: =(C5+E5)/C5 -> 1.0844208 | L5: =INT(C5/K5) -> 5723 | M5: =INT(C5-L5) -> 484 | N5: =L5+M5 -> 6207 | O5: =C5=N5 -> TRUE
A6: 4 | B6: 3-go Maja 24 | C6: ='3 Maja'!E59 -> 3045 | D6: ='3 Maja'!H59 -> 353 | E6: ='3 Maja'!K59 -> 257 | F6: ='3 Maja'!Y58 -> 3195 | G6: ='3 Maja'!AB54 -> 10 | H6: ='3 Maja'!AE58 -> 92 | I6: =C6+D6+F6+G6 -> 6603 | J6: =C6+E6+F6+H6 -> 6589 | K6: =(C6+E6)/C6 -> 1.0844007 | L6: =INT(C6/K6) -> 2808 | M6: =INT(C6-L6) -> 237 | N6: =L6+M6 -> 3045 | O6: =C6=N6 -> TRUE
A7: 5 | B7: 3-go Maja 24D | C7: ='3 Maja'!E17 -> 4560 | D7: ='3 Maja'!H17 -> 528 | E7: ='3 Maja'!K17 -> 385 | F7: ='3 Maja'!Y16 -> 4818 | G7: ='3 Maja'!AB16 -> 177 | H7: ='3 Maja'!AE16 -> 147 | I7: =C7+D7+F7+G7 -> 10083 | J7: =C7+E7+F7+H7 -> 9910 | K7: =(C7+E7)/C7 -> 1.0844298 | L7: =INT(C7/K7) -> 4204 | M7: =INT(C7-L7) -> 356 | N7: =L7+M7 -> 4560 | O7: =C7=N7 -> TRUE
A8: 6 | B8: 3-go Maja 24 E | C8: ='3 Maja'!E80 -> 3346 | D8: ='3 Maja'!H80 -> 389 | E8: ='3 Maja'!K80 -> 284 | F8: ='3 Maja'!Y79 -> 3492 | G8: ='3 Maja'!AB75 -> 11 | H8: ='3 Maja'!AE79 -> 100 | I8: =C8+D8+F8+G8 -> 7238 | J8: =C8+E8+F8+H8 -> 7222 | K8: =(C8+E8)/C8 -> 1.0848775 | L8: =INT(C8/K8) -> 3084 | M8: =INT(C8-L8) -> 262 | N8: =L8+M8 -> 3346 | O8: =C8=N8 -> TRUE
A9: 7 | B9: Lipowa 8 | C9: =Lipowa!E51 -> 2680 | D9: =Lipowa!H51 -> 310 | E9: =Lipowa!K51 -> 227 | F9: =Lipowa!Y50 -> 2922 | G9: =Lipowa!AB46 -> 9 | H9: =Lipowa!AE50 -> 76 | I9: =C9+D9+F9+G9 -> 5921 | J9: =C9+E9+F9+H9 -> 5905 | K9: =(C9+E9)/C9 -> 1.0847015 | L9: =INT(C9/K9) -> 2470 | M9: =INT(C9-L9) -> 210 | N9: =L9+M9 -> 2680 | O9: =C9=N9 -> TRUE
A10: 8 | B10: Chopina 19 B | C10: =Chopina!E68 -> 2670 | D10: =Chopina!H68 -> 309 | E10: =Chopina!K68 -> 226 | F10: =Chopina!Y67 -> 2802 | G10: =Chopina!AB63 -> 9 | H10: =Chopina!AE67 -> 74 | I10: =C10+D10+F10+G10 -> 5790 | J10: =C10+E10+F10+H10 -> 5772 | K10: =(C10+E10)/C10 -> 1.0846442 | L10: =INT(C10/K10) -> 2461 | M10: =INT(C10-L10) -> 209 | N10: =L10+M10 -> 2670 | O10: =C10=N10 -> TRUE
A11: 9 | B11: Chopina 19 | C11: =Chopina!E34 -> 2740 | D11: =Chopina!H34 -> 318 | E11: =Chopina!K34 -> 233 | F11: =Chopina!Y33 -> 2952 | G11: =Chopina!AB29 -> 9 | H11: =Chopina!AE33 -> 78 | I11: =C11+D11+F11+G11 -> 6019 | J11: =C11+E11+F11+H11 -> 6003 | K11: =(C11+E11)/C11 -> 1.0850365 | L11: =INT(C11/K11) -> 2525 | M11: =INT(C11-L11) -> 215 | N11: =L11+M11 -> 2740 | O11: =C11=N11 -> TRUE
A12: 10 | B12: Chopina 19 A | C12: =Chopina!E51 -> 3056 | D12: =Chopina!H51 -> 359 | E12: =Chopina!K51 -> 261 | F12: =Chopina!Y50 -> 2880 | G12: =Chopina!AB46 -> 9 | H12: =Chopina!AE50 -> 75 | I12: =C12+D12+F12+G12 -> 6304 | J12: =C12+E12+F12+H12 -> 6272 | K12: =(C12+E12)/C12 -> 1.0854058 | L12: =INT(C12/K12) -> 2815 | M12: =INT(C12-L12) -> 241 | N12: =L12+M12 -> 3056 | O12: =C12=N12 -> TRUE
A13: 11 | B13: 3-go Maja 2 | C13: ='3 Maja'!E38 -> 11534 | D13: ='3 Maja'!H38 -> 1337 | E13: ='3 Maja'!K38 -> 975 | F13: ='3 Maja'!Y37 -> 11898 | G13: ='3 Maja'!AB36 -> 10 | H13: ='3 Maja'!AE37 -> 377 | I13: =C13+D13+F13+G13 -> 24779 | J13: =C13+E13+F13+H13 -> 24784 | K13: =(C13+E13)/C13 -> 1.0845327 | L13: =INT(C13/K13) -> 10634 | M13: =INT(C13-L13) -> 900 | N13: =L13+M13 -> 11534 | O13: =C13=N13 -> TRUE
A14: 12 | B14: Chopina 15 | C14: =Chopina!E17 -> 6644 | D14: =Chopina!H17 -> 770 | E14: =Chopina!K17 -> 564 | F14: =Chopina!Y16 -> 6792 | G14: =Chopina!AB12 -> 22 | H14: =Chopina!AE16 -> 206 | I14: =C14+D14+F14+G14 -> 14228 | J14: =C14+E14+F14+H14 -> 14206 | K14: =(C14+E14)/C14 -> 1.0848886 | L14: =INT(C14/K14) -> 6124 | M14: =INT(C14-L14) -> 520 | N14: =L14+M14 -> 6644 | O14: =C14=N14 -> TRUE
A15: 13 | B15: Słowackiego 13 | C15: =Słowackiego!E60 -> 3590 | D15: =Słowackiego!H60 -> 418 | E15: =Słowackiego!K60 -> 306 | F15: =Słowackiego!Y59 -> 3666 | G15: =Słowackiego!AB55 -> 12 | H15: =Słowackiego!AE59 -> 106 | I15: =C15+D15+F15+G15 -> 7686 | J15: =C15+E15+F15+H15 -> 7668 | K15: =(C15+E15)/C15 -> 1.0852368 | L15: =INT(C15/K15) -> 3308 | M15: =INT(C15-L15) -> 282 | N15: =L15+M15 -> 3590 | O15: =C15=N15 -> TRUE
A16: 14 | B16: Lipowa 6 A | C16: =Lipowa!E34 -> 4690 | D16: =Lipowa!H34 -> 544 | E16: =Lipowa!K34 -> 399 | F16: =Lipowa!Y33 -> 4701 | G16: =Lipowa!AB29 -> 15 | H16: =Lipowa!AE33 -> 146 | I16: =C16+D16+F16+G16 -> 9950 | J16: =C16+E16+F16+H16 -> 9936 | K16: =(C16+E16)/C16 -> 1.0850746 | L16: =INT(C16/K16) -> 4322 | M16: =INT(C16-L16) -> 368 | N16: =L16+M16 -> 4690 | O16: =C16=N16 -> TRUE
A17: 15 | B17: Lipowa 1 A | C17: =Lipowa!E17 -> 5705 | D17: =Lipowa!H17 -> 661 | E17: =Lipowa!K17 -> 483 | F17: =Lipowa!Y16 -> 5804 | G17: =Lipowa!AB12 -> 18 | H17: =Lipowa!AE16 -> 179 | I17: =C17+D17+F17+G17 -> 12188 | J17: =C17+E17+F17+H17 -> 12171 | K17: =(C17+E17)/C17 -> 1.0846626 | L17: =INT(C17/K17) -> 5259 | M17: =INT(C17-L17) -> 446 | N17: =L17+M17 -> 5705 | O17: =C17=N17 -> TRUE
A18: 16 | B18: Szaniawskiego 66 | C18: =Szaniawskiego!E17 -> 2740 | D18: =Szaniawskiego!H17 -> 318 | E18: =Szaniawskiego!K17 -> 232 | F18: =Szaniawskiego!Y16 -> 2636 | G18: =Szaniawskiego!AB12 -> 8 | H18: =Szaniawskiego!AE16 -> 70 | I18: =C18+D18+F18+G18 -> 5702 | J18: =C18+E18+F18+H18 -> 5678 | K18: =(C18+E18)/C18 -> 1.0846715 | L18: =INT(C18/K18) -> 2526 | M18: =INT(C18-L18) -> 214 | N18: =L18+M18 -> 2740 | O18: =C18=N18 -> TRUE
A19: 17 | B19: Szaniawskiego 68 | C19: =Szaniawskiego!E38 -> 2667 | D19: =Szaniawskiego!H38 -> 308 | E19: =Szaniawskiego!K38 -> 224 | F19: =Szaniawskiego!Y37 -> 2646 | G19: =Szaniawskiego!AB33 -> 8 | H19: =Szaniawskiego!AE37 -> 70 | I19: =C19+D19+F19+G19 -> 5629 | J19: =C19+E19+F19+H19 -> 5607 | K19: =(C19+E19)/C19 -> 1.0839895 | L19: =INT(C19/K19) -> 2460 | M19: =INT(C19-L19) -> 207 | N19: =L19+M19 -> 2667 | O19: =C19=N19 -> TRUE
A20: 18 | B20: Słowackiego 3 A | C20: =Słowackiego!E17 -> 5078 | D20: =Słowackiego!H17 -> 592 | E20: =Słowackiego!K17 -> 432 | F20: =Słowackiego!Y16 -> 5200 | G20: =Słowackiego!AB12 -> 16 | H20: =Słowackiego!AE16 -> 160 | I20: =C20+D20+F20+G20 -> 10886 | J20: =C20+E20+F20+H20 -> 10870 | K20: =(C20+E20)/C20 -> 1.0850729 | L20: =INT(C20/K20) -> 4679 | M20: =INT(C20-L20) -> 399 | N20: =L20+M20 -> 5078 | O20: =C20=N20 -> TRUE
A21: 19 | B21: Słowackiego 3 B | C21: =Słowackiego!E38 -> 3945 | D21: =Słowackiego!H38 -> 457 | E21: =Słowackiego!K38 -> 335 | F21: =Słowackiego!Y37 -> 4280 | G21: =Słowackiego!AB33 -> 14 | H21: =Słowackiego!AE37 -> 124 | I21: =C21+D21+F21+G21 -> 8696 | J21: =C21+E21+F21+H21 -> 8684 | K21: =(C21+E21)/C21 -> 1.0849176 | L21: =INT(C21/K21) -> 3636 | M21: =INT(C21-L21) -> 309 | N21: =L21+M21 -> 3945 | O21: =C21=N21 -> TRUE
A22: 20 | B22: Cmentarna 14 | C22: =Cmentarna!E17 -> 2020 | D22: =Cmentarna!H17 -> 235 | E22: =Cmentarna!K17 -> 172 | F22: =Cmentarna!Y16 -> 2142 | G22: =Cmentarna!AB12 -> 0 | H22: =Cmentarna!AE16 -> 44 | I22: =C22+D22+F22+G22 -> 4397 | J22: =C22+E22+F22+H22 -> 4378 | K22: =(C22+E22)/C22 -> 1.0851485 | L22: =INT(C22/K22) -> 1861 | M22: =INT(C22-L22) -> 159 | N22: =L22+M22 -> 2020 | O22: =C22=N22 -> TRUE
A23: 21 | B23: Cmentarna 16 | C23: =Cmentarna!E34 -> 1550 | D23: =Cmentarna!H34 -> 178 | E23: =Cmentarna!K34 -> 131 | F23: =Cmentarna!Y33 -> 1692 | G23: =Cmentarna!AB29 -> 0 | H23: =Cmentarna!AE33 -> 28 | I23: =C23+D23+F23+G23 -> 3420 | J23: =C23+E23+F23+H23 -> 3401 | K23: =(C23+E23)/C23 -> 1.0845161 | L23: =INT(C23/K23) -> 1429 | M23: =INT(C23-L23) -> 121 | N23: =L23+M23 -> 1550 | O23: =C23=N23 -> TRUE
A24: 22 | B24: Orlicz-Dreszera 12 | C24: ='O.-Dreszera'!E17 -> 2690 | D24: ='O.-Dreszera'!H17 -> 311 | E24: ='O.-Dreszera'!K17 -> 226 | F24: ='O.-Dreszera'!Y16 -> 3000 | G24: ='O.-Dreszera'!AB12 -> 9 | H24: ='O.-Dreszera'!AE16 -> 85 | I24: =C24+D24+F24+G24 -> 6010 | J24: =C24+E24+F24+H24 -> 6001 | K24: =(C24+E24)/C24 -> 1.0840149 | L24: =INT(C24/K24) -> 2481 | M24: =INT(C24-L24) -> 209 | N24: =L24+M24 -> 2690 | O24: =C24=N24 -> TRUE
A25: 23 | B25: Orlicz-Dreszera 18 | C25: ='O.-Dreszera'!E34 -> 2559 | D25: ='O.-Dreszera'!H34 -> 297 | E25: ='O.-Dreszera'!K34 -> 216 | F25: ='O.-Dreszera'!Y33 -> 2628 | G25: ='O.-Dreszera'!AB29 -> 9 | H25: ='O.-Dreszera'!AE33 -> 68 | I25: =C25+D25+F25+G25 -> 5493 | J25: =C25+E25+F25+H25 -> 5471 | K25: =(2319+E25)/2319 -> 1.0931436 | L25: =INT(2319/K25) -> 2121 | M25: =INT(2319-L25) -> 198 | N25: =L25+M25 -> 2319 | O25: =C25=N25 -> FALSE
A26: 24 | B26: 1000-lecia 3 | C26: ='Aleje 1000-lecia'!E17 -> 1839 | D26: ='Aleje 1000-lecia'!H17 -> 214 | E26: ='Aleje 1000-lecia'!K17 -> 156 | F26: ='Aleje 1000-lecia'!Y16 -> 1932 | G26: ='Aleje 1000-lecia'!AB12 -> 0 | H26: ='Aleje 1000-lecia'!AE16 -> 33 | I26: =C26+D26+F26+G26 -> 3985 | J26: =C26+E26+F26+H26 -> 3960 | K26: =(C26+E26)/C26 -> 1.0848287 | L26: =INT(C26/K26) -> 1695 | M26: =INT(C26-L26) -> 144 | N26: =L26+M26 -> 1839 | O26: =C26=N26 -> TRUE
A27: 25 | B27: 1000-lecia 5 | C27: ='Aleje 1000-lecia'!E34 -> 2390 | D27: ='Aleje 1000-lecia'!H34 -> 277 | E27: ='Aleje 1000-lecia'!K34 -> 202 | F27: ='Aleje 1000-lecia'!Y33 -> 2592 | G27: ='Aleje 1000-lecia'!AB29 -> 8 | H27: ='Aleje 1000-lecia'!AE33 -> 68 | I27: =C27+D27+F27+G27 -> 5267 | J27: =C27+E27+F27+H27 -> 5252 | K27: =(C27+E27)/C27 -> 1.0845188 | L27: =INT(C27/K27) -> 2203 | M27: =INT(C27-L27) -> 187 | N27: =L27+M27 -> 2390 | O27: =C27=N27 -> TRUE
A28: 26 | B28: Powstańców W-wy 1 | C28: ='Powstańców W-wy'!F17 -> 6840 | D28: ='Powstańców W-wy'!I17 -> 794 | E28: ='Powstańców W-wy'!L17 -> 580 | F28: ='Powstańców W-wy'!Z16 -> 7152 | G28: ='Powstańców W-wy'!AC12 -> 23 | H28: ='Powstańców W-wy'!AF16 -> 219 | I28: =C28+D28+F28+G28 -> 14809 | J28: =C28+E28+F28+H28 -> 14791 | K28: =(C28+E28)/C28 -> 1.0847953 | L28: =INT(C28/K28) -> 6305 | M28: =INT(C28-L28) -> 535 | N28: =L28+M28 -> 6840 | O28: =C28=N28 -> TRUE
A29: 27 | B29: Powstańców W-wy 3 | C29: ='Powstańców W-wy'!F34 -> 3410 | D29: ='Powstańców W-wy'!I34 -> 395 | E29: ='Powstańców W-wy'!L34 -> 288 | F29: ='Powstańców W-wy'!Z33 -> 3672 | G29: ='Powstańców W-wy'!AC29 -> 12 | H29: ='Powstańców W-wy'!AF33 -> 105 | I29: =C29+D29+F29+G29 -> 7489 | J29: =C29+E29+F29+H29 -> 7475 | K29: =(C29+E29)/C29 -> 1.0844575 | L29: =INT(C29/K29) -> 3144 | M29: =INT(C29-L29) -> 266 | N29: =L29+M29 -> 3410 | O29: =C29=N29 -> TRUE
A30: 28 | B30: Powstańców W-wy 5 | C30: ='Powstańców W-wy'!F51 -> 3876 | D30: ='Powstańców W-wy'!I51 -> 451 | E30: ='Powstańców W-wy'!L51 -> 329 | F30: ='Powstańców W-wy'!Z50 -> 3900 | G30: ='Powstańców W-wy'!AC46 -> 12 | H30: ='Powstańców W-wy'!AF50 -> 113 | I30: =C30+D30+F30+G30 -> 8239 | J30: =C30+E30+F30+H30 -> 8218 | K30: =(C30+E30)/C30 -> 1.0848813 | L30: =INT(C30/K30) -> 3572 | M30: =INT(C30-L30) -> 304 | N30: =L30+M30 -> 3876 | O30: =C30=N30 -> TRUE
A31: 29 | B31: Powstańców W-wy 7 | C31: ='Powstańców W-wy'!F68 -> 8343 | D31: ='Powstańców W-wy'!I68 -> 966 | E31: ='Powstańców W-wy'!L68 -> 708 | F31: ='Powstańców W-wy'!Z67 -> 8781 | G31: ='Powstańców W-wy'!AC63 -> 28 | H31: ='Powstańców W-wy'!AF67 -> 274 | I31: =C31+D31+F31+G31 -> 18118 | J31: =C31+E31+F31+H31 -> 18106 | K31: =(C31+E31)/C31 -> 1.0848616 | L31: =INT(C31/K31) -> 7690 | M31: =INT(C31-L31) -> 653 | N31: =L31+M31 -> 8343 | O31: =C31=N31 -> TRUE
A32: 30 | B32: Powstańców W-wy 15 | C32: ='Powstańców W-wy'!F85 -> 5370 | D32: ='Powstańców W-wy'!I85 -> 622 | E32: ='Powstańców W-wy'!L85 -> 455 | F32: ='Powstańców W-wy'!Z84 -> 5934 | G32: ='Powstańców W-wy'!AC80 -> 19 | H32: ='Powstańców W-wy'!AF84 -> 182 | I32: =C32+D32+F32+G32 -> 11945 | J32: =C32+E32+F32+H32 -> 11941 | K32: =(C32+E32)/C32 -> 1.08473 | L32: =INT(C32/K32) -> 4950 | M32: =INT(C32-L32) -> 420 | N32: =L32+M32 -> 5370 | O32: =C32=N32 -> TRUE
A33: 31 | B33: Powstańców W-wy 17 | C33: ='Powstańców W-wy'!F102 -> 4463 | D33: ='Powstańców W-wy'!I102 -> 519 | E33: ='Powstańców W-wy'!L102 -> 378 | F33: ='Powstańców W-wy'!Z101 -> 4722 | G33: ='Powstańców W-wy'!AC97 -> 15 | H33: ='Powstańców W-wy'!AF101 -> 144 | I33: =C33+D33+F33+G33 -> 9719 | J33: =C33+E33+F33+H33 -> 9707 | K33: =(C33+E33)/C33 -> 1.0846964 | L33: =INT(C33/K33) -> 4114 | M33: =INT(C33-L33) -> 349 | N33: =L33+M33 -> 4463 | O33: =C33=N33 -> TRUE
A34: 32 | B34: Powstańców W-wy 21 | C34: ='Powstańców W-wy'!F119 -> 4153 | D34: ='Powstańców W-wy'!I119 -> 482 | E34: ='Powstańców W-wy'!L119 -> 352 | F34: ='Powstańców W-wy'!Z118 -> 4428 | G34: ='Powstańców W-wy'!AC114 -> 14 | H34: ='Powstańców W-wy'!AF118 -> 134 | I34: =C34+D34+F34+G34 -> 9077 | J34: =C34+E34+F34+H34 -> 9067 | K34: =(C34+E34)/C34 -> 1.084758 | L34: =INT(C34/K34) -> 3828 | M34: =INT(C34-L34) -> 325 | N34: =L34+M34 -> 4153 | O34: =C34=N34 -> TRUE
A35: 33 | B35: Powstańców W-wy 71 | C35: ='Powstańców W-wy'!F136 -> 5375 | D35: ='Powstańców W-wy'!I136 -> 622 | E35: ='Powstańców W-wy'!L136 -> 457 | F35: ='Powstańców W-wy'!Z135 -> 5460 | G35: ='Powstańców W-wy'!AC131 -> 17 | H35: ='Powstańców W-wy'!AF135 -> 168 | I35: =C35+D35+F35+G35 -> 11474 | J35: =C35+E35+F35+H35 -> 11460 | K35: =(C35+E35)/C35 -> 1.0850233 | L35: =INT(C35/K35) -> 4953 | M35: =INT(C35-L35) -> 422 | N35: =L35+M35 -> 5375 | O35: =C35=N35 -> TRUE
A36: 34 | B36: Powstańców W-wy 73 | C36: ='Powstańców W-wy'!F153 -> 4290 | D36: ='Powstańców W-wy'!I153 -> 497 | E36: ='Powstańców W-wy'!L153 -> 360 | F36: ='Powstańców W-wy'!Z152 -> 4432 | G36: ='Powstańców W-wy'!AC148 -> 14 | H36: ='Powstańców W-wy'!AF152 -> 129 | I36: =C36+D36+F36+G36 -> 9233 | J36: =C36+E36+F36+H36 -> 9211 | K36: =(C36+E36)/C36 -> 1.0839161 | L36: =INT(C36/K36) -> 3957 | M36: =INT(C36-L36) -> 333 | N36: =L36+M36 -> 4290 | O36: =C36=N36 -> TRUE
A37: 35 | B37: Powstańców W-wy 75 | C37: ='Powstańców W-wy'!F170 -> 6472 | D37: ='Powstańców W-wy'!I170 -> 750 | E37: ='Powstańców W-wy'!L170 -> 548 | F37: ='Powstańców W-wy'!Z169 -> 6714 | G37: ='Powstańców W-wy'!AC165 -> 21 | H37: ='Powstańców W-wy'!AF169 -> 207 | I37: =C37+D37+F37+G37 -> 13957 | J37: =C37+E37+F37+H37 -> 13941 | K37: =(C37+E37)/C37 -> 1.0846724 | L37: =INT(C37/K37) -> 5966 | M37: =INT(C37-L37) -> 506 | N37: =L37+M37 -> 6472 | O37: =C37=N37 -> TRUE
A38: 36 | B38: Powstańców W-wy 77 | C38: ='Powstańców W-wy'!F187 -> 7782 | D38: ='Powstańców W-wy'!I187 -> 903 | E38: ='Powstańców W-wy'!L187 -> 658 | F38: ='Powstańców W-wy'!Z186 -> 8064 | G38: ='Powstańców W-wy'!AC182 -> 26 | H38: ='Powstańców W-wy'!AF186 -> 247 | I38: =C38+D38+F38+G38 -> 16775 | J38: =C38+E38+F38+H38 -> 16751 | K38: =(C38+E38)/C38 -> 1.0845541 | L38: =INT(C38/K38) -> 7175 | M38: =INT(C38-L38) -> 607 | N38: =L38+M38 -> 7782 | O38: =C38=N38 -> TRUE
A39: 37 | B39: Powstańców W-wy 79 | C39: ='Powstańców W-wy'!F204 -> 7685 | D39: ='Powstańców W-wy'!I204 -> 894 | E39: ='Powstańców W-wy'!L204 -> 651 | F39: ='Powstańców W-wy'!Z203 -> 7428 | G39: ='Powstańców W-wy'!AC199 -> 23 | H39: ='Powstańców W-wy'!AF203 -> 227 | I39: =C39+D39+F39+G39 -> 16030 | J39: =C39+E39+F39+H39 -> 15991 | K39: =(C39+E39)/C39 -> 1.0847105 | L39: =INT(C39/K39) -> 7084 | M39: =INT(C39-L39) -> 601 | N39: =L39+M39 -> 7685 | O39: =C39=N39 -> TRUE
A40: 38 | B40: A. Mickiewicza 8 A | C40: =Mickiewicza!E17 -> 4445 | D40: =Mickiewicza!H17 -> 515 | E40: =Mickiewicza!K17 -> 375 | F40: =Mickiewicza!Y16 -> 4584 | G40: =Mickiewicza!AB12 -> 14 | H40: =Mickiewicza!AE16 -> 141 | I40: =C40+D40+F40+G40 -> 9558 | J40: =C40+E40+F40+H40 -> 9545 | K40: =(C40+E40)/C40 -> 1.0843645 | L40: =INT(C40/K40) -> 4099 | M40: =INT(C40-L40) -> 346 | N40: =L40+M40 -> 4445 | O40: =C40=N40 -> TRUE
A41: 39 | B41: Cicha 9 | C41: =Cicha!E81 -> 3740 | D41: =Cicha!H81 -> 433 | E41: =Cicha!K81 -> 317 | F41: =Cicha!Y80 -> 3856 | G41: =Cicha!AB76 -> 12 | H41: =Cicha!AE80 -> 111 | I41: =C41+D41+F41+G41 -> 8041 | J41: =C41+E41+F41+H41 -> 8024 | K41: =(C41+E41)/C41 -> 1.0847594 | L41: =INT(C41/K41) -> 3447 | M41: =INT(C41-L41) -> 293 | N41: =L41+M41 -> 3740 | O41: =C41=N41 -> TRUE
A42: 40 | B42: Cicha 11 | C42: =Cicha!E102 -> 4905 | D42: =Cicha!H102 -> 566 | E42: =Cicha!K102 -> 413 | F42: =Cicha!Y101 -> 5136 | G42: =Cicha!AB97 -> 16 | H42: =Cicha!AE101 -> 157 | I42: =C42+D42+F42+G42 -> 10623 | J42: =C42+E42+F42+H42 -> 10611 | K42: =(C42+E42)/C42 -> 1.0841998 | L42: =INT(C42/K42) -> 4524 | M42: =INT(C42-L42) -> 381 | N42: =L42+M42 -> 4905 | O42: =C42=N42 -> TRUE
A43: 41 | B43: Cicha 17 | C43: =Cicha!E188 -> 4599 | D43: =Cicha!H188 -> 533 | E43: =Cicha!K188 -> 389 | F43: =Cicha!Y187 -> 4548 | G43: =Cicha!AB183 -> 14 | H43: =Cicha!AE187 -> 140 | I43: =C43+D43+F43+G43 -> 9694 | J43: =C43+E43+F43+H43 -> 9676 | K43: =(C43+E43)/C43 -> 1.0845836 | L43: =INT(C43/K43) -> 4240 | M43: =INT(C43-L43) -> 359 | N43: =L43+M43 -> 4599 | O43: =C43=N43 -> TRUE
A44: 42 | B44: Cicha 13 | C44: =Cicha!E124 -> 2032 | D44: =Cicha!H124 -> 234 | E44: =Cicha!K124 -> 172 | F44: =Cicha!Y123 -> 2160 | G44: =Cicha!AB119 -> 0 | H44: =Cicha!AE123 -> 44 | I44: =C44+D44+F44+G44 -> 4426 | J44: =C44+E44+F44+H44 -> 4408 | K44: =(C44+E44)/C44 -> 1.0846457 | L44: =INT(C44/K44) -> 1873 | M44: =INT(C44-L44) -> 159 | N44: =L44+M44 -> 2032 | O44: =C44=N44 -> TRUE
A45: 43 | B45: Cicha 15 | C45: =Cicha!E145 -> 6168 | D45: =Cicha!H145 -> 715 | E45: =Cicha!K145 -> 523 | F45: =Cicha!Y144 -> 6030 | G45: =Cicha!AB140 -> 19 | H45: =Cicha!AE144 -> 186 | I45: =C45+D45+F45+G45 -> 12932 | J45: =C45+E45+F45+H45 -> 12907 | K45: =(C45+E45)/C45 -> 1.0847925 | L45: =INT(C45/K45) -> 5685 | M45: =INT(C45-L45) -> 483 | N45: =L45+M45 -> 6168 | O45: =C45=N45 -> TRUE
A46: 44 | B46: Cicha 3 | C46: =Cicha!E17 -> 5997 | D46: =Cicha!H17 -> 697 | E46: =Cicha!K17 -> 509 | F46: =Cicha!Y16 -> 6084 | G46: =Cicha!AB12 -> 19 | H46: =Cicha!AE16 -> 186 | I46: =C46+D46+F46+G46 -> 12797 | J46: =C46+E46+F46+H46 -> 12776 | K46: =(C46+E46)/C46 -> 1.0848758 | L46: =INT(C46/K46) -> 5527 | M46: =INT(C46-L46) -> 470 | N46: =L46+M46 -> 5997 | O46: =C46=N46 -> TRUE
A47: 45 | B47: Cicha 5 | C47: =Cicha!E39 -> 5356 | D47: =Cicha!H39 -> 623 | E47: =Cicha!K39 -> 453 | F47: =Cicha!Y38 -> 5616 | G47: =Cicha!AB34 -> 18 | H47: =Cicha!AE38 -> 171 | I47: =C47+D47+F47+G47 -> 11613 | J47: =C47+E47+F47+H47 -> 11596 | K47: =(C47+E47)/C47 -> 1.084578 | L47: =INT(C47/K47) -> 4938 | M47: =INT(C47-L47) -> 418 | N47: =L47+M47 -> 5356 | O47: =C47=N47 -> TRUE
A48: 46 | B48: Cicha 7 | C48: =Cicha!E60 -> 4654 | D48: =Cicha!H60 -> 539 | E48: =Cicha!K60 -> 395 | F48: =Cicha!Y59 -> 4998 | G48: =Cicha!AB55 -> 16 | H48: =Cicha!AE59 -> 153 | I48: =C48+D48+F48+G48 -> 10207 | J48: =C48+E48+F48+H48 -> 10200 | K48: =(C48+E48)/C48 -> 1.0848732 | L48: =INT(C48/K48) -> 4289 | M48: =INT(C48-L48) -> 365 | N48: =L48+M48 -> 4654 | O48: =C48=N48 -> TRUE
A49: 47 | B49: Krzywe Koło 34 | C49: ='Krzywe Koło'!E17 -> 6722 | D49: ='Krzywe Koło'!H17 -> 778 | E49: ='Krzywe Koło'!K17 -> 567 | F49: ='Krzywe Koło'!Y16 -> 7044 | G49: ='Krzywe Koło'!AB12 -> 22 | H49: ='Krzywe Koło'!AE16 -> 216 | I49: =C49+D49+F49+G49 -> 14566 | J49: =C49+E49+F49+H49 -> 14549 | K49: =(C49+E49)/C49 -> 1.0843499 | L49: =INT(C49/K49) -> 6199 | M49: =INT(C49-L49) -> 523 | N49: =L49+M49 -> 6722 | O49: =C49=N49 -> TRUE
A50: 48 | B50: Krzywe Koło 34 B | C50: ='Krzywe Koło'!E34 -> 416 | D50: ='Krzywe Koło'!H34 -> 0 | E50: ='Krzywe Koło'!K34 -> 0 | F50: ='Krzywe Koło'!Y33 -> 432 | G50: ='Krzywe Koło'!AB29 -> 0 | H50: ='Krzywe Koło'!AE33 -> 0 | I50: =C50+D50+F50+G50 -> 848 | J50: =C50+E50+F50+H50 -> 848 | K50: =(C50+E50)/C50 -> 1 | L50: =INT(C50/K50) -> 416 | M50: =INT(C50-L50) -> 0 | N50: =L50+M50 -> 416 | O50: =C50=N50 -> TRUE
A51: 49 | B51: 1-go Maja 59 | C51: ='1 Maja'!E17 -> 7224 | D51: ='1 Maja'!H17 -> 841 | E51: ='1 Maja'!K17 -> 614 | F51: ='1 Maja'!Y16 -> 7200 | G51: ='1 Maja'!AB12 -> 23 | H51: ='1 Maja'!AE16 -> 220 | I51: =C51+D51+F51+G51 -> 15288 | J51: =C51+E51+F51+H51 -> 15258 | K51: =(C51+E51)/C51 -> 1.0849945 | L51: =INT(C51/K51) -> 6658 | M51: =INT(C51-L51) -> 566 | N51: =L51+M51 -> 7224 | O51: =C51=N51 -> TRUE
A52: 50 | B52: 1-go Maja 61 | C52: ='1 Maja'!E38 -> 4284 | D52: ='1 Maja'!H38 -> 496 | E52: ='1 Maja'!K38 -> 364 | F52: ='1 Maja'!Y37 -> 4464 | G52: ='1 Maja'!AB33 -> 14 | H52: ='1 Maja'!AE37 -> 138 | I52: =C52+D52+F52+G52 -> 9258 | J52: =C52+E52+F52+H52 -> 9250 | K52: =(C52+E52)/C52 -> 1.0849673 | L52: =INT(C52/K52) -> 3948 | M52: =INT(C52-L52) -> 336 | N52: =L52+M52 -> 4284 | O52: =C52=N52 -> TRUE
A53: 51 | B53: 1-go Maja 63 | C53: ='1 Maja'!E60 -> 4470 | D53: ='1 Maja'!H60 -> 519 | E53: ='1 Maja'!K60 -> 380 | F53: ='1 Maja'!Y59 -> 4586 | G53: ='1 Maja'!AB55 -> 14 | H53: ='1 Maja'!AE59 -> 142 | I53: =C53+D53+F53+G53 -> 9589 | J53: =C53+E53+F53+H53 -> 9578 | K53: =(C53+E53)/C53 -> 1.0850112 | L53: =INT(C53/K53) -> 4119 | M53: =INT(C53-L53) -> 351 | N53: =L53+M53 -> 4470 | O53: =C53=N53 -> TRUE
A54: 52 | B54: 1-go Maja 69 | C54: ='1 Maja'!E102 -> 3949 | D54: ='1 Maja'!H102 -> 459 | E54: ='1 Maja'!K102 -> 334 | F54: ='1 Maja'!Y101 -> 4044 | G54: ='1 Maja'!AB97 -> 13 | H54: ='1 Maja'!AE101 -> 119 | I54: =C54+D54+F54+G54 -> 8465 | J54: =C54+E54+F54+H54 -> 8446 | K54: =(C54+E54)/C54 -> 1.0845784 | L54: =INT(C54/K54) -> 3641 | M54: =INT(C54-L54) -> 308 | N54: =L54+M54 -> 3949 | O54: =C54=N54 -> TRUE
A55: 53 | B55: 1-go Maja 71 | C55: ='1 Maja'!E123 -> 5866 | D55: ='1 Maja'!H123 -> 677 | E55: ='1 Maja'!K123 -> 497 | F55: ='1 Maja'!Y122 -> 6156 | G55: ='1 Maja'!AB118 -> 19 | H55: ='1 Maja'!AE122 -> 189 | I55: =C55+D55+F55+G55 -> 12718 | J55: =C55+E55+F55+H55 -> 12708 | K55: =(C55+E55)/C55 -> 1.0847255 | L55: =INT(C55/K55) -> 5407 | M55: =INT(C55-L55) -> 459 | N55: =L55+M55 -> 5866 | O55: =C55=N55 -> TRUE
A56: 54 | B56: 1-go Maja 73 | C56: ='1 Maja'!E144 -> 4221 | D56: ='1 Maja'!H144 -> 490 | E56: ='1 Maja'!K144 -> 355 | F56: ='1 Maja'!Y143 -> 4337 | G56: ='1 Maja'!AB139 -> 14 | H56: ='1 Maja'!AE143 -> 127 | I56: =C56+D56+F56+G56 -> 9062 | J56: =C56+E56+F56+H56 -> 9040 | K56: =(C56+E56)/C56 -> 1.0841033 | L56: =INT(C56/K56) -> 3893 | M56: =INT(C56-L56) -> 328 | N56: =L56+M56 -> 4221 | O56: =C56=N56 -> TRUE
A57: 55 | B57: Lubelska 85 | C57: =Lubelska!E102 -> 2830 | D57: =Lubelska!H102 -> 329 | E57: =Lubelska!K102 -> 241 | F57: =Lubelska!Y101 -> 2934 | G57: =Lubelska!AB97 -> 9 | H57: =Lubelska!AE101 -> 92 | I57: =C57+D57+F57+G57 -> 6102 | J57: =C57+E57+F57+H57 -> 6097 | K57: =(C57+E57)/C57 -> 1.085159 | L57: =INT(C57/K57) -> 2607 | M57: =INT(C57-L57) -> 223 | N57: =L57+M57 -> 2830 | O57: =C57=N57 -> TRUE
A58: 56 | B58: Lubelska 87 | C58: =Lubelska!E123 -> 2745 | D58: =Lubelska!H123 -> 318 | E58: =Lubelska!K123 -> 234 | F58: =Lubelska!Y122 -> 2838 | G58: =Lubelska!AB118 -> 9 | H58: =Lubelska!AE122 -> 75 | I58: =C58+D58+F58+G58 -> 5910 | J58: =C58+E58+F58+H58 -> 5892 | K58: =(C58+E58)/C58 -> 1.0852459 | L58: =INT(C58/K58) -> 2529 | M58: =INT(C58-L58) -> 216 | N58: =L58+M58 -> 2745 | O58: =C58=N58 -> TRUE
A59: 57 | B59: 1-go Maja 75 | C59: ='1 Maja'!E165 -> 6453 | D59: ='1 Maja'!H165 -> 747 | E59: ='1 Maja'!K165 -> 546 | F59: ='1 Maja'!Y164 -> 5982 | G59: ='1 Maja'!AB160 -> 19 | H59: ='1 Maja'!AE164 -> 182 | I59: =C59+D59+F59+G59 -> 13201 | J59: =C59+E59+F59+H59 -> 13163 | K59: =(C59+E59)/C59 -> 1.0846118 | L59: =INT(C59/K59) -> 5949 | M59: =INT(C59-L59) -> 504 | N59: =L59+M59 -> 6453 | O59: =C59=N59 -> TRUE
A60: 58 | B60: 1-go Maja 81 | C60: ='1 Maja'!E228 -> 4430 | D60: ='1 Maja'!H228 -> 514 | E60: ='1 Maja'!K228 -> 374 | F60: ='1 Maja'!Y227 -> 4716 | G60: ='1 Maja'!AB223 -> 15 | H60: ='1 Maja'!AE227 -> 144 | I60: =C60+D60+F60+G60 -> 9675 | J60: =C60+E60+F60+H60 -> 9664 | K60: =(C60+E60)/C60 -> 1.0844244 | L60: =INT(C60/K60) -> 4085 | M60: =INT(C60-L60) -> 345 | N60: =L60+M60 -> 4430 | O60: =C60=N60 -> TRUE
A61: 59 | B61: 1-go Maja 85 | C61: ='1 Maja'!E270 -> 6009 | D61: ='1 Maja'!H270 -> 699 | E61: ='1 Maja'!K270 -> 510 | F61: ='1 Maja'!Y269 -> 5956 | G61: ='1 Maja'!AB265 -> 19 | H61: ='1 Maja'!AE269 -> 183 | I61: =C61+D61+F61+G61 -> 12683 | J61: =C61+E61+F61+H61 -> 12658 | K61: =(C61+E61)/C61 -> 1.0848727 | L61: =INT(C61/K61) -> 5538 | M61: =INT(C61-L61) -> 471 | N61: =L61+M61 -> 6009 | O61: =C61=N61 -> TRUE
A62: 60 | B62: 1-go Maja 79 | C62: ='1 Maja'!E207 -> 5164 | D62: ='1 Maja'!H207 -> 600 | E62: ='1 Maja'!K207 -> 438 | F62: ='1 Maja'!Y206 -> 5208 | G62: ='1 Maja'!AB202 -> 16 | H62: ='1 Maja'!AE206 -> 159 | I62: =C62+D62+F62+G62 -> 10988 | J62: =C62+E62+F62+H62 -> 10969 | K62: =(C62+E62)/C62 -> 1.084818 | L62: =INT(C62/K62) -> 4760 | M62: =INT(C62-L62) -> 404 | N62: =L62+M62 -> 5164 | O62: =C62=N62 -> TRUE
A63: 61 | B63: 1-go Maja 83 | C63: ='1 Maja'!E249 -> 4705 | D63: ='1 Maja'!H249 -> 544 | E63: ='1 Maja'!K249 -> 397 | F63: ='1 Maja'!Y248 -> 4812 | G63: ='1 Maja'!AB244 -> 15 | H63: ='1 Maja'!AE248 -> 148 | I63: =C63+D63+F63+G63 -> 10076 | J63: =C63+E63+F63+H63 -> 10062 | K63: =(C63+E63)/C63 -> 1.0843783 | L63: =INT(C63/K63) -> 4338 | M63: =INT(C63-L63) -> 367 | N63: =L63+M63 -> 4705 | O63: =C63=N63 -> TRUE
A64: 62 | B64: 1-go Maja 87 | C64: ='1 Maja'!E291 -> 6105 | D64: ='1 Maja'!H291 -> 708 | E64: ='1 Maja'!K291 -> 517 | F64: ='1 Maja'!Y290 -> 6312 | G64: ='1 Maja'!AB286 -> 20 | H64: ='1 Maja'!AE290 -> 193 | I64: =C64+D64+F64+G64 -> 13145 | J64: =C64+E64+F64+H64 -> 13127 | K64: =(C64+E64)/C64 -> 1.0846847 | L64: =INT(C64/K64) -> 5628 | M64: =INT(C64-L64) -> 477 | N64: =L64+M64 -> 6105 | O64: =C64=N64 -> TRUE
A65: 63 | B65: Lubelska 63 | C65: =Lubelska!E17 -> 4070 | D65: =Lubelska!H17 -> 472 | E65: =Lubelska!K17 -> 343 | F65: =Lubelska!Y16 -> 4326 | G65: =Lubelska!AB12 -> 14 | H65: =Lubelska!AE16 -> 126 | I65: =C65+D65+F65+G65 -> 8882 | J65: =C65+E65+F65+H65 -> 8865 | K65: =(C65+E65)/C65 -> 1.0842752 | L65: =INT(C65/K65) -> 3753 | M65: =INT(C65-L65) -> 317 | N65: =L65+M65 -> 4070 | O65: =C65=N65 -> TRUE
A66: 64 | B66: Lubelska 73 | C66: =Lubelska!E38 -> 4480 | D66: =Lubelska!H38 -> 518 | E66: =Lubelska!K38 -> 377 | F66: =Lubelska!Y37 -> 4674 | G66: =Lubelska!AB33 -> 15 | H66: =Lubelska!AE37 -> 145 | I66: =C66+D66+F66+G66 -> 9687 | J66: =C66+E66+F66+H66 -> 9676 | K66: =(C66+E66)/C66 -> 1.0841518 | L66: =INT(C66/K66) -> 4132 | M66: =INT(C66-L66) -> 348 | N66: =L66+M66 -> 4480 | O66: =C66=N66 -> TRUE
A67: 65 | B67: Lubelska 77 | C67: =Lubelska!E59 -> 4950 | D67: =Lubelska!H59 -> 574 | E67: =Lubelska!K59 -> 417 | F67: =Lubelska!Y58 -> 5202 | G67: =Lubelska!AB54 -> 17 | H67: =Lubelska!AE58 -> 160 | I67: =C67+D67+F67+G67 -> 10743 | J67: =C67+E67+F67+H67 -> 10729 | K67: =(C67+E67)/C67 -> 1.0842424 | L67: =INT(C67/K67) -> 4565 | M67: =INT(C67-L67) -> 385 | N67: =L67+M67 -> 4950 | O67: =C67=N67 -> TRUE
A68: 66 | B68: Lubelska 79 | C68: =Lubelska!E81 -> 6041 | D68: =Lubelska!H81 -> 699 | E68: =Lubelska!K81 -> 510 | F68: =Lubelska!Y80 -> 6528 | G68: =Lubelska!AB76 -> 21 | H68: =Lubelska!AE80 -> 200 | I68: =C68+D68+F68+G68 -> 13289 | J68: =C68+E68+F68+H68 -> 13279 | K68: =(C68+E68)/C68 -> 1.0844231 | L68: =INT(6046/K68) -> 5575 | M68: =INT(6046-L68) -> 471 | N68: =L68+M68 -> 6046 | O68: =C68=N68 -> FALSE
A69: 67 | B69: 1-go Maja 77 | C69: ='1 Maja'!E186 -> 5225 | D69: ='1 Maja'!H186 -> 607 | E69: ='1 Maja'!K186 -> 442 | F69: ='1 Maja'!Y185 -> 5346 | G69: ='1 Maja'!AB181 -> 17 | H69: ='1 Maja'!AE185 -> 165 | I69: =C69+D69+F69+G69 -> 11195 | J69: =C69+E69+F69+H69 -> 11178 | K69: =(C69+E69)/C69 -> 1.0845933 | L69: =INT(C69/K69) -> 4817 | M69: =INT(C69-L69) -> 408 | N69: =L69+M69 -> 5225 | O69: =C69=N69 -> TRUE
A70: 68 | B70: Popiełuszki 2 | C70: =Popiełuszki!E17 -> 6241 | D70: =Popiełuszki!H17 -> 723 | E70: =Popiełuszki!K17 -> 529 | F70: =Popiełuszki!Y16 -> 6670 | G70: =Popiełuszki!AB12 -> 21 | H70: =Popiełuszki!AE16 -> 205 | I70: =C70+D70+F70+G70 -> 13655 | J70: =C70+E70+F70+H70 -> 13645 | K70: =(C70+E70)/C70 -> 1.0847621 | L70: =INT(C70/K70) -> 5753 | M70: =INT(C70-L70) -> 488 | N70: =L70+M70 -> 6241 | O70: =C70=N70 -> TRUE
A71: 69 | B71: Popiełuszki 4 | C71: =Popiełuszki!E38 -> 6610 | D71: =Popiełuszki!H38 -> 766 | E71: =Popiełuszki!K38 -> 559 | F71: =Popiełuszki!Y37 -> 7068 | G71: =Popiełuszki!AB33 -> 22 | H71: =Popiełuszki!AE37 -> 215 | I71: =C71+D71+F71+G71 -> 14466 | J71: =C71+E71+F71+H71 -> 14452 | K71: =(C71+E71)/C71 -> 1.0845688 | L71: =INT(C71/K71) -> 6094 | M71: =INT(C71-L71) -> 516 | N71: =L71+M71 -> 6610 | O71: =C71=N71 -> TRUE
A72: 70 | B72: Popiełuszki 8 | C72: =Popiełuszki!E115 -> 4650 | D72: =Popiełuszki!H115 -> 536 | E72: =Popiełuszki!K115 -> 392 | F72: =Popiełuszki!Y114 -> 4800 | G72: =Popiełuszki!AB110 -> 15 | H72: =Popiełuszki!AE114 -> 146 | I72: =C72+D72+F72+G72 -> 10001 | J72: =C72+E72+F72+H72 -> 9988 | K72: =(C72+E72)/C72 -> 1.0843011 | L72: =INT(C72/K72) -> 4288 | M72: =INT(C72-L72) -> 362 | N72: =L72+M72 -> 4650 | O72: =C72=N72 -> TRUE
A73: 71 | B73: Popiełuszki 10 | C73: =Popiełuszki!E150 -> 4390 | D73: =Popiełuszki!H150 -> 508 | E73: =Popiełuszki!K150 -> 369 | F73: =Popiełuszki!Y149 -> 4728 | G73: =Popiełuszki!AB145 -> 15 | H73: =Popiełuszki!AE149 -> 144 | I73: =C73+D73+F73+G73 -> 9641 | J73: =C73+E73+F73+H73 -> 9631 | K73: =(C73+E73)/C73 -> 1.0840547 | L73: =INT(4413/K73) -> 4070 | M73: =INT(4413-L73) -> 343 | N73: =L73+M73 -> 4413 | O73: =C73=N73 -> FALSE
A74: 72 | B74: Popiełuszki 10 A | C74: =Popiełuszki!E167 -> 1594 | D74: =Popiełuszki!H167 -> 184 | E74: =Popiełuszki!K167 -> 133 | F74: =Popiełuszki!Y166 -> 1642 | G74: =Popiełuszki!AB162 -> 0 | H74: =Popiełuszki!AE166 -> 28 | I74: =C74+D74+F74+G74 -> 3420 | J74: =C74+E74+F74+H74 -> 3397 | K74: =(C74+E74)/C74 -> 1.0834379 | L74: =INT(C74/K74) -> 1471 | M74: =INT(C74-L74) -> 123 | N74: =L74+M74 -> 1594 | O74: =C74=N74 -> TRUE
A75: 73 | B75: Popiełuszki 6 | C75: =Popiełuszki!E80 -> 7611 | D75: =Popiełuszki!H80 -> 884 | E75: =Popiełuszki!K80 -> 645 | F75: =Popiełuszki!Y79 -> 7890 | G75: =Popiełuszki!AB75 -> 25 | H75: =Popiełuszki!AE79 -> 244 | I75: =C75+D75+F75+G75 -> 16410 | J75: =C75+E75+F75+H75 -> 16390 | K75: =(C75+E75)/C75 -> 1.0847458 | L75: =INT(C75/K75) -> 7016 | M75: =INT(C75-L75) -> 595 | N75: =L75+M75 -> 7611 | O75: =C75=N75 -> TRUE
A76: 74 | B76: Popiełuszki 5 | C76: =Popiełuszki!E59 -> 5330 | D76: =Popiełuszki!H59 -> 617 | E76: =Popiełuszki!K59 -> 452 | F76: =Popiełuszki!Y58 -> 5382 | G76: =Popiełuszki!AB54 -> 17 | H76: =Popiełuszki!AE58 -> 166 | I76: =C76+D76+F76+G76 -> 11346 | J76: =C76+E76+F76+H76 -> 11330 | K76: =(C76+E76)/C76 -> 1.084803 | L76: =INT(C76/K76) -> 4913 | M76: =INT(C76-L76) -> 417 | N76: =L76+M76 -> 5330 | O76: =C76=N76 -> TRUE
A77: 75 | B77: Popiełuszki 7 | C77: =Popiełuszki!E97 -> 4776 | D77: =Popiełuszki!H97 -> 553 | E77: =Popiełuszki!K97 -> 405 | F77: =Popiełuszki!Y96 -> 4986 | G77: =Popiełuszki!AB92 -> 16 | H77: =Popiełuszki!AE96 -> 153 | I77: =C77+D77+F77+G77 -> 10331 | J77: =C77+E77+F77+H77 -> 10320 | K77: =(C77+E77)/C77 -> 1.084799 | L77: =INT(C77/K77) -> 4402 | M77: =INT(C77-L77) -> 374 | N77: =L77+M77 -> 4776 | O77: =C77=N77 -> TRUE
A78: 76 | B78: Popiełuszki 9 | C78: =Popiełuszki!E133 -> 2380 | D78: =Popiełuszki!H133 -> 274 | E78: =Popiełuszki!K133 -> 202 | F78: =Popiełuszki!Y132 -> 2502 | G78: =Popiełuszki!AB128 -> 8 | H78: =Popiełuszki!AE132 -> 65 | I78: =C78+D78+F78+G78 -> 5164 | J78: =C78+E78+F78+H78 -> 5149 | K78: =(C78+E78)/C78 -> 1.0848739 | L78: =INT(C78/K78) -> 2193 | M78: =INT(C78-L78) -> 187 | N78: =L78+M78 -> 2380 | O78: =C78=N78 -> TRUE
A79: 77 | B79: Popiełuszki 11 | C79: =Popiełuszki!E184 -> 4453 | D79: =Popiełuszki!H184 -> 519 | E79: =Popiełuszki!K184 -> 377 | F79: =Popiełuszki!Y183 -> 4500 | G79: =Popiełuszki!AB179 -> 14 | H79: =Popiełuszki!AE183 -> 138 | I79: =C79+D79+F79+G79 -> 9486 | J79: =C79+E79+F79+H79 -> 9468 | K79: =(C79+E79)/C79 -> 1.084662 | L79: =INT(C79/K79) -> 4105 | M79: =INT(C79-L79) -> 348 | N79: =L79+M79 -> 4453 | O79: =C79=N79 -> TRUE
A80: 78 | B80: Popiełuszki 13 | C80: =Popiełuszki!E219 -> 2755 | D80: =Popiełuszki!H219 -> 320 | E80: =Popiełuszki!K219 -> 235 | F80: =Popiełuszki!Y218 -> 2934 | G80: =Popiełuszki!AB214 -> 9 | H80: =Popiełuszki!AE218 -> 77 | I80: =C80+D80+F80+G80 -> 6018 | J80: =C80+E80+F80+H80 -> 6001 | K80: =(C80+E80)/C80 -> 1.0852995 | L80: =INT(C80/K80) -> 2538 | M80: =INT(C80-L80) -> 217 | N80: =L80+M80 -> 2755 | O80: =C80=N80 -> TRUE
A81: 79 | B81: Popiełuszki 12 | C81: =Popiełuszki!E201 -> 3745 | D81: =Popiełuszki!H201 -> 437 | E81: =Popiełuszki!K201 -> 320 | F81: =Popiełuszki!Y200 -> 3786 | G81: =Popiełuszki!AB196 -> 12 | H81: =Popiełuszki!AE200 -> 109 | I81: =C81+D81+F81+G81 -> 7980 | J81: =C81+E81+F81+H81 -> 7960 | K81: =(C81+E81)/C81 -> 1.0854473 | L81: =INT(C81/K81) -> 3450 | M81: =INT(C81-L81) -> 295 | N81: =L81+M81 -> 3745 | O81: =C81=N81 -> TRUE
A82: 80 | B82: Popiełuszki 14 | C82: =Popiełuszki!E236 -> 4636 | D82: =Popiełuszki!H236 -> 537 | E82: =Popiełuszki!K236 -> 394 | F82: =Popiełuszki!Y235 -> 4602 | G82: =Popiełuszki!AB231 -> 15 | H82: =Popiełuszki!AE235 -> 143 | I82: =C82+D82+F82+G82 -> 9790 | J82: =C82+E82+F82+H82 -> 9775 | K82: =(C82+E82)/C82 -> 1.0849871 | L82: =INT(C82/K82) -> 4272 | M82: =INT(C82-L82) -> 364 | N82: =L82+M82 -> 4636 | O82: =C82=N82 -> TRUE
A83: 81 | B83: Popiełuszki 16 | C83: =Popiełuszki!E253 -> 6830 | D83: =Popiełuszki!H253 -> 790 | E83: =Popiełuszki!K253 -> 577 | F83: =Popiełuszki!Y252 -> 6822 | G83: =Popiełuszki!AB248 -> 21 | H83: =Popiełuszki!AE252 -> 209 | I83: =C83+D83+F83+G83 -> 14463 | J83: =C83+E83+F83+H83 -> 14438 | K83: =(C83+E83)/C83 -> 1.0844802 | L83: =INT(C83/K83) -> 6297 | M83: =INT(C83-L83) -> 533 | N83: =L83+M83 -> 6830 | O83: =C83=N83 -> TRUE
A84: 82 | B84: Popiełuszki 25 | C84: =Popiełuszki!E270 -> 4378 | D84: =Popiełuszki!H270 -> 508 | E84: =Popiełuszki!K270 -> 370 | F84: =Popiełuszki!Y269 -> 4476 | G84: =Popiełuszki!AB265 -> 14 | H84: =Popiełuszki!AE269 -> 138 | I84: =C84+D84+F84+G84 -> 9376 | J84: =C84+E84+F84+H84 -> 9362 | K84: =(C84+E84)/C84 -> 1.0845135 | L84: =INT(C84/K84) -> 4036 | M84: =INT(C84-L84) -> 342 | N84: =L84+M84 -> 4378 | O84: =C84=N84 -> TRUE
A85: 83 | B85: Krzywe Koło 34C | C85: ='Krzywe Koło'!E51 -> 2736 | D85: ='Krzywe Koło'!H51 -> 317 | E85: ='Krzywe Koło'!K51 -> 233 | F85: ='Krzywe Koło'!Y50 -> 2844 | G85: ='Krzywe Koło'!AB46 -> 9 | H85: ='Krzywe Koło'!AE50 -> 75 | I85: =C85+D85+F85+G85 -> 5906 | J85: =C85+E85+F85+H85 -> 5888 | K85: =(2740+E85)/2740 -> 1.0850365 | L85: =INT(2740/K85) -> 2525 | M85: =INT(2740-L85) -> 215 | N85: =L85+M85 -> 2740 | O85: =C85=N85 -> FALSE
A86: 84 | B86: Zielona 9 | C86: =Zielona!E17 -> 504 | D86: =Zielona!H17 -> 8 | E86: =Zielona!K17 -> 0 | F86: =Zielona!Y16 -> 540 | G86: =Zielona!AB12 -> 0 | H86: =Zielona!AE16 -> 0 | I86: =C86+D86+F86+G86 -> 1052 | J86: =C86+E86+F86+H86 -> 1044 | K86: =(C86+E86)/C86 -> 1 | L86: =INT(C86/K86) -> 504 | M86: =INT(C86-L86) -> 0 | N86: =L86+M86 -> 504 | O86: =C86=N86 -> TRUE
A87: 85 | B87: Cicha 15 A | C87: =Cicha!E167 -> 3307 | D87: =Cicha!H167 -> 385 | E87: =Cicha!K167 -> 281 | F87: =Cicha!Y166 -> 3276 | G87: =Cicha!AB162 -> 10 | H87: =Cicha!AE166 -> 94 | I87: =C87+D87+F87+G87 -> 6978 | J87: =C87+E87+F87+H87 -> 6958 | K87: =(C87+E87)/C87 -> 1.0849713 | L87: =INT(C87/K87) -> 3048 | M87: =INT(C87-L87) -> 259 | N87: =L87+M87 -> 3307 | O87: =C87=N87 -> TRUE
A88: 86 | B88: 1-go Maja 65 | C88: ='1 Maja'!E81 -> 4951 | D88: ='1 Maja'!H81 -> 575 | E88: ='1 Maja'!K81 -> 419 | F88: ='1 Maja'!Y80 -> 5052 | G88: ='1 Maja'!AB76 -> 16 | H88: ='1 Maja'!AE80 -> 154 | I88: =C88+D88+F88+G88 -> 10594 | J88: =C88+E88+F88+H88 -> 10576 | K88: =(C88+E88)/C88 -> 1.0846294 | L88: =INT(C88/K88) -> 4564 | M88: =INT(C88-L88) -> 387 | N88: =L88+M88 -> 4951 | O88: =C88=N88 -> TRUE
A89: 87 | B89: Lubelska 89 | C89: =Lubelska!E144 -> 2480 | D89: =Lubelska!H144 -> 288 | E89: =Lubelska!K144 -> 211 | F89: =Lubelska!Y143 -> 2598 | G89: =Lubelska!AB139 -> 8 | H89: =Lubelska!AE143 -> 69 | I89: =C89+D89+F89+G89 -> 5374 | J89: =C89+E89+F89+H89 -> 5358 | K89: =(C89+E89)/C89 -> 1.0850806 | L89: =INT(C89/K89) -> 2285 | M89: =INT(C89-L89) -> 195 | N89: =L89+M89 -> 2480 | O89: =C89=N89 -> TRUE
A90: 88 | B90: Lubelska 91 | C90: =Lubelska!E165 -> 2518 | D90: =Lubelska!H165 -> 290 | E90: =Lubelska!K165 -> 214 | F90: =Lubelska!Y164 -> 2640 | G90: =Lubelska!AB160 -> 8 | H90: =Lubelska!AE164 -> 70 | I90: =C90+D90+F90+G90 -> 5456 | J90: =C90+E90+F90+H90 -> 5442 | K90: =(C90+E90)/C90 -> 1.0849881 | L90: =INT(C90/K90) -> 2320 | M90: =INT(C90-L90) -> 198 | N90: =L90+M90 -> 2518 | O90: =C90=N90 -> TRUE
A91: 89 | B91: Lubelska 93 | C91: =Lubelska!E186 -> 4645 | D91: =Lubelska!H186 -> 540 | E91: =Lubelska!K186 -> 394 | F91: =Lubelska!Y185 -> 4896 | G91: =Lubelska!AB181 -> 16 | H91: =Lubelska!AE185 -> 150 | I91: =C91+D91+F91+G91 -> 10097 | J91: =C91+E91+F91+H91 -> 10085 | K91: =(C91+E91)/C91 -> 1.0848224 | L91: =INT(C91/K91) -> 4281 | M91: =INT(C91-L91) -> 364 | N91: =L91+M91 -> 4645 | O91: =C91=N91 -> TRUE
A92: RAZEM | C92: =SUM(C3:C91) -> 399896 | D92: =SUM(D3:D91) -> 46964 | E92: =SUM(E3:E91) -> 33782 | F92: =SUM(F3:F91) -> 412798 | G92: =SUM(G3:G91) -> 1403 | H92: =SUM(H3:H91) -> 12270 | I92: =SUM(I3:I91) -> 861061 | J92: =SUM(J3:J91) -> 858746 | L92: =SUM(L3:L91) -> 368498 | M92: =SUM(M3:M91) -> 31190 | N92: =SUM(N3:N91) -> 399688
K95: =E92+C92 -> 433678
B97: SUMA | C97: =C92+F92 -> 812694 | D97: =D92+G92 -> 48367 | E97: =E92+H92 -> 46052
C98: Należność | D98: Odsetki | E98: Odsetki po wyłączeniu
D101: RÓŻNICA

Sheet 3 Maja
A2: ul. 3-go maja 24 D | S2: ul. 3-go maja 24 D
F4: Odsetki za zwłokę - przed decyzją o wyłączeniu | I4: Odsetki za zwłokę po wyłączeniu | Z4: Odsetki za zwłokę - przed decyzją o wyłączeniu | AC4: Odsetki za zwłokę po wyłączeniu
A5: Lp | B5: Miesiąc | C5: Ilość osób wg. poszczególnych stawek opłat | E5: Miesięczna opłata za gospodarowanie odpadami na nieruchomości | F5: Liczba dni zwłoki | H5: Kwota odsetek | I5: Liczba dni zwłoki po wyłączeniu | K5: Kwota odsetek po wyłączeniu | L5: Proporcjonalne rozliczenie odsetek i należności głównej | M5: Należność główna | N5: Odsetki | O5: SUMA | P5: Księgowanie należności głównej | Q5: Księgowanie odsetek | S5: Lp | T5: Miesiąc | U5: Ilość osób wg. poszczególnych stawek opłat | Y5: Miesięczna opłata za gospodarowanie odpadami na nieruchomości | Z5: Liczba dni zwłoki | AB5: Kwota odsetek | AC5: Liczba dni zwłoki po wyłączeniu | AE5: Kwota odsetek po wyłączeniu
C6: stawka 5 zł | D6: stawka 9 zł | F6: stawka 10% | G6: stawka 8% | I6: stawka 10% | J6: stawka 8% | U6: stawka 6 zł | V6: stawka 5 zł | W6: stawka 10 zł | X6: stawka 9 zł | Z6: stawka 10% | AA6: stawka 8% | AC6: stawka 10% | AD6: stawka 8%
A7: 1 | B7: lipiec 2013 | C7: 66 | D7: 14 | E7: =C7*5+D7*9 -> 456 | F7: ='liczba dni zwłoki'!$E$5 -> 455 | G7: ='liczba dni zwłoki'!$F$5 -> 132 | H7: =ROUND(((E7*0.1*F7)/365)+((E7*0.08*G7)/365),0) -> 70 | I7: ='liczba dni zwłoki'!$H$5 -> 323 | J7: ='liczba dni zwłoki'!$I$5 -> 130 | K7: =ROUND((((E7*0.1*I7)/365)+((E7*0.08*J7)/365)),0) -> 53 | L7: =(E7+K7)/E7 -> 1.1162281 | M7: =E7/L7 -> 408.51866 | N7: =E7-M7 -> 47.481336 | O7: =M7+N7 -> 456 | P7: =O7 -> 456 | S7: 11 | T7: maj 2014 | U7: 66 | V7: 0 | W7: 14 | X7: 0 | Y7: =U7*6+V7*5+W7*10+X7*9 -> 536 | Z7: ='liczba dni zwłoki'!$E$15 -> 149 | AA7: ='liczba dni zwłoki'!$F$15 -> 132 | AB7: =ROUND((((Y7*0.1*Z7)/365)+((Y7*0.08*AA7)/365)),0) -> 37 | AC7: ='liczba dni zwłoki'!$H$15 -> 106 | AD7: ='liczba dni zwłoki'!$I$15 -> 130 | AE7: =ROUND((((Y7*0.1*AC7)/365)+((Y7*0.08*AD7)/365)),0) -> 31
A8: 2 | B8: sierpień 2013 | C8: 66 | D8: 14 | E8: =+C8*5+D8*9 -> 456 | F8: ='liczba dni zwłoki'!$E$6 -> 422 | G8: ='liczba dni zwłoki'!$F$6 -> 132 | H8: =ROUND(((E8*0.1*F8)/365)+((E8*0.08*G8)/365),0) -> 66 | I8: ='liczba dni zwłoki'!$H$6 -> 290 | J8: ='liczba dni zwłoki'!$I$6 -> 130 | K8: =ROUND((((E8*0.1*I8)/365)+((E8*0.08*J8)/365)),0) -> 49 | L8: =(E8+K8)/E8 -> 1.1074561 | M8: =E8/L8 -> 411.75446 | N8: =E8-M8 -> 44.245545 | O8: =M8+N8 -> 456 | P8: =O8 -> 456 | S8: 12 | T8: czerwiec 2014 | U8: 66 | V8: 0 | W8: 14 | X8: 0 | Y8: =U8*6+V8*5+W8*10+X8*9 -> 536 | Z8: ='liczba dni zwłoki'!$E$16 -> 120 | AA8: ='liczba dni zwłoki'!$F$16 -> 132 | AB8: =ROUND((((Y8*0.1*Z8)/365)+((Y8*0.08*AA8)/365)),0) -> 33 | AC8: ='liczba dni zwłoki'!$H$16 -> 77 | AD8: ='liczba dni zwłoki'!$I$16 -> 130 | AE8: =ROUND((((Y8*0.1*AC8)/365)+((Y8*0.08*AD8)/365)),0) -> 27
A9: 3 | B9: wrzesień 2013 | C9: 66 | D9: 14 | E9: =C9*5+D9*9 -> 456 | F9: ='liczba dni zwłoki'!$E$7 -> 393 | G9: ='liczba dni zwłoki'!$F$7 -> 132 | H9: =ROUND(((E9*0.1*F9)/365)+((E9*0.08*G9)/365),0) -> 62 | I9: ='liczba dni zwłoki'!$H$7 -> 261 | J9: ='liczba dni zwłoki'!$I$7 -> 130 | K9: =ROUND((((E9*0.1*I9)/365)+((E9*0.08*J9)/365)),0) -> 46 | L9: =(E9+K9)/E9 -> 1.1008772 | M9: =E9/L9 -> 414.21514 | N9: =E9-M9 -> 41.784861 | O9: =M9+N9 -> 456 | P9: =O9 -> 456 | S9: 13 | T9: lipiec 2014 | U9: 66 | V9: 0 | W9: 14 | X9: 0 | Y9: =U9*6+V9*5+W9*10+X9*9 -> 536 | Z9: ='liczba dni zwłoki'!$E$17 -> 90 | AA9: ='liczba dni zwłoki'!$F$17 -> 132 | AB9: =ROUND((((Y9*0.1*Z9)/365)+((Y9*0.08*AA9)/365)),0) -> 29 | AC9: ='liczba dni zwłoki'!$H$17 -> 47 | AD9: ='liczba dni zwłoki'!$I$17 -> 130 | AE9: =ROUND((((Y9*0.1*AC9)/365)+((Y9*0.08*AD9)/365)),0) -> 22
A10: 4 | B10: październik 2013 | C10: 66 | D10: 14 | E10: =C10*5+D10*9 -> 456 | F10: ='liczba dni zwłoki'!$E$8 -> 363 | G10: ='liczba dni zwłoki'!$F$8 -> 132 | H10: =ROUND(((E10*0.1*F10)/365)+((E10*0.08*G10)/365),0) -> 59 | I10: ='liczba dni zwłoki'!$H$8 -> 231 | J10: ='liczba dni zwłoki'!$I$8 -> 130 | K10: =ROUND((((E10*0.1*I10)/365)+((E10*0.08*J10)/365)),0) -> 42 | L10: =(E10+K10)/E10 -> 1.0921053 | M10: =E10/L10 -> 417.54217 | N10: =E10-M10 -> 38.457831 | O10: =M10+N10 -> 456 | P10: =O10 -> 456 | S10: 14 | T10: sierpień 2014 | U10: 66 | V10: 0 | W10: 14 | X10: 0 | Y10: =U10*6+V10*5+W10*10+X10*9 -> 536 | Z10: ='liczba dni zwłoki'!$E$18 -> 58 | AA10: ='liczba dni zwłoki'!$F$18 -> 132 | AB10: =ROUND((((Y10*0.1*Z10)/365)+((Y10*0.08*AA10)/365)),0) -> 24 | AC10: ='liczba dni zwłoki'!$H$18 -> 15 | AD10: ='liczba dni zwłoki'!$I$18 -> 130 | AE10: =ROUND((((Y10*0.1*AC10)/365)+((Y10*0.08*AD10)/365)),0) -> 17
A11: 5 | B11: listopad 2013 | C11: 66 | D11: 14 | E11: =C11*5+D11*9 -> 456 | F11: ='liczba dni zwłoki'!$E$9 -> 330 | G11: ='liczba dni zwłoki'!$F$9 -> 132 | H11: =ROUND(((E11*0.1*F11)/365)+((E11*0.08*G11)/365),0) -> 54 | I11: ='liczba dni zwłoki'!$H$9 -> 198 | J11: ='liczba dni zwłoki'!$I$9 -> 130 | K11: =ROUND((((E11*0.1*I11)/365)+((E11*0.08*J11)/365)),0) -> 38 | L11: =(E11+K11)/E11 -> 1.0833333 | M11: =E11/L11 -> 420.92308 | N11: =E11-M11 -> 35.076923 | O11: =M11+N11 -> 456 | P11: =O11 -> 456 | S11: 15 | T11: wrzesień 2014 | U11: 65 | V11: 0 | W11: 14 | X11: 0 | Y11: =U11*6+V11*5+W11*10+X11*9 -> 530 | Z11: ='liczba dni zwłoki'!$E$19 -> 28 | AA11: ='liczba dni zwłoki'!$F$19 -> 132 | AB11: =ROUND((((Y11*0.1*Z11)/365)+((Y11*0.08*AA11)/365)),0) -> 19 | AC11: ='liczba dni zwłoki'!$H$19 -> 0 | AD11: ='liczba dni zwłoki'!$I$19 -> 130 | AE11: =ROUND((((Y11*0.1*AC11)/365)+((Y11*0.08*AD11)/365)),0) -> 15
A12: 6 | B12: grudzień 2013 | C12: 66 | D12: 14 | E12: =C12*5+D12*9 -> 456 | F12: ='liczba dni zwłoki'!$E$10 -> 302 | G12: ='liczba dni zwłoki'!$F$10 -> 132 | H12: =ROUND(((E12*0.1*F12)/365)+((E12*0.08*G12)/365),0) -> 51 | I12: ='liczba dni zwłoki'!$H$10 -> 170 | J12: ='liczba dni zwłoki'!$I$10 -> 130 | K12: =ROUND((((E12*0.1*I12)/365)+((E12*0.08*J12)/365)),0) -> 34 | L12: =(E12+K12)/E12 -> 1.0745614 | M12: =E12/L12 -> 424.35918 | N12: =E12-M12 -> 31.640816 | O12: =M12+N12 -> 456 | P12: =O12 -> 456 | S12: 16 | T12: październik 2014 | U12: 66 | V12: 0 | W12: 14 | X12: 0 | Y12: =U12*6+V12*5+W12*10+X12*9 -> 536 | Z12: ='liczba dni zwłoki'!$E$20 -> 0 | AA12: ='liczba dni zwłoki'!$F$20 -> 130 | AB12: =ROUND((((Y12*0.1*Z12)/365)+((Y12*0.08*AA12)/365)),0) -> 15 | AC12: ='liczba dni zwłoki'!$H$20 -> 0 | AD12: ='liczba dni zwłoki'!$I$20 -> 129 | AE12: =ROUND((((Y12*0.1*AC12)/365)+((Y12*0.08*AD12)/365)),0) -> 15
A13: 7 | B13: styczeń 2014 | C13: 66 | D13: 14 | E13: =C13*5+D13*9 -> 456 | F13: ='liczba dni zwłoki'!$E$11 -> 271 | G13: ='liczba dni zwłoki'!$F$11 -> 132 | H13: =ROUND(((E13*0.1*F13)/365)+((E13*0.08*G13)/365),0) -> 47 | I13: ='liczba dni zwłoki'!$H$11 -> 144 | J13: ='liczba dni zwłoki'!$I$11 -> 130 | K13: =ROUND((((E13*0.1*I13)/365)+((E13*0.08*J13)/365)),0) -> 31 | L13: =(E13+K13)/E13 -> 1.0679825 | M13: =E13/L13 -> 426.97331 | N13: =E13-M13 -> 29.026694 | O13: =M13+N13 -> 456 | P13: =O13 -> 456 | S13: 17 | T13: listopad 2014 | U13: 66 | V13: 0 | W13: 14 | X13: 0 | Y13: =U13*6+V13*5+W13*10+X13*9 -> 536 | Z13: ='liczba dni zwłoki'!$E$21 -> 0 | AA13: ='liczba dni zwłoki'!$F$21 -> 99 | AB13: =ROUND((((Y13*0.1*Z13)/365)+((Y13*0.08*AA13)/365)),0) -> 12 | AC13: ='liczba dni zwłoki'!$H$21 -> 0 | AD13: ='liczba dni zwłoki'!$I$21 -> 99 | AE13: =ROUND((((Y13*0.1*AC13)/365)+((Y13*0.08*AD13)/365)),0) -> 12
A14: 8 | B14: luty 2014 | C14: 66 | D14: 14 | E14: =C14*5+D14*9 -> 456 | F14: ='liczba dni zwłoki'!$E$12 -> 240 | G14: ='liczba dni zwłoki'!$F$12 -> 132 | H14: =ROUND(((E14*0.1*F14)/365)+((E14*0.08*G14)/365),0) -> 43 | I14: ='liczba dni zwłoki'!$H$12 -> 144 | J14: ='liczba dni zwłoki'!$I$12 -> 130 | K14: =ROUND((((E14*0.1*I14)/365)+((E14*0.08*J14)/365)),0) -> 31 | L14: =(E14+K14)/E14 -> 1.0679825 | M14: =E14/L14 -> 426.97331 | N14: =E14-M14 -> 29.026694 | O14: =M14+N14 -> 456 | P14: =O14 -> 456 | S14: 18 | T14: grudzień 2014 | U14: 66 | V14: 0 | W14: 14 | X14: 0 | Y14: =U14*6+V14*5+W14*10+X14*9 -> 536 | Z14: ='liczba dni zwłoki'!$E$22 -> 0 | AA14: ='liczba dni zwłoki'!$F$22 -> 69 | AB14: =ROUND((((Y14*0.1*Z14)/365)+((Y14*0.08*AA14)/365)),0) -> 8 | AC14: ='liczba dni zwłoki'!$H$22 -> 0 | AD14: ='liczba dni zwłoki'!$I$22 -> 69 | AE14: =ROUND((((Y14*0.1*AC14)/365)+((Y14*0.08*AD14)/365)),0) -> 8
A15: 9 | B15: marzec 2014 | C15: 66 | D15: 14 | E15: =C15*5+D15*9 -> 456 | F15: ='liczba dni zwłoki'!$E$13 -> 212 | G15: ='liczba dni zwłoki'!$F$13 -> 132 | H15: =ROUND(((E15*0.1*F15)/365)+((E15*0.08*G15)/365),0) -> 40 | I15: ='liczba dni zwłoki'!$H$13 -> 144 | J15: ='liczba dni zwłoki'!$I$13 -> 130 | K15: =ROUND((((E15*0.1*I15)/365)+((E15*0.08*J15)/365)),0) -> 31 | L15: =(E15+K15)/E15 -> 1.0679825 | M15: =E15/L15 -> 426.97331 | N15: =E15-M15 -> 29.026694 | O15: =M15+N15 -> 456 | P15: =O15 -> 456 | S15: 19 | T15: styczeń 2015 | U15: 66 | V15: 0 | W15: 14 | X15: 0 | Y15: =U15*6+V15*5+W15*10+X15*9 -> 536 | Z15: ='liczba dni zwłoki'!$E$23 -> 0 | AA15: ='liczba dni zwłoki'!$F$23 -> 36 | AB15: 0 | AC15: ='liczba dni zwłoki'!$H$23 -> 0 | AD15: ='liczba dni zwłoki'!$I$23 -> 36 | AE15: 0
A16: 10 | B16: kwiecień 2014 | C16: 66 | D16: 14 | E16: =C16*5+D16*9 -> 456 | F16: ='liczba dni zwłoki'!$E$14 -> 181 | G16: ='liczba dni zwłoki'!$F$14 -> 132 | H16: =ROUND(((E16*0.1*F16)/365)+((E16*0.08*G16)/365),0) -> 36 | I16: ='liczba dni zwłoki'!$H$14 -> 138 | J16: ='liczba dni zwłoki'!$I$14 -> 130 | K16: =ROUND((((E16*0.1*I16)/365)+((E16*0.08*J16)/365)),0) -> 30 | L16: =(E16+K16)/E16 -> 1.0657895 | M16: =E16/L16 -> 427.85185 | N16: =E16-M16 -> 28.148148 | O16: =M16+N16 -> 456 | P16: =O16-Q16 -> 102.08446 | Q16: =N17 -> 353.91554 | X16: suma | Y16: =SUM(Y7:Y15) -> 4818 | AB16: =SUM(AB7:AB15) -> 177 | AE16: =SUM(AE7:AE15) -> 147
D17: suma | E17: =SUM(E7:E16) -> 4560 | H17: =SUM(H7:H16) -> 528 | K17: =SUM(K7:K16) -> 385 | M17: =SUM(M7:M16) -> 4206.0845 | N17: =E17-M17 -> 353.91554 | O17: =M17+N17 -> 4560 | P17: =SUM(P7:P16) -> 4206.0845 | Q17: =SUM(Q7:Q16) -> 353.91554
A23: ul. 3-go maja 2 | S23: ul. 3-go maja 2
F25: Odsetki za zwłokę - przed decyzją o wyłączeniu | I25: Odsetki za zwłokę po wyłączeniu | Z25: Odsetki za zwłokę - przed decyzją o wyłączeniu | AC25: Odsetki za zwłokę po wyłączeniu
A26: Lp | B26: Miesiąc | C26: Ilość osób wg. poszczególnych stawek opłat | E26: Miesięczna opłata za gospodarowanie odpadami na nieruchomości | F26: Liczba dni zwłoki | H26: Kwota odsetek | I26: Liczba dni zwłoki po wyłączeniu | K26: Kwota odsetek po wyłączeniu | L26: Proporcjonalne rozliczenie odsetek i należności głównej | M26: Należność główna | N26: Odsetki | O26: SUMA | P26: Księgowanie należności głównej | Q26: Księgowanie odsetek | S26: Lp | T26: Miesiąc | U26: Ilość osób wg. poszczególnych stawek opłat | Y26: Miesięczna opłata za gospodarowanie odpadami na nieruchomości | Z26: Liczba dni zwłoki | AB26: Kwota odsetek | AC26: Liczba dni zwłoki po wyłączeniu | AE26: Kwota odsetek po wyłączeniu
C27: stawka 5 zł | D27: stawka 9 zł | F27: stawka 10% | G27: stawka 8% | I27: stawka 10% | J27: stawka 8% | U27: stawka 6 zł | V27: stawka 5 zł | W27: stawka 10 zł | X27: stawka 9 zł | Z27: stawka 10% | AA27: stawka 8% | AC27: stawka 10% | AD27: stawka 8%
A28: 1 | B28: lipiec 2013 | C28: 169 | D28: 36 | E28: =C28*5+D28*9 -> 1169 | F28: ='liczba dni zwłoki'!$E$5 -> 455 | G28: ='liczba dni zwłoki'!$F$5 -> 132 | H28: =ROUND(((E28*0.1*F28)/365)+((E28*0.08*G28)/365),0) -> 180 | I28: ='liczba dni zwłoki'!$H$5 -> 323 | J28: ='liczba dni zwłoki'!$I$5 -> 130 | K28: =ROUND((((E28*0.1*I28)/365)+((E28*0.08*J28)/365)),0) -> 137 | L28: =(E28+K28)/E28 -> 1.1171942 | M28: =E28/L28 -> 1046.3714 | N28: =E28-M28 -> 122.62864 | O28: =M28+N28 -> 1169 | P28: =O28 -> 1169 | S28: 11 | T28: maj 2014 | U28: 176 | V28: 0 | W28: 30 | X28: 0 | Y28: =U28*6+V28*5+W28*10+X28*9 -> 1356 | Z28: ='liczba dni zwłoki'!$E$15 -> 149 | AA28: ='liczba dni zwłoki'!$F$15 -> 132 | AB28: =ROUND((((Y28*0.1*Z28)/365)+((Y28*0.08*AA28)/365)),0) -> 95 | AC28: ='liczba dni zwłoki'!$H$15 -> 106 | AD28: ='liczba dni zwłoki'!$I$15 -> 130 | AE28: =ROUND((((Y28*0.1*AC28)/365)+((Y28*0.08*AD28)/365)),0) -> 78
A29: 2 | B29: sierpień 2013 | C29: 168 | D29: 35 | E29: =+C29*5+D29*9 -> 1155 | F29: ='liczba dni zwłoki'!$E$6 -> 422 | G29: ='liczba dni zwłoki'!$F$6 -> 132 | H29: =ROUND(((E29*0.1*F29)/365)+((E29*0.08*G29)/365),0) -> 167 | I29: ='liczba dni zwłoki'!$H$6 -> 290 | J29: ='liczba dni zwłoki'!$I$6 -> 130 | K29: =ROUND((((E29*0.1*I29)/365)+((E29*0.08*J29)/365)),0) -> 125 | L29: =(E29+K29)/E29 -> 1.1082251 | M29: =E29/L29 -> 1042.207 | N29: =E29-M29 -> 112.79297 | O29: =M29+N29 -> 1155 | P29: =O29 -> 1155 | S29: 12 | T29: czerwiec 2014 | U29: 175 | V29: 0 | W29: 30 | X29: 0 | Y29: =U29*6+V29*5+W29*10+X29*9 -> 1350 | Z29: ='liczba dni zwłoki'!$E$16 -> 120 | AA29: ='liczba dni zwłoki'!$F$16 -> 132 | AB29: =ROUND((((Y29*0.1*Z29)/365)+((Y29*0.08*AA29)/365)),0) -> 83 | AC29: ='liczba dni zwłoki'!$H$16 -> 77 | AD29: ='liczba dni zwłoki'!$I$16 -> 130 | AE29: =ROUND((((Y29*0.1*AC29)/365)+((Y29*0.08*AD29)/365)),0) -> 67
A30: 3 | B30: wrzesień 2013 | C30: 167 | D30: 35 | E30: =C30*5+D30*9 -> 1150 | F30: ='liczba dni zwłoki'!$E$7 -> 393 | G30: ='liczba dni zwłoki'!$F$7 -> 132 | H30: =ROUND(((E30*0.1*F30)/365)+((E30*0.08*G30)/365),0) -> 157 | I30: ='liczba dni zwłoki'!$H$7 -> 261 | J30: ='liczba dni zwłoki'!$I$7 -> 130 | K30: =ROUND((((E30*0.1*I30)/365)+((E30*0.08*J30)/365)),0) -> 115 | L30: =(E30+K30)/E30 -> 1.1 | M30: =E30/L30 -> 1045.4545 | N30: =E30-M30 -> 104.54545 | O30: =M30+N30 -> 1150 | P30: =O30 -> 1150 | S30: 13 | T30: lipiec 2014 | U30: 176 | V30: 0 | W30: 27 | X30: 0 | Y30: =U30*6+V30*5+W30*10+X30*9 -> 1326 | Z30: ='liczba dni zwłoki'!$E$17 -> 90 | AA30: ='liczba dni zwłoki'!$F$17 -> 132 | AB30: =ROUND((((Y30*0.1*Z30)/365)+((Y30*0.08*AA30)/365)),0) -> 71 | AC30: ='liczba dni zwłoki'!$H$17 -> 47 | AD30: ='liczba dni zwłoki'!$I$17 -> 130 | AE30: =ROUND((((Y30*0.1*AC30)/365)+((Y30*0.08*AD30)/365)),0) -> 55
A31: 4 | B31: październik 2013 | C31: 167 | D31: 35 | E31: =C31*5+D31*9 -> 1150 | F31: ='liczba dni zwłoki'!$E$8 -> 363 | G31: ='liczba dni zwłoki'!$F$8 -> 132 | H31: =ROUND(((E31*0.1*F31)/365)+((E31*0.08*G31)/365),0) -> 148 | I31: ='liczba dni zwłoki'!$H$8 -> 231 | J31: ='liczba dni zwłoki'!$I$8 -> 130 | K31: =ROUND((((E31*0.1*I31)/365)+((E31*0.08*J31)/365)),0) -> 106 | L31: =(E31+K31)/E31 -> 1.0921739 | M31: =E31/L31 -> 1052.9459 | N31: =E31-M31 -> 97.05414 | O31: =M31+N31 -> 1150 | P31: =O31 -> 1150 | S31: 14 | T31: sierpień 2014 | U31: 178 | V31: 0 | W31: 27 | X31: 0 | Y31: =U31*6+V31*5+W31*10+X31*9 -> 1338 | Z31: ='liczba dni zwłoki'!$E$18 -> 58 | AA31: ='liczba dni zwłoki'!$F$18 -> 132 | AB31: =ROUND((((Y31*0.1*Z31)/365)+((Y31*0.08*AA31)/365)),0) -> 60 | AC31: ='liczba dni zwłoki'!$H$18 -> 15 | AD31: ='liczba dni zwłoki'!$I$18 -> 130 | AE31: =ROUND((((Y31*0.1*AC31)/365)+((Y31*0.08*AD31)/365)),0) -> 44
A32: 5 | B32: listopad 2013 | C32: 167 | D32: 35 | E32: =C32*5+D32*9 -> 1150 | F32: ='liczba dni zwłoki'!$E$9 -> 330 | G32: ='liczba dni zwłoki'!$F$9 -> 132 | H32: =ROUND(((E32*0.1*F32)/365)+((E32*0.08*G32)/365),0) -> 137 | I32: ='liczba dni zwłoki'!$H$9 -> 198 | J32: ='liczba dni zwłoki'!$I$9 -> 130 | K32: =ROUND((((E32*0.1*I32)/365)+((E32*0.08*J32)/365)),0) -> 95 | L32: =(E32+K32)/E32 -> 1.0826087 | M32: =E32/L32 -> 1062.249 | N32: =E32-M32 -> 87.751004 | O32: =M32+N32 -> 1150 | P32: =O32 -> 1150 | S32: 15 | T32: wrzesień 2014 | U32: 177 | V32: 0 | W32: 27 | X32: 0 | Y32: =U32*6+V32*5+W32*10+X32*9 -> 1332 | Z32: ='liczba dni zwłoki'!$E$19 -> 28 | AA32: ='liczba dni zwłoki'!$F$19 -> 132 | AB32: =ROUND((((Y32*0.1*Z32)/365)+((Y32*0.08*AA32)/365)),0) -> 49 | AC32: ='liczba dni zwłoki'!$H$19 -> 0 | AD32: ='liczba dni zwłoki'!$I$19 -> 130 | AE32: =ROUND((((Y32*0.1*AC32)/365)+((Y32*0.08*AD32)/365)),0) -> 38
A33: 6 | B33: grudzień 2013 | C33: 169 | D33: 34 | E33: =C33*5+D33*9 -> 1151 | F33: ='liczba dni zwłoki'!$E$10 -> 302 | G33: ='liczba dni zwłoki'!$F$10 -> 132 | H33: =ROUND(((E33*0.1*F33)/365)+((E33*0.08*G33)/365),0) -> 129 | I33: ='liczba dni zwłoki'!$H$10 -> 170 | J33: ='liczba dni zwłoki'!$I$10 -> 130 | K33: =ROUND((((E33*0.1*I33)/365)+((E33*0.08*J33)/365)),0) -> 86 | L33: =(E33+K33)/E33 -> 1.0747176 | M33: =E33/L33 -> 1070.979 | N33: =E33-M33 -> 80.021019 | O33: =M33+N33 -> 1151 | P33: =O33 -> 1151 | S33: 16 | T33: październik 2014 | U33: 174 | V33: 0 | W33: 25 | X33: 0 | Y33: =U33*6+V33*5+W33*10+X33*9 -> 1294 | Z33: ='liczba dni zwłoki'!$E$20 -> 0 | AA33: ='liczba dni zwłoki'!$F$20 -> 130 | AB33: =ROUND((((Y33*0.1*Z33)/365)+((Y33*0.08*AA33)/365)),0) -> 37 | AC33: ='liczba dni zwłoki'!$H$20 -> 0 | AD33: ='liczba dni zwłoki'!$I$20 -> 129 | AE33: =ROUND((((Y33*0.1*AC33)/365)+((Y33*0.08*AD33)/365)),0) -> 37
A34: 7 | B34: styczeń 2014 | C34: 176 | D34: 31 | E34: =C34*5+D34*9 -> 1159 | F34: ='liczba dni zwłoki'!$E$11 -> 271 | G34: ='liczba dni zwłoki'!$F$11 -> 132 | H34: =ROUND(((E34*0.1*F34)/365)+((E34*0.08*G34)/365),0) -> 120 | I34: ='liczba dni zwłoki'!$H$11 -> 144 | J34: ='liczba dni zwłoki'!$I$11 -> 130 | K34: =ROUND((((E34*0.1*I34)/365)+((E34*0.08*J34)/365)),0) -> 79 | L34: =(E34+K34)/E34 -> 1.0681622 | M34: =E34/L34 -> 1085.0412 | N34: =E34-M34 -> 73.958805 | O34: =M34+N34 -> 1159 | P34: =O34 -> 1159 | S34: 17 | T34: listopad 2014 | U34: 174 | V34: 0 | W34: 25 | X34: 0 | Y34: =U34*6+V34*5+W34*10+X34*9 -> 1294 | Z34: ='liczba dni zwłoki'!$E$21 -> 0 | AA34: ='liczba dni zwłoki'!$F$21 -> 99 | AB34: =ROUND((((Y34*0.1*Z34)/365)+((Y34*0.08*AA34)/365)),0) -> 28 | AC34: ='liczba dni zwłoki'!$H$21 -> 0 | AD34: ='liczba dni zwłoki'!$I$21 -> 99 | AE34: =ROUND((((Y34*0.1*AC34)/365)+((Y34*0.08*AD34)/365)),0) -> 28
A35: 8 | B35: luty 2014 | C35: 176 | D35: 30 | E35: =C35*5+D35*9 -> 1150 | F35: ='liczba dni zwłoki'!$E$12 -> 240 | G35: ='liczba dni zwłoki'!$F$12 -> 132 | H35: =ROUND(((E35*0.1*F35)/365)+((E35*0.08*G35)/365),0) -> 109 | I35: ='liczba dni zwłoki'!$H$12 -> 144 | J35: ='liczba dni zwłoki'!$I$12 -> 130 | K35: =ROUND((((E35*0.1*I35)/365)+((E35*0.08*J35)/365)),0) -> 78 | L35: =(E35+K35)/E35 -> 1.0678261 | M35: =E35/L35 -> 1076.9544 | N35: =E35-M35 -> 73.045603 | O35: =M35+N35 -> 1150 | P35: =O35 -> 1150 | S35: 18 | T35: grudzień 2014 | U35: 176 | V35: 0 | W35: 25 | X35: 0 | Y35: =U35*6+V35*5+W35*10+X35*9 -> 1306 | Z35: ='liczba dni zwłoki'!$E$22 -> 0 | AA35: ='liczba dni zwłoki'!$F$22 -> 69 | AB35: =ROUND((((Y35*0.1*Z35)/365)+((Y35*0.08*AA35)/365)),0) -> 20 | AC35: ='liczba dni zwłoki'!$H$22 -> 0 | AD35: ='liczba dni zwłoki'!$I$22 -> 69 | AE35: =ROUND((((Y35*0.1*AC35)/365)+((Y35*0.08*AD35)/365)),0) -> 20
A36: 9 | B36: marzec 2014 | C36: 176 | D36: 30 | E36: =C36*5+D36*9 -> 1150 | F36: ='liczba dni zwłoki'!$E$13 -> 212 | G36: ='liczba dni zwłoki'!$F$13 -> 132 | H36: =ROUND(((E36*0.1*F36)/365)+((E36*0.08*G36)/365),0) -> 100 | I36: ='liczba dni zwłoki'!$H$13 -> 144 | J36: ='liczba dni zwłoki'!$I$13 -> 130 | K36: =ROUND((((E36*0.1*I36)/365)+((E36*0.08*J36)/365)),0) -> 78 | L36: =(E36+K36)/E36 -> 1.0678261 | M36: =E36/L36 -> 1076.9544 | N36: =E36-M36 -> 73.045603 | O36: =M36+N36 -> 1150 | P36: =O36 -> 1150 | S36: 19 | T36: styczeń 2015 | U36: 177 | V36: 0 | W36: 24 | X36: 0 | Y36: =U36*6+V36*5+W36*10+X36*9 -> 1302 | Z36: ='liczba dni zwłoki'!$E$23 -> 0 | AA36: ='liczba dni zwłoki'!$F$23 -> 36 | AB36: =ROUND((((Y36*0.1*Z36)/365)+((Y36*0.08*AA36)/365)),0) -> 10 | AC36: ='liczba dni zwłoki'!$H$23 -> 0 | AD36: ='liczba dni zwłoki'!$I$23 -> 36 | AE36: =ROUND((((Y36*0.1*AC36)/365)+((Y36*0.08*AD36)/365)),0) -> 10
A37: 10 | B37: kwicień 2014 | C37: 176 | D37: 30 | E37: =C37*5+D37*9 -> 1150 | F37: ='liczba dni zwłoki'!$E$14 -> 181 | G37: ='liczba dni zwłoki'!$F$14 -> 132 | H37: =ROUND(((E37*0.1*F37)/365)+((E37*0.08*G37)/365),0) -> 90 | I37: ='liczba dni zwłoki'!$H$14 -> 138 | J37: ='liczba dni zwłoki'!$I$14 -> 130 | K37: =ROUND((((E37*0.1*I37)/365)+((E37*0.08*J37)/365)),0) -> 76 | L37: =(E37+K37)/E37 -> 1.066087 | M37: =E37/L37 -> 1078.7113 | N37: =E37-M37 -> 71.288744 | O37: =M37+N37 -> 1150 | P37: =O37-Q37 -> 253.86802 | Q37: =N38 -> 896.13198 | X37: suma | Y37: =SUM(Y28:Y36) -> 11898 | AB37: =SUM(AB28:AB36) -> 453 | AE37: =SUM(AE28:AE36) -> 377
D38: Suma | E38: =SUM(E28:E37) -> 11534 | H38: =SUM(H28:H37) -> 1337 | K38: =SUM(K28:K37) -> 975 | M38: =SUM(M28:M37) -> 10637.868 | N38: =E38-M38 -> 896.13198 | O38: =M38+N38 -> 11534 | P38: =SUM(P28:P37) -> 10637.868 | Q38: =SUM(Q28:Q37) -> 896.13198
A44: ul. 3-go maja 24 | S44: ul. 3-go maja 24
F46: Odsetki za zwłokę - przed decyzją o wyłączeniu | I46: Odsetki za zwłokę po wyłączeniu | Z46: Odsetki za zwłokę - przed decyzją o wyłączeniu | AC46: Odsetki za zwłokę po wyłączeniu
A47: Lp | B47: Miesiąc | C47: Ilość osób wg. poszczególnych stawek opłat | E47: Miesięczna opłata za gospodarowanie odpadami na nieruchomości | F47: Liczba dni zwłoki | H47: Kwota odsetek | I47: Liczba dni zwłoki po wyłączeniu | K47: Kwota odsetek po wyłączeniu | L47: Proporcjonalne rozliczenie odsetek i należności głównej | M47: Należność główna | N47: Odsetki | O47: SUMA | P47: Księgowanie należności głównej | Q47: Księgowanie odsetek | S47: Lp | T47: Miesiąc | U47: Ilość osób wg. poszczególnych stawek opłat | Y47: Miesięczna opłata za gospodarowanie odpadami na nieruchomości | Z47: Liczba dni zwłoki | AB47: Kwota odsetek | AC47: Liczba dni zwłoki po wyłączeniu | AE47: Kwota odsetek po wyłączeniu
C48: stawka 5 zł | D48: stawka 9 zł | F48: stawka 10% | G48: stawka 8% | I48: stawka 10% | J48: stawka 8% | U48: stawka 6 zł | V48: stawka 5 zł | W48: stawka 10 zł | X48: stawka 9 zł | Z48: stawka 10% | AA48: stawka 8% | AC48: stawka 10% | AD48: stawka 8%
A49: 1 | B49: lipiec 2013 | C49: 60 | D49: 1 | E49: =C49*5+D49*9 -> 309 | F49: ='liczba dni zwłoki'!$E$5 -> 455 | G49: ='liczba dni zwłoki'!$F$5 -> 132 | H49: =ROUND(((E49*0.1*F49)/365)+((E49*0.08*G49)/365),0) -> 47 | I49: ='liczba dni zwłoki'!$H$5 -> 323 | J49: ='liczba dni zwłoki'!$I$5 -> 130 | K49: =ROUND((((E49*0.1*I49)/365)+((E49*0.08*J49)/365)),0) -> 36 | L49: =(E49+K49)/E49 -> 1.1165049 | M49: =E49/L49 -> 276.75652 | N49: =E49-M49 -> 32.243478 | O49: =M49+N49 -> 309 | P49: =O49 -> 309 | S49: 11 | T49: maj 2014 | U49: 51 | V49: 7 | W49: 1 | X49: 0 | Y49: =U49*6+V49*5+W49*10+X49*9 -> 351 | Z49: ='liczba dni zwłoki'!$E$15 -> 149 | AA49: ='liczba dni zwłoki'!$F$15 -> 132 | AB49: =ROUND((((Y49*0.1*Z49)/365)+((Y49*0.08*AA49)/365)),0) -> 24 | AC49: ='liczba dni zwłoki'!$H$15 -> 106 | AD49: ='liczba dni zwłoki'!$I$15 -> 130 | AE49: =ROUND((((Y49*0.1*AC49)/365)+((Y49*0.08*AD49)/365)),0) -> 20
A50: 2 | B50: sierpień 2013 | C50: 60 | D50: 1 | E50: =+C50*5+D50*9 -> 309 | F50: ='liczba dni zwłoki'!$E$6 -> 422 | G50: ='liczba dni zwłoki'!$F$6 -> 132 | H50: =ROUND(((E50*0.1*F50)/365)+((E50*0.08*G50)/365),0) -> 45 | I50: ='liczba dni zwłoki'!$H$6 -> 290 | J50: ='liczba dni zwłoki'!$I$6 -> 130 | K50: =ROUND((((E50*0.1*I50)/365)+((E50*0.08*J50)/365)),0) -> 33 | L50: =(E50+K50)/E50 -> 1.1067961 | M50: =E50/L50 -> 279.18421 | N50: =E50-M50 -> 29.815789 | O50: =M50+N50 -> 309 | P50: =O50 -> 309 | S50: 12 | T50: czerwiec 2014 | U50: 51 | V50: 7 | W50: 1 | X50: 0 | Y50: =U50*6+V50*5+W50*10+X50*9 -> 351 | Z50: ='liczba dni zwłoki'!$E$16 -> 120 | AA50: ='liczba dni zwłoki'!$F$16 -> 132 | AB50: =ROUND((((Y50*0.1*Z50)/365)+((Y50*0.08*AA50)/365)),0) -> 22 | AC50: ='liczba dni zwłoki'!$H$16 -> 77 | AD50: ='liczba dni zwłoki'!$I$16 -> 130 | AE50: =ROUND((((Y50*0.1*AC50)/365)+((Y50*0.08*AD50)/365)),0) -> 17
A51: 3 | B51: wrzesień 2013 | C51: 60 | D51: 1 | E51: =C51*5+D51*9 -> 309 | F51: ='liczba dni zwłoki'!$E$7 -> 393 | G51: ='liczba dni zwłoki'!$F$7 -> 132 | H51: =ROUND(((E51*0.1*F51)/365)+((E51*0.08*G51)/365),0) -> 42 | I51: ='liczba dni zwłoki'!$H$7 -> 261 | J51: ='liczba dni zwłoki'!$I$7 -> 130 | K51: =ROUND((((E51*0.1*I51)/365)+((E51*0.08*J51)/365)),0) -> 31 | L51: =(E51+K51)/E51 -> 1.1003236 | M51: =E51/L51 -> 280.82647 | N51: =E51-M51 -> 28.173529 | O51: =M51+N51 -> 309 | P51: =O51 -> 309 | S51: 13 | T51: lipiec 2014 | U51: 51 | V51: 7 | W51: 1 | X51: 0 | Y51: =U51*6+V51*5+W51*10+X51*9 -> 351 | Z51: ='liczba dni zwłoki'!$E$17 -> 90 | AA51: ='liczba dni zwłoki'!$F$17 -> 132 | AB51: =ROUND((((Y51*0.1*Z51)/365)+((Y51*0.08*AA51)/365)),0) -> 19 | AC51: ='liczba dni zwłoki'!$H$17 -> 47 | AD51: ='liczba dni zwłoki'!$I$17 -> 130 | AE51: =ROUND((((Y51*0.1*AC51)/365)+((Y51*0.08*AD51)/365)),0) -> 15
A52: 4 | B52: październik 2013 | C52: 60 | D52: 1 | E52: =C52*5+D52*9 -> 309 | F52: ='liczba dni zwłoki'!$E$8 -> 363 | G52: ='liczba dni zwłoki'!$F$8 -> 132 | H52: =ROUND(((E52*0.1*F52)/365)+((E52*0.08*G52)/365),0) -> 40 | I52: ='liczba dni zwłoki'!$H$8 -> 231 | J52: ='liczba dni zwłoki'!$I$8 -> 130 | K52: =ROUND((((E52*0.1*I52)/365)+((E52*0.08*J52)/365)),0) -> 28 | L52: =(E52+K52)/E52 -> 1.0906149 | M52: =E52/L52 -> 283.32641 | N52: =E52-M52 -> 25.673591 | O52: =M52+N52 -> 309 | P52: =O52 -> 309 | S52: 14 | T52: sierpień 2014 | U52: 52 | V52: 7 | W52: 1 | X52: 0 | Y52: =U52*6+V52*5+W52*10+X52*9 -> 357 | Z52: ='liczba dni zwłoki'!$E$18 -> 58 | AA52: ='liczba dni zwłoki'!$F$18 -> 132 | AB52: =ROUND((((Y52*0.1*Z52)/365)+((Y52*0.08*AA52)/365)),0) -> 16 | AC52: ='liczba dni zwłoki'!$H$18 -> 15 | AD52: ='liczba dni zwłoki'!$I$18 -> 130 | AE52: =ROUND((((Y52*0.1*AC52)/365)+((Y52*0.08*AD52)/365)),0) -> 12
A53: 5 | B53: listopad 2013 | C53: 60 | D53: 1 | E53: =C53*5+D53*9 -> 309 | F53: ='liczba dni zwłoki'!$E$9 -> 330 | G53: ='liczba dni zwłoki'!$F$9 -> 132 | H53: =ROUND(((E53*0.1*F53)/365)+((E53*0.08*G53)/365),0) -> 37 | I53: ='liczba dni zwłoki'!$H$9 -> 198 | J53: ='liczba dni zwłoki'!$I$9 -> 130 | K53: =ROUND((((E53*0.1*I53)/365)+((E53*0.08*J53)/365)),0) -> 26 | L53: =(E53+K53)/E53 -> 1.0841424 | M53: =E53/L53 -> 285.01791 | N53: =E53-M53 -> 23.98209 | O53: =M53+N53 -> 309 | P53: =O53 -> 309 | S53: 15 | T53: wrzesień 2014 | U53: 52 | V53: 7 | W53: 1 | X53: 0 | Y53: =U53*6+V53*5+W53*10+X53*9 -> 357 | Z53: ='liczba dni zwłoki'!$E$19 -> 28 | AA53: ='liczba dni zwłoki'!$F$19 -> 132 | AB53: =ROUND((((Y53*0.1*Z53)/365)+((Y53*0.08*AA53)/365)),0) -> 13 | AC53: ='liczba dni zwłoki'!$H$19 -> 0 | AD53: ='liczba dni zwłoki'!$I$19 -> 130 | AE53: =ROUND((((Y53*0.1*AC53)/365)+((Y53*0.08*AD53)/365)),0) -> 10
A54: 6 | B54: grudzień 2013 | C54: 59 | D54: 1 | E54: =C54*5+D54*9 -> 304 | F54: ='liczba dni zwłoki'!$E$10 -> 302 | G54: ='liczba dni zwłoki'!$F$10 -> 132 | H54: =ROUND(((E54*0.1*F54)/365)+((E54*0.08*G54)/365),0) -> 34 | I54: ='liczba dni zwłoki'!$H$10 -> 170 | J54: ='liczba dni zwłoki'!$I$10 -> 130 | K54: =ROUND((((E54*0.1*I54)/365)+((E54*0.08*J54)/365)),0) -> 23 | L54: =(E54+K54)/E54 -> 1.0756579 | M54: =E54/L54 -> 282.61774 | N54: =E54-M54 -> 21.382263 | O54: =M54+N54 -> 304 | P54: =O54 -> 304 | S54: 16 | T54: październik 2014 | U54: 52 | V54: 7 | W54: 1 | X54: 0 | Y54: =U54*6+V54*5+W54*10+X54*9 -> 357 | Z54: ='liczba dni zwłoki'!$E$20 -> 0 | AA54: ='liczba dni zwłoki'!$F$20 -> 130 | AB54: =ROUND((((Y54*0.1*Z54)/365)+((Y54*0.08*AA54)/365)),0) -> 10 | AC54: ='liczba dni zwłoki'!$H$20 -> 0 | AD54: ='liczba dni zwłoki'!$I$20 -> 129 | AE54: =ROUND((((Y54*0.1*AC54)/365)+((Y54*0.08*AD54)/365)),0) -> 10
A55: 7 | B55: styczeń 2014 | C55: 58 | D55: 1 | E55: =C55*5+D55*9 -> 299 | F55: ='liczba dni zwłoki'!$E$11 -> 271 | G55: ='liczba dni zwłoki'!$F$11 -> 132 | H55: =ROUND(((E55*0.1*F55)/365)+((E55*0.08*G55)/365),0) -> 31 | I55: ='liczba dni zwłoki'!$H$11 -> 144 | J55: ='liczba dni zwłoki'!$I$11 -> 130 | K55: =ROUND((((E55*0.1*I55)/365)+((E55*0.08*J55)/365)),0) -> 20 | L55: =(E55+K55)/E55 -> 1.0668896 | M55: =E55/L55 -> 280.25392 | N55: =E55-M55 -> 18.746082 | O55: =M55+N55 -> 299 | P55: =O55 -> 299 | S55: 17 | T55: listopad 2014 | U55: 52 | V55: 7 | W55: 1 | X55: 0 | Y55: =U55*6+V55*5+W55*10+X55*9 -> 357 | Z55: ='liczba dni zwłoki'!$E$21 -> 0 | AA55: ='liczba dni zwłoki'!$F$21 -> 99 | AB55: =ROUND((((Y55*0.1*Z55)/365)+((Y55*0.08*AA55)/365)),0) -> 8 | AC55: ='liczba dni zwłoki'!$H$21 -> 0 | AD55: ='liczba dni zwłoki'!$I$21 -> 99 | AE55: =ROUND((((Y55*0.1*AC55)/365)+((Y55*0.08*AD55)/365)),0) -> 8
A56: 8 | B56: luty 2014 | C56: 58 | D56: 1 | E56: =C56*5+D56*9 -> 299 | F56: ='liczba dni zwłoki'!$E$12 -> 240 | G56: ='liczba dni zwłoki'!$F$12 -> 132 | H56: =ROUND(((E56*0.1*F56)/365)+((E56*0.08*G56)/365),0) -> 28 | I56: ='liczba dni zwłoki'!$H$12 -> 144 | J56: ='liczba dni zwłoki'!$I$12 -> 130 | K56: =ROUND((((E56*0.1*I56)/365)+((E56*0.08*J56)/365)),0) -> 20 | L56: =(E56+K56)/E56 -> 1.0668896 | M56: =E56/L56 -> 280.25392 | N56: =E56-M56 -> 18.746082 | O56: =M56+N56 -> 299 | P56: =O56 -> 299 | S56: 18 | T56: grudzień 2014 | U56: 52 | V56: 7 | W56: 1 | X56: 0 | Y56: =U56*6+V56*5+W56*10+X56*9 -> 357 | Z56: ='liczba dni zwłoki'!$E$22 -> 0 | AA56: ='liczba dni zwłoki'!$F$22 -> 69 | AB56: 0 | AC56: ='liczba dni zwłoki'!$H$22 -> 0 | AD56: ='liczba dni zwłoki'!$I$22 -> 69 | AE56: 0
A57: 9 | B57: marzec 2014 | C57: 58 | D57: 1 | E57: =C57*5+D57*9 -> 299 | F57: ='liczba dni zwłoki'!$E$13 -> 212 | G57: ='liczba dni zwłoki'!$F$13 -> 132 | H57: =ROUND(((E57*0.1*F57)/365)+((E57*0.08*G57)/365),0) -> 26 | I57: ='liczba dni zwłoki'!$H$13 -> 144 | J57: ='liczba dni zwłoki'!$I$13 -> 130 | K57: =ROUND((((E57*0.1*I57)/365)+((E57*0.08*J57)/365)),0) -> 20 | L57: =(E57+K57)/E57 -> 1.0668896 | M57: =E57/L57 -> 280.25392 | N57: =E57-M57 -> 18.746082 | O57: =M57+N57 -> 299 | P57: =O57 -> 299 | S57: 19 | T57: styczeń 2015 | U57: 52 | V57: 7 | W57: 1 | X57: 0 | Y57: =U57*6+V57*5+W57*10+X57*9 -> 357 | Z57: ='liczba dni zwłoki'!$E$23 -> 0 | AA57: ='liczba dni zwłoki'!$F$23 -> 36 | AB57: 0 | AC57: ='liczba dni zwłoki'!$H$23 -> 0 | AD57: ='liczba dni zwłoki'!$I$23 -> 36 | AE57: 0
A58: 10 | B58: kwicień 2014 | C58: 58 | D58: 1 | E58: =C58*5+D58*9 -> 299 | F58: ='liczba dni zwłoki'!$E$14 -> 181 | G58: ='liczba dni zwłoki'!$F$14 -> 132 | H58: =ROUND(((E58*0.1*F58)/365)+((E58*0.08*G58)/365),0) -> 23 | I58: ='liczba dni zwłoki'!$H$14 -> 138 | J58: ='liczba dni zwłoki'!$I$14 -> 130 | K58: =ROUND((((E58*0.1*I58)/365)+((E58*0.08*J58)/365)),0) -> 20 | L58: =(E58+K58)/E58 -> 1.0668896 | M58: =E58/L58 -> 280.25392 | N58: =E58-M58 -> 18.746082 | O58: =M58+N58 -> 299 | P58: =O58-Q58 -> 62.744934 | Q58: =N59 -> 236.25507 | X58: suma | Y58: =SUM(Y49:Y57) -> 3195 | AB58: =SUM(AB49:AB57) -> 112 | AE58: =SUM(AE49:AE57) -> 92
D59: suma | E59: =SUM(E49:E58) -> 3045 | H59: =SUM(H49:H58) -> 353 | K59: =SUM(K49:K58) -> 257 | M59: =SUM(M49:M58) -> 2808.7449 | N59: =E59-M59 -> 236.25507 | O59: =M59+N59 -> 3045 | P59: =SUM(P49:P58) -> 2808.7449 | Q59: =SUM(Q49:Q58) -> 236.25507
A65: ul. 3-go maja 24 E | S65: ul. 3-go maja 24 E
F67: Odsetki za zwłokę - przed decyzją o wyłączeniu | I67: Odsetki za zwłokę po wyłączeniu | Z67: Odsetki za zwłokę - przed decyzją o wyłączeniu | AC67: Odsetki za zwłokę po wyłączeniu
A68: Lp | B68: Miesiąc | C68: Ilość osób wg. poszczególnych stawek opłat | E68: Miesięczna opłata za gospodarowanie odpadami na nieruchomości | F68: Liczba dni zwłoki | H68: Kwota odsetek | I68: Liczba dni zwłoki po wyłączeniu | K68: Kwota odsetek po wyłączeniu | L68: Proporcjonalne rozliczenie odsetek i należności głównej | M68: Należność główna | N68: Odsetki | O68: SUMA | P68: Księgowanie należności głównej | Q68: Księgowanie odsetek | S68: Lp | T68: Miesiąc | U68: Ilość osób wg. poszczególnych stawek opłat | Y68: Miesięczna opłata za gospodarowanie odpadami na nieruchomości | Z68: Liczba dni zwłoki | AB68: Kwota odsetek | AC68: Liczba dni zwłoki po wyłączeniu | AE68: Kwota odsetek po wyłączeniu
C69: stawka 5 zł | D69: stawka 9 zł | F69: stawka 10% | G69: stawka 8% | I69: stawka 10% | J69: stawka 8% | U69: stawka 6 zł | V69: stawka 5 zł | W69: stawka 10 zł | X69: stawka 9 zł | Z69: stawka 10% | AA69: stawka 8% | AC69: stawka 10% | AD69: stawka 8%
A70: 1 | B70: lipiec 2013 | C70: 61 | D70: 5 | E70: =C70*5+D70*9 -> 350 | F70: ='liczba dni zwłoki'!$E$5 -> 455 | G70: ='liczba dni zwłoki'!$F$5 -> 132 | H70: =ROUND(((E70*0.1*F70)/365)+((E70*0.08*G70)/365),0) -> 54 | I70: ='liczba dni zwłoki'!$H$5 -> 323 | J70: ='liczba dni zwłoki'!$I$5 -> 130 | K70: =ROUND((((E70*0.1*I70)/365)+((E70*0.08*J70)/365)),0) -> 41 | L70: =(E70+K70)/E70 -> 1.1171429 | M70: =E70/L70 -> 313.29923 | N70: =E70-M70 -> 36.700767 | O70: =M70+N70 -> 350 | P70: =O70 -> 350 | S70: 11 | T70: maj 2014 | U70: 60 | V70: 0 | W70: 3 | X70: 0 | Y70: =U70*6+V70*5+W70*10+X70*9 -> 390 | Z70: ='liczba dni zwłoki'!$E$15 -> 149 | AA70: ='liczba dni zwłoki'!$F$15 -> 132 | AB70: =ROUND((((Y70*0.1*Z70)/365)+((Y70*0.08*AA70)/365)),0) -> 27 | AC70: ='liczba dni zwłoki'!$H$15 -> 106 | AD70: ='liczba dni zwłoki'!$I$15 -> 130 | AE70: =ROUND((((Y70*0.1*AC70)/365)+((Y70*0.08*AD70)/365)),0) -> 22
A71: 2 | B71: sierpień 2013 | C71: 61 | D71: 5 | E71: =+C71*5+D71*9 -> 350 | F71: ='liczba dni zwłoki'!$E$6 -> 422 | G71: ='liczba dni zwłoki'!$F$6 -> 132 | H71: =ROUND(((E71*0.1*F71)/365)+((E71*0.08*G71)/365),0) -> 51 | I71: ='liczba dni zwłoki'!$H$6 -> 290 | J71: ='liczba dni zwłoki'!$I$6 -> 130 | K71: =ROUND((((E71*0.1*I71)/365)+((E71*0.08*J71)/365)),0) -> 38 | L71: =(E71+K71)/E71 -> 1.1085714 | M71: =E71/L71 -> 315.72165 | N71: =E71-M71 -> 34.278351 | O71: =M71+N71 -> 350 | P71: =O71 -> 350 | S71: 12 | T71: czerwiec 2014 | U71: 60 | V71: 0 | W71: 3 | X71: 0 | Y71: =U71*6+V71*5+W71*10+X71*9 -> 390 | Z71: ='liczba dni zwłoki'!$E$16 -> 120 | AA71: ='liczba dni zwłoki'!$F$16 -> 132 | AB71: =ROUND((((Y71*0.1*Z71)/365)+((Y71*0.08*AA71)/365)),0) -> 24 | AC71: ='liczba dni zwłoki'!$H$16 -> 77 | AD71: ='liczba dni zwłoki'!$I$16 -> 130 | AE71: =ROUND((((Y71*0.1*AC71)/365)+((Y71*0.08*AD71)/365)),0) -> 19
A72: 3 | B72: wrzesień 2013 | C72: 61 | D72: 3 | E72: =C72*5+D72*9 -> 332 | F72: ='liczba dni zwłoki'!$E$7 -> 393 | G72: ='liczba dni zwłoki'!$F$7 -> 132 | H72: =ROUND(((E72*0.1*F72)/365)+((E72*0.08*G72)/365),0) -> 45 | I72: ='liczba dni zwłoki'!$H$7 -> 261 | J72: ='liczba dni zwłoki'!$I$7 -> 130 | K72: =ROUND((((E72*0.1*I72)/365)+((E72*0.08*J72)/365)),0) -> 33 | L72: =(E72+K72)/E72 -> 1.0993976 | M72: =E72/L72 -> 301.98356 | N72: =E72-M72 -> 30.016438 | O72: =M72+N72 -> 332 | P72: =O72 -> 332 | S72: 13 | T72: lipiec 2014 | U72: 60 | V72: 0 | W72: 3 | X72: 0 | Y72: =U72*6+V72*5+W72*10+X72*9 -> 390 | Z72: ='liczba dni zwłoki'!$E$17 -> 90 | AA72: ='liczba dni zwłoki'!$F$17 -> 132 | AB72: =ROUND((((Y72*0.1*Z72)/365)+((Y72*0.08*AA72)/365)),0) -> 21 | AC72: ='liczba dni zwłoki'!$H$17 -> 47 | AD72: ='liczba dni zwłoki'!$I$17 -> 130 | AE72: =ROUND((((Y72*0.1*AC72)/365)+((Y72*0.08*AD72)/365)),0) -> 16
A73: 4 | B73: październik 2013 | C73: 61 | D73: 3 | E73: =C73*5+D73*9 -> 332 | F73: ='liczba dni zwłoki'!$E$8 -> 363 | G73: ='liczba dni zwłoki'!$F$8 -> 132 | H73: =ROUND(((E73*0.1*F73)/365)+((E73*0.08*G73)/365),0) -> 43 | I73: ='liczba dni zwłoki'!$H$8 -> 231 | J73: ='liczba dni zwłoki'!$I$8 -> 130 | K73: =ROUND((((E73*0.1*I73)/365)+((E73*0.08*J73)/365)),0) -> 30 | L73: =(E73+K73)/E73 -> 1.0903614 | M73: =E73/L73 -> 304.48619 | N73: =E73-M73 -> 27.513812 | O73: =M73+N73 -> 332 | P73: =O73 -> 332 | S73: 14 | T73: sierpień 2014 | U73: 60 | V73: 0 | W73: 3 | X73: 0 | Y73: =U73*6+V73*5+W73*10+X73*9 -> 390 | Z73: ='liczba dni zwłoki'!$E$18 -> 58 | AA73: ='liczba dni zwłoki'!$F$18 -> 132 | AB73: =ROUND((((Y73*0.1*Z73)/365)+((Y73*0.08*AA73)/365)),0) -> 17 | AC73: ='liczba dni zwłoki'!$H$18 -> 15 | AD73: ='liczba dni zwłoki'!$I$18 -> 130 | AE73: =ROUND((((Y73*0.1*AC73)/365)+((Y73*0.08*AD73)/365)),0) -> 13
A74: 5 | B74: listopad 2013 | C74: 61 | D74: 3 | E74: =C74*5+D74*9 -> 332 | F74: ='liczba dni zwłoki'!$E$9 -> 330 | G74: ='liczba dni zwłoki'!$F$9 -> 132 | H74: =ROUND(((E74*0.1*F74)/365)+((E74*0.08*G74)/365),0) -> 40 | I74: ='liczba dni zwłoki'!$H$9 -> 198 | J74: ='liczba dni zwłoki'!$I$9 -> 130 | K74: =ROUND((((E74*0.1*I74)/365)+((E74*0.08*J74)/365)),0) -> 27 | L74: =(E74+K74)/E74 -> 1.0813253 | M74: =E74/L74 -> 307.03064 | N74: =E74-M74 -> 24.969359 | O74: =M74+N74 -> 332 | P74: =O74 -> 332 | S74: 15 | T74: wrzesień 2014 | U74: 60 | V74: 0 | W74: 3 | X74: 0 | Y74: =U74*6+V74*5+W74*10+X74*9 -> 390 | Z74: ='liczba dni zwłoki'!$E$19 -> 28 | AA74: ='liczba dni zwłoki'!$F$19 -> 132 | AB74: =ROUND((((Y74*0.1*Z74)/365)+((Y74*0.08*AA74)/365)),0) -> 14 | AC74: ='liczba dni zwłoki'!$H$19 -> 0 | AD74: ='liczba dni zwłoki'!$I$19 -> 130 | AE74: =ROUND((((Y74*0.1*AC74)/365)+((Y74*0.08*AD74)/365)),0) -> 11
A75: 6 | B75: grudzień 2013 | C75: 61 | D75: 3 | E75: =C75*5+D75*9 -> 332 | F75: ='liczba dni zwłoki'!$E$10 -> 302 | G75: ='liczba dni zwłoki'!$F$10 -> 132 | H75: =ROUND(((E75*0.1*F75)/365)+((E75*0.08*G75)/365),0) -> 37 | I75: ='liczba dni zwłoki'!$H$10 -> 170 | J75: ='liczba dni zwłoki'!$I$10 -> 130 | K75: =ROUND((((E75*0.1*I75)/365)+((E75*0.08*J75)/365)),0) -> 25 | L75: =(E75+K75)/E75 -> 1.0753012 | M75: =E75/L75 -> 308.7507 | N75: =E75-M75 -> 23.2493 | O75: =M75+N75 -> 332 | P75: =O75 -> 332 | S75: 16 | T75: październik 2014 | U75: 60 | V75: 0 | W75: 3 | X75: 0 | Y75: =U75*6+V75*5+W75*10+X75*9 -> 390 | Z75: ='liczba dni zwłoki'!$E$20 -> 0 | AA75: ='liczba dni zwłoki'!$F$20 -> 130 | AB75: =ROUND((((Y75*0.1*Z75)/365)+((Y75*0.08*AA75)/365)),0) -> 11 | AC75: ='liczba dni zwłoki'!$H$20 -> 0 | AD75: ='liczba dni zwłoki'!$I$20 -> 129 | AE75: =ROUND((((Y75*0.1*AC75)/365)+((Y75*0.08*AD75)/365)),0) -> 11
A76: 7 | B76: styczeń 2014 | C76: 61 | D76: 3 | E76: =C76*5+D76*9 -> 332 | F76: ='liczba dni zwłoki'!$E$11 -> 271 | G76: ='liczba dni zwłoki'!$F$11 -> 132 | H76: =ROUND(((E76*0.1*F76)/365)+((E76*0.08*G76)/365),0) -> 34 | I76: ='liczba dni zwłoki'!$H$11 -> 144 | J76: ='liczba dni zwłoki'!$I$11 -> 130 | K76: =ROUND((((E76*0.1*I76)/365)+((E76*0.08*J76)/365)),0) -> 23 | L76: =(E76+K76)/E76 -> 1.0692771 | M76: =E76/L76 -> 310.49014 | N76: =E76-M76 -> 21.509859 | O76: =M76+N76 -> 332 | P76: =O76 -> 332 | S76: 17 | T76: listopad 2014 | U76: 59 | V76: 0 | W76: 3 | X76: 0 | Y76: =U76*6+V76*5+W76*10+X76*9 -> 384 | Z76: ='liczba dni zwłoki'!$E$21 -> 0 | AA76: ='liczba dni zwłoki'!$F$21 -> 99 | AB76: =ROUND((((Y76*0.1*Z76)/365)+((Y76*0.08*AA76)/365)),0) -> 8 | AC76: ='liczba dni zwłoki'!$H$21 -> 0 | AD76: ='liczba dni zwłoki'!$I$21 -> 99 | AE76: =ROUND((((Y76*0.1*AC76)/365)+((Y76*0.08*AD76)/365)),0) -> 8
A77: 8 | B77: luty 2014 | C77: 61 | D77: 3 | E77: =C77*5+D77*9 -> 332 | F77: ='liczba dni zwłoki'!$E$12 -> 240 | G77: ='liczba dni zwłoki'!$F$12 -> 132 | H77: =ROUND(((E77*0.1*F77)/365)+((E77*0.08*G77)/365),0) -> 31 | I77: ='liczba dni zwłoki'!$H$12 -> 144 | J77: ='liczba dni zwłoki'!$I$12 -> 130 | K77: =ROUND((((E77*0.1*I77)/365)+((E77*0.08*J77)/365)),0) -> 23 | L77: =(E77+K77)/E77 -> 1.0692771 | M77: =E77/L77 -> 310.49014 | N77: =E77-M77 -> 21.509859 | O77: =M77+N77 -> 332 | P77: =O77 -> 332 | S77: 18 | T77: grudzień 2014 | U77: 59 | V77: 0 | W77: 3 | X77: 0 | Y77: =U77*6+V77*5+W77*10+X77*9 -> 384 | Z77: ='liczba dni zwłoki'!$E$22 -> 0 | AA77: ='liczba dni zwłoki'!$F$22 -> 69 | AB77: 0 | AC77: ='liczba dni zwłoki'!$H$22 -> 0 | AD77: ='liczba dni zwłoki'!$I$22 -> 69 | AE77: 0
A78: 9 | B78: marzec 2014 | C78: 60 | D78: 3 | E78: =C78*5+D78*9 -> 327 | F78: ='liczba dni zwłoki'!$E$13 -> 212 | G78: ='liczba dni zwłoki'!$F$13 -> 132 | H78: =ROUND(((E78*0.1*F78)/365)+((E78*0.08*G78)/365),0) -> 28 | I78: ='liczba dni zwłoki'!$H$13 -> 144 | J78: ='liczba dni zwłoki'!$I$13 -> 130 | K78: =ROUND((((E78*0.1*I78)/365)+((E78*0.08*J78)/365)),0) -> 22 | L78: =(E78+K78)/E78 -> 1.0672783 | M78: =E78/L78 -> 306.38682 | N78: =E78-M78 -> 20.613181 | O78: =M78+N78 -> 327 | P78: =O78 -> 327 | S78: 19 | T78: styczeń 2015 | U78: 59 | V78: 0 | W78: 3 | X78: 0 | Y78: =U78*6+V78*5+W78*10+X78*9 -> 384 | Z78: ='liczba dni zwłoki'!$E$23 -> 0 | AA78: ='liczba dni zwłoki'!$F$23 -> 36 | AB78: 0 | AC78: ='liczba dni zwłoki'!$H$23 -> 0 | AD78: ='liczba dni zwłoki'!$I$23 -> 36 | AE78: 0
A79: 10 | B79: kwicień 2014 | C79: 60 | D79: 3 | E79: =C79*5+D79*9 -> 327 | F79: ='liczba dni zwłoki'!$E$14 -> 181 | G79: ='liczba dni zwłoki'!$F$14 -> 132 | H79: =ROUND(((E79*0.1*F79)/365)+((E79*0.08*G79)/365),0) -> 26 | I79: ='liczba dni zwłoki'!$H$14 -> 138 | J79: ='liczba dni zwłoki'!$I$14 -> 130 | K79: =ROUND((((E79*0.1*I79)/365)+((E79*0.08*J79)/365)),0) -> 22 | L79: =(E79+K79)/E79 -> 1.0672783 | M79: =E79/L79 -> 306.38682 | N79: =E79-M79 -> 20.613181 | O79: =M79+N79 -> 327 | P79: =O79-Q79 -> 66.025893 | Q79: =N80 -> 260.97411 | X79: suma | Y79: =SUM(Y70:Y78) -> 3492 | AB79: =SUM(AB70:AB78) -> 122 | AE79: =SUM(AE70:AE78) -> 100
D80: Suma | E80: =SUM(E70:E79) -> 3346 | H80: =SUM(H70:H79) -> 389 | K80: =SUM(K70:K79) -> 284 | M80: =SUM(M70:M79) -> 3085.0259 | N80: =E80-M80 -> 260.97411 | O80: =M80+N80 -> 3346 | P80: =SUM(P70:P79) -> 3085.0259 | Q80: =SUM(Q70:Q79) -> 260.97411
A86: ul. 3-go maja 40 | S86: ul. 3-go maja 40
F88: Odsetki za zwłokę - przed decyzją o wyłączeniu | I88: Odsetki za zwłokę po wyłączeniu | Z88: Odsetki za zwłokę - przed decyzją o wyłączeniu | AC88: Odsetki za zwłokę po wyłączeniu
A89: Lp | B89: Miesiąc | C89: Ilość osób wg. poszczególnych stawek opłat | E89: Miesięczna opłata za gospodarowanie odpadami na nieruchomości | F89: Liczba dni zwłoki | H89: Kwota odsetek | I89: Liczba dni zwłoki po wyłączeniu | K89: Kwota odsetek po wyłączeniu | L89: Proporcjonalne rozliczenie odsetek i należności głównej | M89: Należność główna | N89: Odsetki | O89: SUMA | P89: Księgowanie należności głównej | Q89: Księgowanie odsetek | S89: Lp | T89: Miesiąc | U89: Ilość osób wg. poszczególnych stawek opłat | Y89: Miesięczna opłata za gospodarowanie odpadami na nieruchomości | Z89: Liczba dni zwłoki | AB89: Kwota odsetek | AC89: Liczba dni zwłoki po wyłączeniu | AE89: Kwota odsetek po wyłączeniu
C90: stawka 5 zł | D90: stawka 9 zł | F90: stawka 10% | G90: stawka 8% | I90: stawka 10% | J90: stawka 8% | U90: stawka 6 zł | V90: stawka 5 zł | W90: stawka 10 zł | X90: stawka 9 zł | Z90: stawka 10% | AA90: stawka 8% | AC90: stawka 10% | AD90: stawka 8%
A91: 1 | B91: lipiec 2013 | C91: 94 | D91: 10 | E91: =C91*5+D91*9 -> 560 | F91: ='liczba dni zwłoki'!$E$5 -> 455 | G91: ='liczba dni zwłoki'!$F$5 -> 132 | H91: =ROUND(((E91*0.1*F91)/365)+((E91*0.08*G91)/365),0) -> 86 | I91: ='liczba dni zwłoki'!$H$5 -> 323 | J91: ='liczba dni zwłoki'!$I$5 -> 130 | K91: =ROUND((((E91*0.1*I91)/365)+((E91*0.08*J91)/365)),0) -> 66 | L91: =(E91+K91)/E91 -> 1.1178571 | M91: =E91/L91 -> 500.95847 | N91: =E91-M91 -> 59.041534 | O91: =M91+N91 -> 560 | P91: =O91 -> 560 | S91: 11 | T91: maj 2014 | U91: 89 | V91: 0 | W91: 13 | X91: 0 | Y91: =U91*6+V91*5+W91*10+X91*9 -> 664 | Z91: ='liczba dni zwłoki'!$E$15 -> 149 | AA91: ='liczba dni zwłoki'!$F$15 -> 132 | AB91: =ROUND((((Y91*0.1*Z91)/365)+((Y91*0.08*AA91)/365)),0) -> 46 | AC91: ='liczba dni zwłoki'!$H$15 -> 106 | AD91: ='liczba dni zwłoki'!$I$15 -> 130 | AE91: =ROUND((((Y91*0.1*AC91)/365)+((Y91*0.08*AD91)/365)),0) -> 38
A92: 2 | B92: sierpień 2013 | C92: 91 | D92: 10 | E92: =+C92*5+D92*9 -> 545 | F92: ='liczba dni zwłoki'!$E$6 -> 422 | G92: ='liczba dni zwłoki'!$F$6 -> 132 | H92: =ROUND(((E92*0.1*F92)/365)+((E92*0.08*G92)/365),0) -> 79 | I92: ='liczba dni zwłoki'!$H$6 -> 290 | J92: ='liczba dni zwłoki'!$I$6 -> 130 | K92: =ROUND((((E92*0.1*I92)/365)+((E92*0.08*J92)/365)),0) -> 59 | L92: =(E92+K92)/E92 -> 1.1082569 | M92: =E92/L92 -> 491.76325 | N92: =E92-M92 -> 53.236755 | O92: =M92+N92 -> 545 | P92: =O92 -> 545 | S92: 12 | T92: czerwiec 2014 | U92: 89 | V92: 0 | W92: 13 | X92: 0 | Y92: =U92*6+V92*5+W92*10+X92*9 -> 664 | Z92: ='liczba dni zwłoki'!$E$16 -> 120 | AA92: ='liczba dni zwłoki'!$F$16 -> 132 | AB92: =ROUND((((Y92*0.1*Z92)/365)+((Y92*0.08*AA92)/365)),0) -> 41 | AC92: ='liczba dni zwłoki'!$H$16 -> 77 | AD92: ='liczba dni zwłoki'!$I$16 -> 130 | AE92: =ROUND((((Y92*0.1*AC92)/365)+((Y92*0.08*AD92)/365)),0) -> 33
A93: 3 | B93: wrzesień 2013 | C93: 89 | D93: 12 | E93: =C93*5+D93*9 -> 553 | F93: ='liczba dni zwłoki'!$E$7 -> 393 | G93: ='liczba dni zwłoki'!$F$7 -> 132 | H93: =ROUND(((E93*0.1*F93)/365)+((E93*0.08*G93)/365),0) -> 76 | I93: ='liczba dni zwłoki'!$H$7 -> 261 | J93: ='liczba dni zwłoki'!$I$7 -> 130 | K93: =ROUND((((E93*0.1*I93)/365)+((E93*0.08*J93)/365)),0) -> 55 | L93: =(E93+K93)/E93 -> 1.0994575 | M93: =E93/L93 -> 502.97533 | N93: =E93-M93 -> 50.024671 | O93: =M93+N93 -> 553 | P93: =O93 -> 553 | S93: 13 | T93: lipiec 2014 | U93: 89 | V93: 0 | W93: 10 | X93: 0 | Y93: =U93*6+V93*5+W93*10+X93*9 -> 634 | Z93: ='liczba dni zwłoki'!$E$17 -> 90 | AA93: ='liczba dni zwłoki'!$F$17 -> 132 | AB93: =ROUND((((Y93*0.1*Z93)/365)+((Y93*0.08*AA93)/365)),0) -> 34 | AC93: ='liczba dni zwłoki'!$H$17 -> 47 | AD93: ='liczba dni zwłoki'!$I$17 -> 130 | AE93: =ROUND((((Y93*0.1*AC93)/365)+((Y93*0.08*AD93)/365)),0) -> 26
A94: 4 | B94: październik 2013 | C94: 89 | D94: 13 | E94: =C94*5+D94*9 -> 562 | F94: ='liczba dni zwłoki'!$E$8 -> 363 | G94: ='liczba dni zwłoki'!$F$8 -> 132 | H94: =ROUND(((E94*0.1*F94)/365)+((E94*0.08*G94)/365),0) -> 72 | I94: ='liczba dni zwłoki'!$H$8 -> 231 | J94: ='liczba dni zwłoki'!$I$8 -> 130 | K94: =ROUND((((E94*0.1*I94)/365)+((E94*0.08*J94)/365)),0) -> 52 | L94: =(E94+K94)/E94 -> 1.0925267 | M94: =E94/L94 -> 514.40391 | N94: =E94-M94 -> 47.596091 | O94: =M94+N94 -> 562 | P94: =O94 -> 562 | S94: 14 | T94: sierpień 2014 | U94: 86 | V94: 0 | W94: 10 | X94: 0 | Y94: =U94*6+V94*5+W94*10+X94*9 -> 616 | Z94: ='liczba dni zwłoki'!$E$18 -> 58 | AA94: ='liczba dni zwłoki'!$F$18 -> 132 | AB94: =ROUND((((Y94*0.1*Z94)/365)+((Y94*0.08*AA94)/365)),0) -> 28 | AC94: ='liczba dni zwłoki'!$H$18 -> 15 | AD94: ='liczba dni zwłoki'!$I$18 -> 130 | AE94: =ROUND((((Y94*0.1*AC94)/365)+((Y94*0.08*AD94)/365)),0) -> 20
A95: 5 | B95: listopad 2013 | C95: 89 | D95: 13 | E95: =C95*5+D95*9 -> 562 | F95: ='liczba dni zwłoki'!$E$9 -> 330 | G95: ='liczba dni zwłoki'!$F$9 -> 132 | H95: =ROUND(((E95*0.1*F95)/365)+((E95*0.08*G95)/365),0) -> 67 | I95: ='liczba dni zwłoki'!$H$9 -> 198 | J95: ='liczba dni zwłoki'!$I$9 -> 130 | K95: =ROUND((((E95*0.1*I95)/365)+((E95*0.08*J95)/365)),0) -> 46 | L95: =(E95+K95)/E95 -> 1.0818505 | M95: =E95/L95 -> 519.48026 | N95: =E95-M95 -> 42.519737 | O95: =M95+N95 -> 562 | P95: =O95 -> 562 | S95: 15 | T95: wrzesień 2014 | U95: 85 | V95: 0 | W95: 10 | X95: 0 | Y95: =U95*6+V95*5+W95*10+X95*9 -> 610 | Z95: ='liczba dni zwłoki'!$E$19 -> 28 | AA95: ='liczba dni zwłoki'!$F$19 -> 132 | AB95: =ROUND((((Y95*0.1*Z95)/365)+((Y95*0.08*AA95)/365)),0) -> 22 | AC95: ='liczba dni zwłoki'!$H$19 -> 0 | AD95: ='liczba dni zwłoki'!$I$19 -> 130 | AE95: =ROUND((((Y95*0.1*AC95)/365)+((Y95*0.08*AD95)/365)),0) -> 17
A96: 6 | B96: grudzień 2013 | C96: 89 | D96: 13 | E96: =C96*5+D96*9 -> 562 | F96: ='liczba dni zwłoki'!$E$10 -> 302 | G96: ='liczba dni zwłoki'!$F$10 -> 132 | H96: =ROUND(((E96*0.1*F96)/365)+((E96*0.08*G96)/365),0) -> 63 | I96: ='liczba dni zwłoki'!$H$10 -> 170 | J96: ='liczba dni zwłoki'!$I$10 -> 130 | K96: =ROUND((((E96*0.1*I96)/365)+((E96*0.08*J96)/365)),0) -> 42 | L96: =(E96+K96)/E96 -> 1.0747331 | M96: =E96/L96 -> 522.92053 | N96: =E96-M96 -> 39.07947 | O96: =M96+N96 -> 562 | P96: =O96 -> 562 | S96: 16 | T96: październik 2014 | U96: 85 | V96: 0 | W96: 10 | X96: 0 | Y96: =U96*6+V96*5+W96*10+X96*9 -> 610 | Z96: ='liczba dni zwłoki'!$E$20 -> 0 | AA96: ='liczba dni zwłoki'!$F$20 -> 130 | AB96: =ROUND((((Y96*0.1*Z96)/365)+((Y96*0.08*AA96)/365)),0) -> 17 | AC96: ='liczba dni zwłoki'!$H$20 -> 0 | AD96: ='liczba dni zwłoki'!$I$20 -> 129 | AE96: =ROUND((((Y96*0.1*AC96)/365)+((Y96*0.08*AD96)/365)),0) -> 17
A97: 7 | B97: styczeń 2014 | C97: 89 | D97: 13 | E97: =C97*5+D97*9 -> 562 | F97: ='liczba dni zwłoki'!$E$11 -> 271 | G97: ='liczba dni zwłoki'!$F$11 -> 132 | H97: =ROUND(((E97*0.1*F97)/365)+((E97*0.08*G97)/365),0) -> 58 | I97: ='liczba dni zwłoki'!$H$11 -> 144 | J97: ='liczba dni zwłoki'!$I$11 -> 130 | K97: =ROUND((((E97*0.1*I97)/365)+((E97*0.08*J97)/365)),0) -> 38 | L97: =(E97+K97)/E97 -> 1.0676157 | M97: =E97/L97 -> 526.40667 | N97: =E97-M97 -> 35.593333 | O97: =M97+N97 -> 562 | P97: =O97 -> 562 | S97: 17 | T97: listopad 2014 | U97: 85 | V97: 0 | W97: 10 | X97: 0 | Y97: =U97*6+V97*5+W97*10+X97*9 -> 610 | Z97: ='liczba dni zwłoki'!$E$21 -> 0 | AA97: ='liczba dni zwłoki'!$F$21 -> 99 | AB97: =ROUND((((Y97*0.1*Z97)/365)+((Y97*0.08*AA97)/365)),0) -> 13 | AC97: ='liczba dni zwłoki'!$H$21 -> 0 | AD97: ='liczba dni zwłoki'!$I$21 -> 99 | AE97: =ROUND((((Y97*0.1*AC97)/365)+((Y97*0.08*AD97)/365)),0) -> 13
A98: 8 | B98: luty 2014 | C98: 89 | D98: 13 | E98: =C98*5+D98*9 -> 562 | F98: ='liczba dni zwłoki'!$E$12 -> 240 | G98: ='liczba dni zwłoki'!$F$12 -> 132 | H98: =ROUND(((E98*0.1*F98)/365)+((E98*0.08*G98)/365),0) -> 53 | I98: ='liczba dni zwłoki'!$H$12 -> 144 | J98: ='liczba dni zwłoki'!$I$12 -> 130 | K98: =ROUND((((E98*0.1*I98)/365)+((E98*0.08*J98)/365)),0) -> 38 | L98: =(E98+K98)/E98 -> 1.0676157 | M98: =E98/L98 -> 526.40667 | N98: =E98-M98 -> 35.593333 | O98: =M98+N98 -> 562 | P98: =O98 -> 562 | S98: 18 | T98: grudzień 2014 | U98: 85 | V98: 0 | W98: 10 | X98: 0 | Y98: =U98*6+V98*5+W98*10+X98*9 -> 610 | Z98: ='liczba dni zwłoki'!$E$22 -> 0 | AA98: ='liczba dni zwłoki'!$F$22 -> 69 | AB98: =ROUND((((Y98*0.1*Z98)/365)+((Y98*0.08*AA98)/365)),0) -> 9 | AC98: ='liczba dni zwłoki'!$H$22 -> 0 | AD98: ='liczba dni zwłoki'!$I$22 -> 69 | AE98: =ROUND((((Y98*0.1*AC98)/365)+((Y98*0.08*AD98)/365)),0) -> 9
A99: 9 | B99: marzec 2014 | C99: 89 | D99: 13 | E99: =C99*5+D99*9 -> 562 | F99: ='liczba dni zwłoki'!$E$13 -> 212 | G99: ='liczba dni zwłoki'!$F$13 -> 132 | H99: =ROUND(((E99*0.1*F99)/365)+((E99*0.08*G99)/365),0) -> 49 | I99: ='liczba dni zwłoki'!$H$13 -> 144 | J99: ='liczba dni zwłoki'!$I$13 -> 130 | K99: =ROUND((((E99*0.1*I99)/365)+((E99*0.08*J99)/365)),0) -> 38 | L99: =(E99+K99)/E99 -> 1.0676157 | M99: =E99/L99 -> 526.40667 | N99: =E99-M99 -> 35.593333 | O99: =M99+N99 -> 562 | P99: =O99 -> 562 | S99: 19 | T99: styczeń 2015 | U99: 85 | V99: 0 | W99: 10 | X99: 0 | Y99: =U99*6+V99*5+W99*10+X99*9 -> 610 | Z99: ='liczba dni zwłoki'!$E$23 -> 0 | AA99: ='liczba dni zwłoki'!$F$23 -> 36 | AB99: 0 | AC99: ='liczba dni zwłoki'!$H$23 -> 0 | AD99: ='liczba dni zwłoki'!$I$23 -> 36 | AE99: 0
A100: 10 | B100: kwicień 2014 | C100: 89 | D100: 13 | E100: =C100*5+D100*9 -> 562 | F100: ='liczba dni zwłoki'!$E$14 -> 181 | G100: ='liczba dni zwłoki'!$F$14 -> 132 | H100: =ROUND(((E100*0.1*F100)/365)+((E100*0.08*G100)/365),0) -> 44 | I100: ='liczba dni zwłoki'!$H$14 -> 138 | J100: ='liczba dni zwłoki'!$I$14 -> 130 | K100: =ROUND((((E100*0.1*I100)/365)+((E100*0.08*J100)/365)),0) -> 37 | L100: =(E100+K100)/E100 -> 1.0658363 | M100: =E100/L100 -> 527.28548 | N100: =E100-M100 -> 34.714524 | O100: =M100+N100 -> 562 | P100: =O100-Q100 -> 129.00722 | Q100: =N101 -> 432.99278 | X100: suma | Y100: =SUM(Y91:Y99) -> 5628 | AB100: =SUM(AB91:AB99) -> 210 | AE100: =SUM(AE91:AE99) -> 173
D101: Suma | E101: =SUM(E91:E100) -> 5592 | H101: =SUM(H91:H100) -> 647 | K101: =SUM(K91:K100) -> 471 | M101: =SUM(M91:M100) -> 5159.0072 | N101: =E101-M101 -> 432.99278 | O101: =M101+N101 -> 5592 | P101: =SUM(P91:P100) -> 5159.0072 | Q101: =SUM(Q91:Q100) -> 432.99278
A107: ul. 3-go maja 42 | S107: ul. 3-go maja 42
F109: Odsetki za zwłokę - przed decyzją o wyłączeniu | I109: Odsetki za zwłokę po wyłączeniu | Z109: Odsetki za zwłokę - przed decyzją o wyłączeniu | AC109: Odsetki za zwłokę po wyłączeniu
A110: Lp | B110: Miesiąc | C110: Ilość osób wg. poszczególnych stawek opłat | E110: Miesięczna opłata za gospodarowanie odpadami na nieruchomości | F110: Liczba dni zwłoki | H110: Kwota odsetek | I110: Liczba dni zwłoki po wyłączeniu | K110: Kwota odsetek po wyłączeniu | L110: Proporcjonalne rozliczenie odsetek i należności głównej | M110: Należność główna | N110: Odsetki | O110: SUMA | P110: Księgowanie należności głównej | Q110: Księgowanie odsetek | S110: Lp | T110: Miesiąc | U110: Ilość osób wg. poszczególnych stawek opłat | Y110: Miesięczna opłata za gospodarowanie odpadami na nieruchomości | Z110: Liczba dni zwłoki | AB110: Kwota odsetek | AC110: Liczba dni zwłoki po wyłączeniu | AE110: Kwota odsetek po wyłączeniu
C111: stawka 5 zł | D111: stawka 9 zł | F111: stawka 10% | G111: stawka 8% | I111: stawka 10% | J111: stawka 8% | U111: stawka 6 zł | V111: stawka 5 zł | W111: stawka 10 zł | X111: stawka 9 zł | Z111: stawka 10% | AA111: stawka 8% | AC111: stawka 10% | AD111: stawka 8%
A112: 1 | B112: lipiec 2013 | C112: 94 | D112: 0 | E112: =C112*5+D112*9 -> 470 | F112: ='liczba dni zwłoki'!$E$5 -> 455 | G112: ='liczba dni zwłoki'!$F$5 -> 132 | H112: =ROUND(((E112*0.1*F112)/365)+((E112*0.08*G112)/365),0) -> 72 | I112: ='liczba dni zwłoki'!$H$5 -> 323 | J112: ='liczba dni zwłoki'!$I$5 -> 130 | K112: =ROUND((((E112*0.1*I112)/365)+((E112*0.08*J112)/365)),0) -> 55 | L112: =(E112+K112)/E112 -> 1.1170213 | M112: =E112/L112 -> 420.7619 | N112: =E112-M112 -> 49.238095 | O112: =M112+N112 -> 470 | P112: =O112 -> 470 | S112: 11 | T112: maj 2014 | U112: 87 | V112: 0 | W112: 0 | X112: 0 | Y112: =U112*6+V112*5+W112*10+X112*9 -> 522 | Z112: ='liczba dni zwłoki'!$E$15 -> 149 | AA112: ='liczba dni zwłoki'!$F$15 -> 132 | AB112: =ROUND((((Y112*0.1*Z112)/365)+((Y112*0.08*AA112)/365)),0) -> 36 | AC112: ='liczba dni zwłoki'!$H$15 -> 106 | AD112: ='liczba dni zwłoki'!$I$15 -> 130 | AE112: =ROUND((((Y112*0.1*AC112)/365)+((Y112*0.08*AD112)/365)),0) -> 30
A113: 2 | B113: sierpień 2013 | C113: 93 | D113: 0 | E113: =+C113*5+D113*9 -> 465 | F113: ='liczba dni zwłoki'!$E$6 -> 422 | G113: ='liczba dni zwłoki'!$F$6 -> 132 | H113: =ROUND(((E113*0.1*F113)/365)+((E113*0.08*G113)/365),0) -> 67 | I113: ='liczba dni zwłoki'!$H$6 -> 290 | J113: ='liczba dni zwłoki'!$I$6 -> 130 | K113: =ROUND((((E113*0.1*I113)/365)+((E113*0.08*J113)/365)),0) -> 50 | L113: =(E113+K113)/E113 -> 1.1075269 | M113: =E113/L113 -> 419.85437 | N113: =E113-M113 -> 45.145631 | O113: =M113+N113 -> 465 | P113: =O113 -> 465 | S113: 12 | T113: czerwiec 2014 | U113: 87 | V113: 0 | W113: 0 | X113: 0 | Y113: =U113*6+V113*5+W113*10+X113*9 -> 522 | Z113: ='liczba dni zwłoki'!$E$16 -> 120 | AA113: ='liczba dni zwłoki'!$F$16 -> 132 | AB113: =ROUND((((Y113*0.1*Z113)/365)+((Y113*0.08*AA113)/365)),0) -> 32 | AC113: ='liczba dni zwłoki'!$H$16 -> 77 | AD113: ='liczba dni zwłoki'!$I$16 -> 130 | AE113: =ROUND((((Y113*0.1*AC113)/365)+((Y113*0.08*AD113)/365)),0) -> 26
A114: 3 | B114: wrzesień 2013 | C114: 92 | D114: 0 | E114: =C114*5+D114*9 -> 460 | F114: ='liczba dni zwłoki'!$E$7 -> 393 | G114: ='liczba dni zwłoki'!$F$7 -> 132 | H114: =ROUND(((E114*0.1*F114)/365)+((E114*0.08*G114)/365),0) -> 63 | I114: ='liczba dni zwłoki'!$H$7 -> 261 | J114: ='liczba dni zwłoki'!$I$7 -> 130 | K114: =ROUND((((E114*0.1*I114)/365)+((E114*0.08*J114)/365)),0) -> 46 | L114: =(E114+K114)/E114 -> 1.1 | M114: =E114/L114 -> 418.18182 | N114: =E114-M114 -> 41.818182 | O114: =M114+N114 -> 460 | P114: =O114 -> 460 | S114: 13 | T114: lipiec 2014 | U114: 87 | V114: 0 | W114: 0 | X114: 0 | Y114: =U114*6+V114*5+W114*10+X114*9 -> 522 | Z114: ='liczba dni zwłoki'!$E$17 -> 90 | AA114: ='liczba dni zwłoki'!$F$17 -> 132 | AB114: =ROUND((((Y114*0.1*Z114)/365)+((Y114*0.08*AA114)/365)),0) -> 28 | AC114: ='liczba dni zwłoki'!$H$17 -> 47 | AD114: ='liczba dni zwłoki'!$I$17 -> 130 | AE114: =ROUND((((Y114*0.1*AC114)/365)+((Y114*0.08*AD114)/365)),0) -> 22
A115: 4 | B115: październik 2013 | C115: 92 | D115: 0 | E115: =C115*5+D115*9 -> 460 | F115: ='liczba dni zwłoki'!$E$8 -> 363 | G115: ='liczba dni zwłoki'!$F$8 -> 132 | H115: =ROUND(((E115*0.1*F115)/365)+((E115*0.08*G115)/365),0) -> 59 | I115: ='liczba dni zwłoki'!$H$8 -> 231 | J115: ='liczba dni zwłoki'!$I$8 -> 130 | K115: =ROUND((((E115*0.1*I115)/365)+((E115*0.08*J115)/365)),0) -> 42 | L115: =(E115+K115)/E115 -> 1.0913043 | M115: =E115/L115 -> 421.51394 | N115: =E115-M115 -> 38.486056 | O115: =M115+N115 -> 460 | P115: =O115 -> 460 | S115: 14 | T115: sierpień 2014 | U115: 87 | V115: 0 | W115: 0 | X115: 0 | Y115: =U115*6+V115*5+W115*10+X115*9 -> 522 | Z115: ='liczba dni zwłoki'!$E$18 -> 58 | AA115: ='liczba dni zwłoki'!$F$18 -> 132 | AB115: =ROUND((((Y115*0.1*Z115)/365)+((Y115*0.08*AA115)/365)),0) -> 23 | AC115: ='liczba dni zwłoki'!$H$18 -> 15 | AD115: ='liczba dni zwłoki'!$I$18 -> 130 | AE115: =ROUND((((Y115*0.1*AC115)/365)+((Y115*0.08*AD115)/365)),0) -> 17
A116: 5 | B116: listopad 2013 | C116: 89 | D116: 0 | E116: =C116*5+D116*9 -> 445 | F116: ='liczba dni zwłoki'!$E$9 -> 330 | G116: ='liczba dni zwłoki'!$F$9 -> 132 | H116: =ROUND(((E116*0.1*F116)/365)+((E116*0.08*G116)/365),0) -> 53 | I116: ='liczba dni zwłoki'!$H$9 -> 198 | J116: ='liczba dni zwłoki'!$I$9 -> 130 | K116: =ROUND((((E116*0.1*I116)/365)+((E116*0.08*J116)/365)),0) -> 37 | L116: =(E116+K116)/E116 -> 1.0831461 | M116: =E116/L116 -> 410.84025 | N116: =E116-M116 -> 34.159751 | O116: =M116+N116 -> 445 | P116: =O116 -> 445 | S116: 15 | T116: wrzesień 2014 | U116: 87 | V116: 0 | W116: 0 | X116: 0 | Y116: =U116*6+V116*5+W116*10+X116*9 -> 522 | Z116: ='liczba dni zwłoki'!$E$19 -> 28 | AA116: ='liczba dni zwłoki'!$F$19 -> 132 | AB116: =ROUND((((Y116*0.1*Z116)/365)+((Y116*0.08*AA116)/365)),0) -> 19 | AC116: ='liczba dni zwłoki'!$H$19 -> 0 | AD116: ='liczba dni zwłoki'!$I$19 -> 130 | AE116: =ROUND((((Y116*0.1*AC116)/365)+((Y116*0.08*AD116)/365)),0) -> 15
A117: 6 | B117: grudzień 2013 | C117: 89 | D117: 0 | E117: =C117*5+D117*9 -> 445 | F117: ='liczba dni zwłoki'!$E$10 -> 302 | G117: ='liczba dni zwłoki'!$F$10 -> 132 | H117: =ROUND(((E117*0.1*F117)/365)+((E117*0.08*G117)/365),0) -> 50 | I117: ='liczba dni zwłoki'!$H$10 -> 170 | J117: ='liczba dni zwłoki'!$I$10 -> 130 | K117: =ROUND((((E117*0.1*I117)/365)+((E117*0.08*J117)/365)),0) -> 33 | L117: =(E117+K117)/E117 -> 1.0741573 | M117: =E117/L117 -> 414.27824 | N117: =E117-M117 -> 30.721757 | O117: =M117+N117 -> 445 | P117: =O117 -> 445 | S117: 16 | T117: październik 2014 | U117: 87 | V117: 0 | W117: 0 | X117: 0 | Y117: =U117*6+V117*5+W117*10+X117*9 -> 522 | Z117: ='liczba dni zwłoki'!$E$20 -> 0 | AA117: ='liczba dni zwłoki'!$F$20 -> 130 | AB117: =ROUND((((Y117*0.1*Z117)/365)+((Y117*0.08*AA117)/365)),0) -> 15 | AC117: ='liczba dni zwłoki'!$H$20 -> 0 | AD117: ='liczba dni zwłoki'!$I$20 -> 129 | AE117: =ROUND((((Y117*0.1*AC117)/365)+((Y117*0.08*AD117)/365)),0) -> 15
A118: 7 | B118: styczeń 2014 | C118: 89 | D118: 0 | E118: =C118*5+D118*9 -> 445 | F118: ='liczba dni zwłoki'!$E$11 -> 271 | G118: ='liczba dni zwłoki'!$F$11 -> 132 | H118: =ROUND(((E118*0.1*F118)/365)+((E118*0.08*G118)/365),0) -> 46 | I118: ='liczba dni zwłoki'!$H$11 -> 144 | J118: ='liczba dni zwłoki'!$I$11 -> 130 | K118: =ROUND((((E118*0.1*I118)/365)+((E118*0.08*J118)/365)),0) -> 30 | L118: =(E118+K118)/E118 -> 1.0674157 | M118: =E118/L118 -> 416.89474 | N118: =E118-M118 -> 28.105263 | O118: =M118+N118 -> 445 | P118: =O118 -> 445 | S118: 17 | T118: listopad 2014 | U118: 87 | V118: 0 | W118: 0 | X118: 0 | Y118: =U118*6+V118*5+W118*10+X118*9 -> 522 | Z118: ='liczba dni zwłoki'!$E$21 -> 0 | AA118: ='liczba dni zwłoki'!$F$21 -> 99 | AB118: =ROUND((((Y118*0.1*Z118)/365)+((Y118*0.08*AA118)/365)),0) -> 11 | AC118: ='liczba dni zwłoki'!$H$21 -> 0 | AD118: ='liczba dni zwłoki'!$I$21 -> 99 | AE118: =ROUND((((Y118*0.1*AC118)/365)+((Y118*0.08*AD118)/365)),0) -> 11
A119: 8 | B119: luty 2014 | C119: 89 | D119: 0 | E119: =C119*5+D119*9 -> 445 | F119: ='liczba dni zwłoki'!$E$12 -> 240 | G119: ='liczba dni zwłoki'!$F$12 -> 132 | H119: =ROUND(((E119*0.1*F119)/365)+((E119*0.08*G119)/365),0) -> 42 | I119: ='liczba dni zwłoki'!$H$12 -> 144 | J119: ='liczba dni zwłoki'!$I$12 -> 130 | K119: =ROUND((((E119*0.1*I119)/365)+((E119*0.08*J119)/365)),0) -> 30 | L119: =(E119+K119)/E119 -> 1.0674157 | M119: =E119/L119 -> 416.89474 | N119: =E119-M119 -> 28.105263 | O119: =M119+N119 -> 445 | P119: =O119 -> 445 | S119: 18 | T119: grudzień 2014 | U119: 87 | V119: 0 | W119: 0 | X119: 0 | Y119: =U119*6+V119*5+W119*10+X119*9 -> 522 | Z119: ='liczba dni zwłoki'!$E$22 -> 0 | AA119: ='liczba dni zwłoki'!$F$22 -> 69 | AB119: =ROUND((((Y119*0.1*Z119)/365)+((Y119*0.08*AA119)/365)),0) -> 8 | AC119: ='liczba dni zwłoki'!$H$22 -> 0 | AD119: ='liczba dni zwłoki'!$I$22 -> 69 | AE119: =ROUND((((Y119*0.1*AC119)/365)+((Y119*0.08*AD119)/365)),0) -> 8
A120: 9 | B120: marzec 2014 | C120: 89 | D120: 0 | E120: =C120*5+D120*9 -> 445 | F120: ='liczba dni zwłoki'!$E$13 -> 212 | G120: ='liczba dni zwłoki'!$F$13 -> 132 | H120: =ROUND(((E120*0.1*F120)/365)+((E120*0.08*G120)/365),0) -> 39 | I120: ='liczba dni zwłoki'!$H$13 -> 144 | J120: ='liczba dni zwłoki'!$I$13 -> 130 | K120: =ROUND((((E120*0.1*I120)/365)+((E120*0.08*J120)/365)),0) -> 30 | L120: =(E120+K120)/E120 -> 1.0674157 | M120: =E120/L120 -> 416.89474 | N120: =E120-M120 -> 28.105263 | O120: =M120+N120 -> 445 | P120: =O120 -> 445 | S120: 19 | T120: styczeń 2015 | U120: 87 | V120: 0 | W120: 0 | X120: 0 | Y120: =U120*6+V120*5+W120*10+X120*9 -> 522 | Z120: ='liczba dni zwłoki'!$E$23 -> 0 | AA120: ='liczba dni zwłoki'!$F$23 -> 36 | AB120: 0 | AC120: ='liczba dni zwłoki'!$H$23 -> 0 | AD120: ='liczba dni zwłoki'!$I$23 -> 36 | AE120: 0
A121: 10 | B121: kwicień 2014 | C121: 89 | D121: 0 | E121: =C121*5+D121*9 -> 445 | F121: ='liczba dni zwłoki'!$E$14 -> 181 | G121: ='liczba dni zwłoki'!$F$14 -> 132 | H121: =ROUND(((E121*0.1*F121)/365)+((E121*0.08*G121)/365),0) -> 35 | I121: ='liczba dni zwłoki'!$H$14 -> 138 | J121: ='liczba dni zwłoki'!$I$14 -> 130 | K121: =ROUND((((E121*0.1*I121)/365)+((E121*0.08*J121)/365)),0) -> 30 | L121: =(E121+K121)/E121 -> 1.0674157 | M121: =E121/L121 -> 416.89474 | N121: =E121-M121 -> 28.105263 | O121: =M121+N121 -> 445 | P121: =O121-Q121 -> 93.009475 | Q121: =N122 -> 351.99052 | X121: suma | Y121: =SUM(Y112:Y120) -> 4698 | AB121: =SUM(AB112:AB120) -> 172 | AE121: =SUM(AE112:AE120) -> 144
D122: Suma | E122: =SUM(E112:E121) -> 4525 | H122: =SUM(H112:H121) -> 526 | K122: =SUM(K112:K121) -> 383 | M122: =SUM(M112:M121) -> 4173.0095 | N122: =E122-M122 -> 351.99052 | O122: =M122+N122 -> 4525 | P122: =SUM(P112:P121) -> 4173.0095 | Q122: =SUM(Q112:Q121) -> 351.99052

Sheet Cicha
A2: ul. Cicha 3 | S2: ul. Cicha 3
F4: Odsetki za zwłokę - przed decyzją o wyłączeniu | I4: Odsetki za zwłokę po wyłączeniu | Z4: Odsetki za zwłokę - przed decyzją o wyłączeniu | AC4: Odsetki za zwłokę po wyłączeniu
A5: Lp | B5: Miesiąc | C5: Ilość osób wg. poszczególnych stawek opłat | E5: Miesięczna opłata za gospodarowanie odpadami na nieruchomości | F5: Liczba dni zwłoki | H5: Kwota odsetek | I5: Liczba dni zwłoki po wyłączeniu | K5: Kwota odsetek po wyłączeniu | L5: Proporcjonalne rozliczenie odsetek i należności głównej | M5: Należność główna | N5: Odsetki | O5: SUMA | P5: Księgowanie należności głównej | Q5: Księgowanie odsetek | S5: Lp | T5: Miesiąc | U5: Ilość osób wg. poszczególnych stawek opłat | Y5: Miesięczna opłata za gospodarowanie odpadami na nieruchomości | Z5: Liczba dni zwłoki | AB5: Kwota odsetek | AC5: Liczba dni zwłoki po wyłączeniu | AE5: Kwota odsetek po wyłączeniu
C6: stawka 5 zł | D6: stawka 9 zł | F6: stawka 10% | G6: stawka 8% | I6: stawka 10% | J6: stawka 8% | U6: stawka 6 zł | V6: stawka 5 zł | W6: stawka 10 zł | X6: stawka 9 zł | Z6: stawka 10% | AA6: stawka 8% | AC6: stawka 10% | AD6: stawka 8%
A7: 1 | B7: lipiec 2013 | C7: 101 | D7: 14 | E7: =C7*5+D7*9 -> 631 | F7: ='liczba dni zwłoki'!$E$5 -> 455 | G7: ='liczba dni zwłoki'!$F$5 -> 132 | H7: =ROUND(((E7*0.1*F7)/365)+((E7*0.08*G7)/365),0) -> 97 | I7: ='liczba dni zwłoki'!$H$5 -> 323 | J7: ='liczba dni zwłoki'!$I$5 -> 130 | K7: =ROUND((((E7*0.1*I7)/365)+((E7*0.08*J7)/365)),0) -> 74 | L7: =(E7+K7)/E7 -> 1.1172742 | M7: =E7/L7 -> 564.76738 | N7: =E7-M7 -> 66.232624 | O7: =M7+N7 -> 631 | P7: =O7 -> 631 | S7: 11 | T7: maj 2014 | U7: 91 | V7: 6 | W7: 10 | X7: 0 | Y7: =U7*6+V7*5+W7*10+X7*9 -> 676 | Z7: ='liczba dni zwłoki'!$E$15 -> 149 | AA7: ='liczba dni zwłoki'!$F$15 -> 132 | AB7: =ROUND((((Y7*0.1*Z7)/365)+((Y7*0.08*AA7)/365)),0) -> 47 | AC7: ='liczba dni zwłoki'!$H$15 -> 106 | AD7: ='liczba dni zwłoki'!$I$15 -> 130 | AE7: =ROUND((((Y7*0.1*AC7)/365)+((Y7*0.08*AD7)/365)),0) -> 39
A8: 2 | B8: sierpień 2013 | C8: 102 | D8: 14 | E8: =+C8*5+D8*9 -> 636 | F8: ='liczba dni zwłoki'!$E$6 -> 422 | G8: ='liczba dni zwłoki'!$F$6 -> 132 | H8: =ROUND(((E8*0.1*F8)/365)+((E8*0.08*G8)/365),0) -> 92 | I8: ='liczba dni zwłoki'!$H$6 -> 290 | J8: ='liczba dni zwłoki'!$I$6 -> 130 | K8: =ROUND((((E8*0.1*I8)/365)+((E8*0.08*J8)/365)),0) -> 69 | L8: =(E8+K8)/E8 -> 1.1084906 | M8: =E8/L8 -> 573.75319 | N8: =E8-M8 -> 62.246809 | O8: =M8+N8 -> 636 | P8: =O8 -> 636 | S8: 12 | T8: czerwiec 2014 | U8: 91 | V8: 6 | W8: 10 | X8: 0 | Y8: =U8*6+V8*5+W8*10+X8*9 -> 676 | Z8: ='liczba dni zwłoki'!$E$16 -> 120 | AA8: ='liczba dni zwłoki'!$F$16 -> 132 | AB8: =ROUND((((Y8*0.1*Z8)/365)+((Y8*0.08*AA8)/365)),0) -> 42 | AC8: ='liczba dni zwłoki'!$H$16 -> 77 | AD8: ='liczba dni zwłoki'!$I$16 -> 130 | AE8: =ROUND((((Y8*0.1*AC8)/365)+((Y8*0.08*AD8)/365)),0) -> 34
A9: 3 | B9: wrzesień 2013 | C9: 102 | D9: 10 | E9: =C9*5+D9*9 -> 600 | F9: ='liczba dni zwłoki'!$E$7 -> 393 | G9: ='liczba dni zwłoki'!$F$7 -> 132 | H9: =ROUND(((E9*0.1*F9)/365)+((E9*0.08*G9)/365),0) -> 82 | I9: ='liczba dni zwłoki'!$H$7 -> 261 | J9: ='liczba dni zwłoki'!$I$7 -> 130 | K9: =ROUND((((E9*0.1*I9)/365)+((E9*0.08*J9)/365)),0) -> 60 | L9: =(E9+K9)/E9 -> 1.1 | M9: =E9/L9 -> 545.45455 | N9: =E9-M9 -> 54.545455 | O9: =M9+N9 -> 600 | P9: =O9 -> 600 | S9: 13 | T9: lipiec 2014 | U9: 91 | V9: 6 | W9: 10 | X9: 0 | Y9: =U9*6+V9*5+W9*10+X9*9 -> 676 | Z9: ='liczba dni zwłoki'!$E$17 -> 90 | AA9: ='liczba dni zwłoki'!$F$17 -> 132 | AB9: =ROUND((((Y9*0.1*Z9)/365)+((Y9*0.08*AA9)/365)),0) -> 36 | AC9: ='liczba dni zwłoki'!$H$17 -> 47 | AD9: ='liczba dni zwłoki'!$I$17 -> 130 | AE9: =ROUND((((Y9*0.1*AC9)/365)+((Y9*0.08*AD9)/365)),0) -> 28
A10: 4 | B10: październik 2013 | C10: 102 | D10: 10 | E10: =C10*5+D10*9 -> 600 | F10: ='liczba dni zwłoki'!$E$8 -> 363 | G10: ='liczba dni zwłoki'!$F$8 -> 132 | H10: =ROUND(((E10*0.1*F10)/365)+((E10*0.08*G10)/365),0) -> 77 | I10: ='liczba dni zwłoki'!$H$8 -> 231 | J10: ='liczba dni zwłoki'!$I$8 -> 130 | K10: =ROUND((((E10*0.1*I10)/365)+((E10*0.08*J10)/365)),0) -> 55 | L10: =(E10+K10)/E10 -> 1.0916667 | M10: =E10/L10 -> 549.61832 | N10: =E10-M10 -> 50.381679 | O10: =M10+N10 -> 600 | P10: =O10 -> 600 | S10: 14 | T10: sierpień 2014 | U10: 91 | V10: 6 | W10: 10 | X10: 0 | Y10: =U10*6+V10*5+W10*10+X10*9 -> 676 | Z10: ='liczba dni zwłoki'!$E$18 -> 58 | AA10: ='liczba dni zwłoki'!$F$18 -> 132 | AB10: =ROUND((((Y10*0.1*Z10)/365)+((Y10*0.08*AA10)/365)),0) -> 30 | AC10: ='liczba dni zwłoki'!$H$18 -> 15 | AD10: ='liczba dni zwłoki'!$I$18 -> 130 | AE10: =ROUND((((Y10*0.1*AC10)/365)+((Y10*0.08*AD10)/365)),0) -> 22
A11: 5 | B11: listopad 2013 | C11: 101 | D11: 10 | E11: =C11*5+D11*9 -> 595 | F11: ='liczba dni zwłoki'!$E$9 -> 330 | G11: ='liczba dni zwłoki'!$F$9 -> 132 | H11: =ROUND(((E11*0.1*F11)/365)+((E11*0.08*G11)/365),0) -> 71 | I11: ='liczba dni zwłoki'!$H$9 -> 198 | J11: ='liczba dni zwłoki'!$I$9 -> 130 | K11: =ROUND((((E11*0.1*I11)/365)+((E11*0.08*J11)/365)),0) -> 49 | L11: =(E11+K11)/E11 -> 1.0823529 | M11: =E11/L11 -> 549.72826 | N11: =E11-M11 -> 45.271739 | O11: =M11+N11 -> 595 | P11: =O11 -> 595 | S11: 15 | T11: wrzesień 2014 | U11: 91 | V11: 6 | W11: 10 | X11: 0 | Y11: =U11*6+V11*5+W11*10+X11*9 -> 676 | Z11: ='liczba dni zwłoki'!$E$19 -> 28 | AA11: ='liczba dni zwłoki'!$F$19 -> 132 | AB11: =ROUND((((Y11*0.1*Z11)/365)+((Y11*0.08*AA11)/365)),0) -> 25 | AC11: ='liczba dni zwłoki'!$H$19 -> 0 | AD11: ='liczba dni zwłoki'!$I$19 -> 130 | AE11: =ROUND((((Y11*0.1*AC11)/365)+((Y11*0.08*AD11)/365)),0) -> 19
A12: 6 | B12: grudzień 2013 | C12: 101 | D12: 10 | E12: =C12*5+D12*9 -> 595 | F12: ='liczba dni zwłoki'!$E$10 -> 302 | G12: ='liczba dni zwłoki'!$F$10 -> 132 | H12: =ROUND(((E12*0.1*F12)/365)+((E12*0.08*G12)/365),0) -> 66 | I12: ='liczba dni zwłoki'!$H$10 -> 170 | J12: ='liczba dni zwłoki'!$I$10 -> 130 | K12: =ROUND((((E12*0.1*I12)/365)+((E12*0.08*J12)/365)),0) -> 45 | L12: =(E12+K12)/E12 -> 1.0756303 | M12: =E12/L12 -> 553.16406 | N12: =E12-M12 -> 41.835938 | O12: =M12+N12 -> 595 | P12: =O12 -> 595 | S12: 16 | T12: październik 2014 | U12: 91 | V12: 6 | W12: 10 | X12: 0 | Y12: =U12*6+V12*5+W12*10+X12*9 -> 676 | Z12: ='liczba dni zwłoki'!$E$20 -> 0 | AA12: ='liczba dni zwłoki'!$F$20 -> 130 | AB12: =ROUND((((Y12*0.1*Z12)/365)+((Y12*0.08*AA12)/365)),0) -> 19 | AC12: ='liczba dni zwłoki'!$H$20 -> 0 | AD12: ='liczba dni zwłoki'!$I$20 -> 129 | AE12: =ROUND((((Y12*0.1*AC12)/365)+((Y12*0.08*AD12)/365)),0) -> 19
A13: 7 | B13: styczeń 2014 | C13: 101 | D13: 10 | E13: =C13*5+D13*9 -> 595 | F13: ='liczba dni zwłoki'!$E$11 -> 271 | G13: ='liczba dni zwłoki'!$F$11 -> 132 | H13: =ROUND(((E13*0.1*F13)/365)+((E13*0.08*G13)/365),0) -> 61 | I13: ='liczba dni zwłoki'!$H$11 -> 144 | J13: ='liczba dni zwłoki'!$I$11 -> 130 | K13: =ROUND((((E13*0.1*I13)/365)+((E13*0.08*J13)/365)),0) -> 40 | L13: =(E13+K13)/E13 -> 1.0672269 | M13: =E13/L13 -> 557.51969 | N13: =E13-M13 -> 37.480315 | O13: =M13+N13 -> 595 | P13: =O13 -> 595 | S13: 17 | T13: listopad 2014 | U13: 91 | V13: 6 | W13: 10 | X13: 0 | Y13: =U13*6+V13*5+W13*10+X13*9 -> 676 | Z13: ='liczba dni zwłoki'!$E$21 -> 0 | AA13: ='liczba dni zwłoki'!$F$21 -> 99 | AB13: =ROUND((((Y13*0.1*Z13)/365)+((Y13*0.08*AA13)/365)),0) -> 15 | AC13: ='liczba dni zwłoki'!$H$21 -> 0 | AD13: ='liczba dni zwłoki'!$I$21 -> 99 | AE13: =ROUND((((Y13*0.1*AC13)/365)+((Y13*0.08*AD13)/365)),0) -> 15
A14: 8 | B14: luty 2014 | C14: 101 | D14: 10 | E14: =C14*5+D14*9 -> 595 | F14: ='liczba dni zwłoki'!$E$12 -> 240 | G14: ='liczba dni zwłoki'!$F$12 -> 132 | H14: =ROUND(((E14*0.1*F14)/365)+((E14*0.08*G14)/365),0) -> 56 | I14: ='liczba dni zwłoki'!$H$12 -> 144 | J14: ='liczba dni zwłoki'!$I$12 -> 130 | K14: =ROUND((((E14*0.1*I14)/365)+((E14*0.08*J14)/365)),0) -> 40 | L14: =(E14+K14)/E14 -> 1.0672269 | M14: =E14/L14 -> 557.51969 | N14: =E14-M14 -> 37.480315 | O14: =M14+N14 -> 595 | P14: =O14 -> 595 | S14: 18 | T14: grudzień 2014 | U14: 91 | V14: 6 | W14: 10 | X14: 0 | Y14: =U14*6+V14*5+W14*10+X14*9 -> 676 | Z14: ='liczba dni zwłoki'!$E$22 -> 0 | AA14: ='liczba dni zwłoki'!$F$22 -> 69 | AB14: =ROUND((((Y14*0.1*Z14)/365)+((Y14*0.08*AA14)/365)),0) -> 10 | AC14: ='liczba dni zwłoki'!$H$22 -> 0 | AD14: ='liczba dni zwłoki'!$I$22 -> 69 | AE14: =ROUND((((Y14*0.1*AC14)/365)+((Y14*0.08*AD14)/365)),0) -> 10
A15: 9 | B15: marzec 2014 | C15: 97 | D15: 10 | E15: =C15*5+D15*9 -> 575 | F15: ='liczba dni zwłoki'!$E$13 -> 212 | G15: ='liczba dni zwłoki'!$F$13 -> 132 | H15: =ROUND(((E15*0.1*F15)/365)+((E15*0.08*G15)/365),0) -> 50 | I15: ='liczba dni zwłoki'!$H$13 -> 144 | J15: ='liczba dni zwłoki'!$I$13 -> 130 | K15: =ROUND((((E15*0.1*I15)/365)+((E15*0.08*J15)/365)),0) -> 39 | L15: =(E15+K15)/E15 -> 1.0678261 | M15: =E15/L15 -> 538.4772 | N15: =E15-M15 -> 36.522801 | O15: =M15+N15 -> 575 | P15: =O15 -> 575 | S15: 19 | T15: styczeń 2015 | U15: 91 | V15: 6 | W15: 10 | X15: 0 | Y15: =U15*6+V15*5+W15*10+X15*9 -> 676 | Z15: ='liczba dni zwłoki'!$E$23 -> 0 | AA15: ='liczba dni zwłoki'!$F$23 -> 36 | AB15: 0 | AC15: ='liczba dni zwłoki'!$H$23 -> 0 | AD15: ='liczba dni zwłoki'!$I$23 -> 36 | AE15: 0
A16: 10 | B16: kwicień 2014 | C16: 97 | D16: 10 | E16: =C16*5+D16*9 -> 575 | F16: ='liczba dni zwłoki'!$E$14 -> 181 | G16: ='liczba dni zwłoki'!$F$14 -> 132 | H16: =ROUND(((E16*0.1*F16)/365)+((E16*0.08*G16)/365),0) -> 45 | I16: ='liczba dni zwłoki'!$H$14 -> 138 | J16: ='liczba dni zwłoki'!$I$14 -> 130 | K16: =ROUND((((E16*0.1*I16)/365)+((E16*0.08*J16)/365)),0) -> 38 | L16: =(E16+K16)/E16 -> 1.066087 | M16: =E16/L16 -> 539.35563 | N16: =E16-M16 -> 35.644372 | O16: =M16+N16 -> 575 | P16: =O16-Q16 -> 107.35795 | Q16: =N17 -> 467.64205 | X16: suma | Y16: =SUM(Y7:Y15) -> 6084 | AB16: =SUM(AB7:AB15) -> 224 | AE16: =SUM(AE7:AE15) -> 186
D17: Suma | E17: =SUM(E7:E16) -> 5997 | H17: =SUM(H7:H16) -> 697 | K17: =SUM(K7:K16) -> 509 | M17: =SUM(M7:M16) -> 5529.358 | N17: =E17-M17 -> 467.64205 | O17: =M17+N17 -> 5997 | P17: =SUM(P7:P16) -> 5529.358 | Q17: =SUM(Q7:Q16) -> 467.64205
A24: ul. Cicha 5 | S24: ul. Cicha 5
F26: Odsetki za zwłokę - przed decyzją o wyłączeniu | I26: Odsetki za zwłokę po wyłączeniu | Z26: Odsetki za zwłokę - przed decyzją o wyłączeniu | AC26: Odsetki za zwłokę po wyłączeniu
A27: Lp | B27: Miesiąc | C27: Ilość osób wg. poszczególnych stawek opłat | E27: Miesięczna opłata za gospodarowanie odpadami na nieruchomości | F27: Liczba dni zwłoki | H27: Kwota odsetek | I27: Liczba dni zwłoki po wyłączeniu | K27: Kwota odsetek po wyłączeniu | L27: Proporcjonalne rozliczenie odsetek i należności głównej | M27: Należność główna | N27: Odsetki | O27: SUMA | P27: Księgowanie należności głównej | Q27: Księgowanie odsetek | S27: Lp | T27: Miesiąc | U27: Ilość osób wg. poszczególnych stawek opłat | Y27: Miesięczna opłata za gospodarowanie odpadami na nieruchomości | Z27: Liczba dni zwłoki | AB27: Kwota odsetek | AC27: Liczba dni zwłoki po wyłączeniu | AE27: Kwota odsetek po wyłączeniu
C28: stawka 5 zł | D28: stawka 9 zł | F28: stawka 10% | G28: stawka 8% | I28: stawka 10% | J28: stawka 8% | U28: stawka 6 zł | V28: stawka 5 zł | W28: stawka 10 zł | X28: stawka 9 zł | Z28: stawka 10% | AA28: stawka 8% | AC28: stawka 10% | AD28: stawka 8%
A29: 1 | B29: lipiec 2013 | C29: 86 | D29: 13 | E29: =C29*5+D29*9 -> 547 | F29: ='liczba dni zwłoki'!$E$5 -> 455 | G29: ='liczba dni zwłoki'!$F$5 -> 132 | H29: =ROUND(((E29*0.1*F29)/365)+((E29*0.08*G29)/365),0) -> 84 | I29: ='liczba dni zwłoki'!$H$5 -> 323 | J29: ='liczba dni zwłoki'!$I$5 -> 130 | K29: =ROUND((((E29*0.1*I29)/365)+((E29*0.08*J29)/365)),0) -> 64 | L29: =(E29+K29)/E29 -> 1.1170018 | M29: =E29/L29 -> 489.70376 | N29: =E29-M29 -> 57.296236 | O29: =M29+N29 -> 547 | P29: =O29 -> 547 | S29: 11 | T29: maj 2014 | U29: 86 | V29: 0 | W29: 11 | X29: 0 | Y29: =U29*6+V29*5+W29*10+X29*9 -> 626 | Z29: ='liczba dni zwłoki'!$E$15 -> 149 | AA29: ='liczba dni zwłoki'!$F$15 -> 132 | AB29: =ROUND((((Y29*0.1*Z29)/365)+((Y29*0.08*AA29)/365)),0) -> 44 | AC29: ='liczba dni zwłoki'!$H$15 -> 106 | AD29: ='liczba dni zwłoki'!$I$15 -> 130 | AE29: =ROUND((((Y29*0.1*AC29)/365)+((Y29*0.08*AD29)/365)),0) -> 36
A30: 2 | B30: sierpień 2013 | C30: 86 | D30: 13 | E30: =+C30*5+D30*9 -> 547 | F30: ='liczba dni zwłoki'!$E$6 -> 422 | G30: ='liczba dni zwłoki'!$F$6 -> 132 | H30: =ROUND(((E30*0.1*F30)/365)+((E30*0.08*G30)/365),0) -> 79 | I30: ='liczba dni zwłoki'!$H$6 -> 290 | J30: ='liczba dni zwłoki'!$I$6 -> 130 | K30: =ROUND((((E30*0.1*I30)/365)+((E30*0.08*J30)/365)),0) -> 59 | L30: =(E30+K30)/E30 -> 1.1078611 | M30: =E30/L30 -> 493.74422 | N30: =E30-M30 -> 53.255776 | O30: =M30+N30 -> 547 | P30: =O30 -> 547 | S30: 12 | T30: czerwiec 2014 | U30: 86 | V30: 0 | W30: 11 | X30: 0 | Y30: =U30*6+V30*5+W30*10+X30*9 -> 626 | Z30: ='liczba dni zwłoki'!$E$16 -> 120 | AA30: ='liczba dni zwłoki'!$F$16 -> 132 | AB30: =ROUND((((Y30*0.1*Z30)/365)+((Y30*0.08*AA30)/365)),0) -> 39 | AC30: ='liczba dni zwłoki'!$H$16 -> 77 | AD30: ='liczba dni zwłoki'!$I$16 -> 130 | AE30: =ROUND((((Y30*0.1*AC30)/365)+((Y30*0.08*AD30)/365)),0) -> 31
A31: 3 | B31: wrzesień 2013 | C31: 86 | D31: 12 | E31: =C31*5+D31*9 -> 538 | F31: ='liczba dni zwłoki'!$E$7 -> 393 | G31: ='liczba dni zwłoki'!$F$7 -> 132 | H31: =ROUND(((E31*0.1*F31)/365)+((E31*0.08*G31)/365),0) -> 73 | I31: ='liczba dni zwłoki'!$H$7 -> 261 | J31: ='liczba dni zwłoki'!$I$7 -> 130 | K31: =ROUND((((E31*0.1*I31)/365)+((E31*0.08*J31)/365)),0) -> 54 | L31: =(E31+K31)/E31 -> 1.1003717 | M31: =E31/L31 -> 488.92568 | N31: =E31-M31 -> 49.074324 | O31: =M31+N31 -> 538 | P31: =O31 -> 538 | S31: 13 | T31: lipiec 2014 | U31: 87 | V31: 0 | W31: 11 | X31: 0 | Y31: =U31*6+V31*5+W31*10+X31*9 -> 632 | Z31: ='liczba dni zwłoki'!$E$17 -> 90 | AA31: ='liczba dni zwłoki'!$F$17 -> 132 | AB31: =ROUND((((Y31*0.1*Z31)/365)+((Y31*0.08*AA31)/365)),0) -> 34 | AC31: ='liczba dni zwłoki'!$H$17 -> 47 | AD31: ='liczba dni zwłoki'!$I$17 -> 130 | AE31: =ROUND((((Y31*0.1*AC31)/365)+((Y31*0.08*AD31)/365)),0) -> 26
A32: 4 | B32: październik 2013 | C32: 85 | D32: 13 | E32: =C32*5+D32*9 -> 542 | F32: ='liczba dni zwłoki'!$E$8 -> 363 | G32: ='liczba dni zwłoki'!$F$8 -> 132 | H32: =ROUND(((E32*0.1*F32)/365)+((E32*0.08*G32)/365),0) -> 70 | I32: ='liczba dni zwłoki'!$H$8 -> 231 | J32: ='liczba dni zwłoki'!$I$8 -> 130 | K32: =ROUND((((E32*0.1*I32)/365)+((E32*0.08*J32)/365)),0) -> 50 | L32: =(E32+K32)/E32 -> 1.0922509 | M32: =E32/L32 -> 496.22297 | N32: =E32-M32 -> 45.777027 | O32: =M32+N32 -> 542 | P32: =O32 -> 542 | S32: 14 | T32: sierpień 2014 | U32: 86 | V32: 0 | W32: 11 | X32: 0 | Y32: =U32*6+V32*5+W32*10+X32*9 -> 626 | Z32: ='liczba dni zwłoki'!$E$18 -> 58 | AA32: ='liczba dni zwłoki'!$F$18 -> 132 | AB32: =ROUND((((Y32*0.1*Z32)/365)+((Y32*0.08*AA32)/365)),0) -> 28 | AC32: ='liczba dni zwłoki'!$H$18 -> 15 | AD32: ='liczba dni zwłoki'!$I$18 -> 130 | AE32: =ROUND((((Y32*0.1*AC32)/365)+((Y32*0.08*AD32)/365)),0) -> 20
A33: 5 | B33: listopad 2013 | C33: 85 | D33: 13 | E33: =C33*5+D33*9 -> 542 | F33: ='liczba dni zwłoki'!$E$9 -> 330 | G33: ='liczba dni zwłoki'!$F$9 -> 132 | H33: =ROUND(((E33*0.1*F33)/365)+((E33*0.08*G33)/365),0) -> 65 | I33: ='liczba dni zwłoki'!$H$9 -> 198 | J33: ='liczba dni zwłoki'!$I$9 -> 130 | K33: =ROUND((((E33*0.1*I33)/365)+((E33*0.08*J33)/365)),0) -> 45 | L33: =(E33+K33)/E33 -> 1.0830258 | M33: =E33/L33 -> 500.44974 | N33: =E33-M33 -> 41.550256 | O33: =M33+N33 -> 542 | P33: =O33 -> 542 | S33: 15 | T33: wrzesień 2014 | U33: 86 | V33: 0 | W33: 11 | X33: 0 | Y33: =U33*6+V33*5+W33*10+X33*9 -> 626 | Z33: ='liczba dni zwłoki'!$E$19 -> 28 | AA33: ='liczba dni zwłoki'!$F$19 -> 132 | AB33: =ROUND((((Y33*0.1*Z33)/365)+((Y33*0.08*AA33)/365)),0) -> 23 | AC33: ='liczba dni zwłoki'!$H$19 -> 0 | AD33: ='liczba dni zwłoki'!$I$19 -> 130 | AE33: =ROUND((((Y33*0.1*AC33)/365)+((Y33*0.08*AD33)/365)),0) -> 18
A34: 6 | B34: grudzień 2013 | C34: 87 | D34: 11 | E34: =C34*5+D34*9 -> 534 | F34: ='liczba dni zwłoki'!$E$10 -> 302 | G34: ='liczba dni zwłoki'!$F$10 -> 132 | H34: =ROUND(((E34*0.1*F34)/365)+((E34*0.08*G34)/365),0) -> 60 | I34: ='liczba dni zwłoki'!$H$10 -> 170 | J34: ='liczba dni zwłoki'!$I$10 -> 130 | K34: =ROUND((((E34*0.1*I34)/365)+((E34*0.08*J34)/365)),0) -> 40 | L34: =(E34+K34)/E34 -> 1.0749064 | M34: =E34/L34 -> 496.78746 | N34: =E34-M34 -> 37.212544 | O34: =M34+N34 -> 534 | P34: =O34 -> 534 | S34: 16 | T34: październik 2014 | U34: 85 | V34: 0 | W34: 11 | X34: 0 | Y34: =U34*6+V34*5+W34*10+X34*9 -> 620 | Z34: ='liczba dni zwłoki'!$E$20 -> 0 | AA34: ='liczba dni zwłoki'!$F$20 -> 130 | AB34: =ROUND((((Y34*0.1*Z34)/365)+((Y34*0.08*AA34)/365)),0) -> 18 | AC34: ='liczba dni zwłoki'!$H$20 -> 0 | AD34: ='liczba dni zwłoki'!$I$20 -> 129 | AE34: =ROUND((((Y34*0.1*AC34)/365)+((Y34*0.08*AD34)/365)),0) -> 18
A35: 7 | B35: styczeń 2014 | C35: 87 | D35: 11 | E35: =C35*5+D35*9 -> 534 | F35: ='liczba dni zwłoki'!$E$11 -> 271 | G35: ='liczba dni zwłoki'!$F$11 -> 132 | H35: =ROUND(((E35*0.1*F35)/365)+((E35*0.08*G35)/365),0) -> 55 | I35: ='liczba dni zwłoki'!$H$11 -> 144 | J35: ='liczba dni zwłoki'!$I$11 -> 130 | K35: =ROUND((((E35*0.1*I35)/365)+((E35*0.08*J35)/365)),0) -> 36 | L35: =(E35+K35)/E35 -> 1.0674157 | M35: =E35/L35 -> 500.27368 | N35: =E35-M35 -> 33.726316 | O35: =M35+N35 -> 534 | P35: =O35 -> 534 | S35: 17 | T35: listopad 2014 | U35: 85 | V35: 0 | W35: 11 | X35: 0 | Y35: =U35*6+V35*5+W35*10+X35*9 -> 620 | Z35: ='liczba dni zwłoki'!$E$21 -> 0 | AA35: ='liczba dni zwłoki'!$F$21 -> 99 | AB35: =ROUND((((Y35*0.1*Z35)/365)+((Y35*0.08*AA35)/365)),0) -> 13 | AC35: ='liczba dni zwłoki'!$H$21 -> 0 | AD35: ='liczba dni zwłoki'!$I$21 -> 99 | AE35: =ROUND((((Y35*0.1*AC35)/365)+((Y35*0.08*AD35)/365)),0) -> 13
A36: 8 | B36: luty 2014 | C36: 87 | D36: 11 | E36: =C36*5+D36*9 -> 534 | F36: ='liczba dni zwłoki'!$E$12 -> 240 | G36: ='liczba dni zwłoki'!$F$12 -> 132 | H36: =ROUND(((E36*0.1*F36)/365)+((E36*0.08*G36)/365),0) -> 51 | I36: ='liczba dni zwłoki'!$H$12 -> 144 | J36: ='liczba dni zwłoki'!$I$12 -> 130 | K36: =ROUND((((E36*0.1*I36)/365)+((E36*0.08*J36)/365)),0) -> 36 | L36: =(E36+K36)/E36 -> 1.0674157 | M36: =E36/L36 -> 500.27368 | N36: =E36-M36 -> 33.726316 | O36: =M36+N36 -> 534 | P36: =O36 -> 534 | S36: 18 | T36: grudzień 2014 | U36: 85 | V36: 0 | W36: 11 | X36: 0 | Y36: =U36*6+V36*5+W36*10+X36*9 -> 620 | Z36: ='liczba dni zwłoki'!$E$22 -> 0 | AA36: ='liczba dni zwłoki'!$F$22 -> 69 | AB36: =ROUND((((Y36*0.1*Z36)/365)+((Y36*0.08*AA36)/365)),0) -> 9 | AC36: ='liczba dni zwłoki'!$H$22 -> 0 | AD36: ='liczba dni zwłoki'!$I$22 -> 69 | AE36: =ROUND((((Y36*0.1*AC36)/365)+((Y36*0.08*AD36)/365)),0) -> 9
A37: 9 | B37: marzec 2014 | C37: 84 | D37: 11 | E37: =C37*5+D37*9 -> 519 | F37: ='liczba dni zwłoki'!$E$13 -> 212 | G37: ='liczba dni zwłoki'!$F$13 -> 132 | H37: =ROUND(((E37*0.1*F37)/365)+((E37*0.08*G37)/365),0) -> 45 | I37: ='liczba dni zwłoki'!$H$13 -> 144 | J37: ='liczba dni zwłoki'!$I$13 -> 130 | K37: =ROUND((((E37*0.1*I37)/365)+((E37*0.08*J37)/365)),0) -> 35 | L37: =(E37+K37)/E37 -> 1.0674374 | M37: =E37/L37 -> 486.21119 | N37: =E37-M37 -> 32.788809 | O37: =M37+N37 -> 519 | P37: =O37 -> 519 | S37: 19 | T37: styczeń 2015 | U37: 85 | V37: 0 | W37: 11 | X37: 0 | Y37: =U37*6+V37*5+W37*10+X37*9 -> 620 | Z37: ='liczba dni zwłoki'!$E$23 -> 0 | AA37: ='liczba dni zwłoki'!$F$23 -> 36 | AB37: 0 | AC37: ='liczba dni zwłoki'!$H$23 -> 0 | AD37: ='liczba dni zwłoki'!$I$23 -> 36 | AE37: 0
A38: 10 | B38: kwicień 2014 | C38: 84 | D38: 11 | E38: =C38*5+D38*9 -> 519 | F38: ='liczba dni zwłoki'!$E$14 -> 181 | G38: ='liczba dni zwłoki'!$F$14 -> 132 | H38: =ROUND(((E38*0.1*F38)/365)+((E38*0.08*G38)/365),0) -> 41 | I38: ='liczba dni zwłoki'!$H$14 -> 138 | J38: ='liczba dni zwłoki'!$I$14 -> 130 | K38: =ROUND((((E38*0.1*I38)/365)+((E38*0.08*J38)/365)),0) -> 34 | L38: =(E38+K38)/E38 -> 1.0655106 | M38: =E38/L38 -> 487.09042 | N38: =E38-M38 -> 31.909584 | O38: =M38+N38 -> 519 | P38: =O38-Q38 -> 102.68281 | Q38: =N39 -> 416.31719 | X38: suma | Y38: =SUM(Y29:Y37) -> 5616 | AB38: =SUM(AB29:AB37) -> 208 | AE38: =SUM(AE29:AE37) -> 171
D39: Suma | E39: =SUM(E29:E38) -> 5356 | H39: =SUM(H29:H38) -> 623 | K39: =SUM(K29:K38) -> 453 | M39: =SUM(M29:M38) -> 4939.6828 | N39: =E39-M39 -> 416.31719 | O39: =M39+N39 -> 5356 | P39: =SUM(P29:P38) -> 4939.6828 | Q39: =SUM(Q29:Q38) -> 416.31719
A45: ul. Cicha 7 | S45: ul. Cicha 7
F47: Odsetki za zwłokę - przed decyzją o wyłączeniu | I47: Odsetki za zwłokę po wyłączeniu | Z47: Odsetki za zwłokę - przed decyzją o wyłączeniu | AC47: Odsetki za zwłokę po wyłączeniu
A48: Lp | B48: Miesiąc | C48: Ilość osób wg. poszczególnych stawek opłat | E48: Miesięczna opłata za gospodarowanie odpadami na nieruchomości | F48: Liczba dni zwłoki | H48: Kwota odsetek | I48: Liczba dni zwłoki po wyłączeniu | K48: Kwota odsetek po wyłączeniu | L48: Proporcjonalne rozliczenie odsetek i należności głównej | M48: Należność główna | N48: Odsetki | O48: SUMA | P48: Księgowanie należności głównej | Q48: Księgowanie odsetek | S48: Lp | T48: Miesiąc | U48: Ilość osób wg. poszczególnych stawek opłat | Y48: Miesięczna opłata za gospodarowanie odpadami na nieruchomości | Z48: Liczba dni zwłoki | AB48: Kwota odsetek | AC48: Liczba dni zwłoki po wyłączeniu | AE48: Kwota odsetek po wyłączeniu
C49: stawka 5 zł | D49: stawka 9 zł | F49: stawka 10% | G49: stawka 8% | I49: stawka 10% | J49: stawka 8% | U49: stawka 6 zł | V49: stawka 5 zł | W49: stawka 10 zł | X49: stawka 9 zł | Z49: stawka 10% | AA49: stawka 8% | AC49: stawka 10% | AD49: stawka 8%
A50: 1 | B50: lipiec 2013 | C50: 91 | D50: 2 | E50: =C50*5+D50*9 -> 473 | F50: ='liczba dni zwłoki'!$E$5 -> 455 | G50: ='liczba dni zwłoki'!$F$5 -> 132 | H50: =ROUND(((E50*0.1*F50)/365)+((E50*0.08*G50)/365),0) -> 73 | I50: ='liczba dni zwłoki'!$H$5 -> 323 | J50: ='liczba dni zwłoki'!$I$5 -> 130 | K50: =ROUND((((E50*0.1*I50)/365)+((E50*0.08*J50)/365)),0) -> 55 | L50: =(E50+K50)/E50 -> 1.1162791 | M50: =E50/L50 -> 423.72917 | N50: =E50-M50 -> 49.270833 | O50: =M50+N50 -> 473 | P50: =O50 -> 473 | S50: 11 | T50: maj 2014 | U50: 91 | V50: 0 | W50: 1 | X50: 0 | Y50: =U50*6+V50*5+W50*10+X50*9 -> 556 | Z50: ='liczba dni zwłoki'!$E$15 -> 149 | AA50: ='liczba dni zwłoki'!$F$15 -> 132 | AB50: =ROUND((((Y50*0.1*Z50)/365)+((Y50*0.08*AA50)/365)),0) -> 39 | AC50: ='liczba dni zwłoki'!$H$15 -> 106 | AD50: ='liczba dni zwłoki'!$I$15 -> 130 | AE50: =ROUND((((Y50*0.1*AC50)/365)+((Y50*0.08*AD50)/365)),0) -> 32
A51: 2 | B51: sierpień 2013 | C51: 92 | D51: 1 | E51: =+C51*5+D51*9 -> 469 | F51: ='liczba dni zwłoki'!$E$6 -> 422 | G51: ='liczba dni zwłoki'!$F$6 -> 132 | H51: =ROUND(((E51*0.1*F51)/365)+((E51*0.08*G51)/365),0) -> 68 | I51: ='liczba dni zwłoki'!$H$6 -> 290 | J51: ='liczba dni zwłoki'!$I$6 -> 130 | K51: =ROUND((((E51*0.1*I51)/365)+((E51*0.08*J51)/365)),0) -> 51 | L51: =(E51+K51)/E51 -> 1.108742 | M51: =E51/L51 -> 423.00192 | N51: =E51-M51 -> 45.998077 | O51: =M51+N51 -> 469 | P51: =O51 -> 469 | S51: 12 | T51: czerwiec 2014 | U51: 91 | V51: 0 | W51: 1 | X51: 0 | Y51: =U51*6+V51*5+W51*10+X51*9 -> 556 | Z51: ='liczba dni zwłoki'!$E$16 -> 120 | AA51: ='liczba dni zwłoki'!$F$16 -> 132 | AB51: =ROUND((((Y51*0.1*Z51)/365)+((Y51*0.08*AA51)/365)),0) -> 34 | AC51: ='liczba dni zwłoki'!$H$16 -> 77 | AD51: ='liczba dni zwłoki'!$I$16 -> 130 | AE51: =ROUND((((Y51*0.1*AC51)/365)+((Y51*0.08*AD51)/365)),0) -> 28
A52: 3 | B52: wrzesień 2013 | C52: 91 | D52: 1 | E52: =C52*5+D52*9 -> 464 | F52: ='liczba dni zwłoki'!$E$7 -> 393 | G52: ='liczba dni zwłoki'!$F$7 -> 132 | H52: =ROUND(((E52*0.1*F52)/365)+((E52*0.08*G52)/365),0) -> 63 | I52: ='liczba dni zwłoki'!$H$7 -> 261 | J52: ='liczba dni zwłoki'!$I$7 -> 130 | K52: =ROUND((((E52*0.1*I52)/365)+((E52*0.08*J52)/365)),0) -> 46 | L52: =(E52+K52)/E52 -> 1.0991379 | M52: =E52/L52 -> 422.14902 | N52: =E52-M52 -> 41.85098 | O52: =M52+N52 -> 464 | P52: =O52 -> 464 | S52: 13 | T52: lipiec 2014 | U52: 91 | V52: 0 | W52: 1 | X52: 0 | Y52: =U52*6+V52*5+W52*10+X52*9 -> 556 | Z52: ='liczba dni zwłoki'!$E$17 -> 90 | AA52: ='liczba dni zwłoki'!$F$17 -> 132 | AB52: =ROUND((((Y52*0.1*Z52)/365)+((Y52*0.08*AA52)/365)),0) -> 30 | AC52: ='liczba dni zwłoki'!$H$17 -> 47 | AD52: ='liczba dni zwłoki'!$I$17 -> 130 | AE52: =ROUND((((Y52*0.1*AC52)/365)+((Y52*0.08*AD52)/365)),0) -> 23
A53: 4 | B53: październik 2013 | C53: 91 | D53: 1 | E53: =C53*5+D53*9 -> 464 | F53: ='liczba dni zwłoki'!$E$8 -> 363 | G53: ='liczba dni zwłoki'!$F$8 -> 132 | H53: =ROUND(((E53*0.1*F53)/365)+((E53*0.08*G53)/365),0) -> 60 | I53: ='liczba dni zwłoki'!$H$8 -> 231 | J53: ='liczba dni zwłoki'!$I$8 -> 130 | K53: =ROUND((((E53*0.1*I53)/365)+((E53*0.08*J53)/365)),0) -> 43 | L53: =(E53+K53)/E53 -> 1.0926724 | M53: =E53/L53 -> 424.64694 | N53: =E53-M53 -> 39.353057 | O53: =M53+N53 -> 464 | P53: =O53 -> 464 | S53: 14 | T53: sierpień 2014 | U53: 91 | V53: 0 | W53: 1 | X53: 0 | Y53: =U53*6+V53*5+W53*10+X53*9 -> 556 | Z53: ='liczba dni zwłoki'!$E$18 -> 58 | AA53: ='liczba dni zwłoki'!$F$18 -> 132 | AB53: =ROUND((((Y53*0.1*Z53)/365)+((Y53*0.08*AA53)/365)),0) -> 25 | AC53: ='liczba dni zwłoki'!$H$18 -> 15 | AD53: ='liczba dni zwłoki'!$I$18 -> 130 | AE53: =ROUND((((Y53*0.1*AC53)/365)+((Y53*0.08*AD53)/365)),0) -> 18
A54: 5 | B54: listopad 2013 | C54: 91 | D54: 1 | E54: =C54*5+D54*9 -> 464 | F54: ='liczba dni zwłoki'!$E$9 -> 330 | G54: ='liczba dni zwłoki'!$F$9 -> 132 | H54: =ROUND(((E54*0.1*F54)/365)+((E54*0.08*G54)/365),0) -> 55 | I54: ='liczba dni zwłoki'!$H$9 -> 198 | J54: ='liczba dni zwłoki'!$I$9 -> 130 | K54: =ROUND((((E54*0.1*I54)/365)+((E54*0.08*J54)/365)),0) -> 38 | L54: =(E54+K54)/E54 -> 1.0818966 | M54: =E54/L54 -> 428.87649 | N54: =E54-M54 -> 35.123506 | O54: =M54+N54 -> 464 | P54: =O54 -> 464 | S54: 15 | T54: wrzesień 2014 | U54: 91 | V54: 0 | W54: 1 | X54: 0 | Y54: =U54*6+V54*5+W54*10+X54*9 -> 556 | Z54: ='liczba dni zwłoki'!$E$19 -> 28 | AA54: ='liczba dni zwłoki'!$F$19 -> 132 | AB54: =ROUND((((Y54*0.1*Z54)/365)+((Y54*0.08*AA54)/365)),0) -> 20 | AC54: ='liczba dni zwłoki'!$H$19 -> 0 | AD54: ='liczba dni zwłoki'!$I$19 -> 130 | AE54: =ROUND((((Y54*0.1*AC54)/365)+((Y54*0.08*AD54)/365)),0) -> 16
A55: 6 | B55: grudzień 2013 | C55: 91 | D55: 1 | E55: =C55*5+D55*9 -> 464 | F55: ='liczba dni zwłoki'!$E$10 -> 302 | G55: ='liczba dni zwłoki'!$F$10 -> 132 | H55: =ROUND(((E55*0.1*F55)/365)+((E55*0.08*G55)/365),0) -> 52 | I55: ='liczba dni zwłoki'!$H$10 -> 170 | J55: ='liczba dni zwłoki'!$I$10 -> 130 | K55: =ROUND((((E55*0.1*I55)/365)+((E55*0.08*J55)/365)),0) -> 35 | L55: =(E55+K55)/E55 -> 1.075431 | M55: =E55/L55 -> 431.45491 | N55: =E55-M55 -> 32.54509 | O55: =M55+N55 -> 464 | P55: =O55 -> 464 | S55: 16 | T55: październik 2014 | U55: 91 | V55: 0 | W55: 1 | X55: 0 | Y55: =U55*6+V55*5+W55*10+X55*9 -> 556 | Z55: ='liczba dni zwłoki'!$E$20 -> 0 | AA55: ='liczba dni zwłoki'!$F$20 -> 130 | AB55: =ROUND((((Y55*0.1*Z55)/365)+((Y55*0.08*AA55)/365)),0) -> 16 | AC55: ='liczba dni zwłoki'!$H$20 -> 0 | AD55: ='liczba dni zwłoki'!$I$20 -> 129 | AE55: =ROUND((((Y55*0.1*AC55)/365)+((Y55*0.08*AD55)/365)),0) -> 16
A56: 7 | B56: styczeń 2014 | C56: 91 | D56: 1 | E56: =C56*5+D56*9 -> 464 | F56: ='liczba dni zwłoki'!$E$11 -> 271 | G56: ='liczba dni zwłoki'!$F$11 -> 132 | H56: =ROUND(((E56*0.1*F56)/365)+((E56*0.08*G56)/365),0) -> 48 | I56: ='liczba dni zwłoki'!$H$11 -> 144 | J56: ='liczba dni zwłoki'!$I$11 -> 130 | K56: =ROUND((((E56*0.1*I56)/365)+((E56*0.08*J56)/365)),0) -> 32 | L56: =(E56+K56)/E56 -> 1.0689655 | M56: =E56/L56 -> 434.06452 | N56: =E56-M56 -> 29.935484 | O56: =M56+N56 -> 464 | P56: =O56 -> 464 | S56: 17 | T56: listopad 2014 | U56: 91 | V56: 0 | W56: 1 | X56: 0 | Y56: =U56*6+V56*5+W56*10+X56*9 -> 556 | Z56: ='liczba dni zwłoki'!$E$21 -> 0 | AA56: ='liczba dni zwłoki'!$F$21 -> 99 | AB56: =ROUND((((Y56*0.1*Z56)/365)+((Y56*0.08*AA56)/365)),0) -> 12 | AC56: ='liczba dni zwłoki'!$H$21 -> 0 | AD56: ='liczba dni zwłoki'!$I$21 -> 99 | AE56: =ROUND((((Y56*0.1*AC56)/365)+((Y56*0.08*AD56)/365)),0) -> 12
A57: 8 | B57: luty 2014 | C57: 91 | D57: 1 | E57: =C57*5+D57*9 -> 464 | F57: ='liczba dni zwłoki'!$E$12 -> 240 | G57: ='liczba dni zwłoki'!$F$12 -> 132 | H57: =ROUND(((E57*0.1*F57)/365)+((E57*0.08*G57)/365),0) -> 44 | I57: ='liczba dni zwłoki'!$H$12 -> 144 | J57: ='liczba dni zwłoki'!$I$12 -> 130 | K57: =ROUND((((E57*0.1*I57)/365)+((E57*0.08*J57)/365)),0) -> 32 | L57: =(E57+K57)/E57 -> 1.0689655 | M57: =E57/L57 -> 434.06452 | N57: =E57-M57 -> 29.935484 | O57: =M57+N57 -> 464 | P57: =O57 -> 464 | S57: 18 | T57: grudzień 2014 | U57: 91 | V57: 0 | W57: 1 | X57: 0 | Y57: =U57*6+V57*5+W57*10+X57*9 -> 556 | Z57: ='liczba dni zwłoki'!$E$22 -> 0 | AA57: ='liczba dni zwłoki'!$F$22 -> 69 | AB57: =ROUND((((Y57*0.1*Z57)/365)+((Y57*0.08*AA57)/365)),0) -> 8 | AC57: ='liczba dni zwłoki'!$H$22 -> 0 | AD57: ='liczba dni zwłoki'!$I$22 -> 69 | AE57: =ROUND((((Y57*0.1*AC57)/365)+((Y57*0.08*AD57)/365)),0) -> 8
A58: 9 | B58: marzec 2014 | C58: 91 | D58: 1 | E58: =C58*5+D58*9 -> 464 | F58: ='liczba dni zwłoki'!$E$13 -> 212 | G58: ='liczba dni zwłoki'!$F$13 -> 132 | H58: =ROUND(((E58*0.1*F58)/365)+((E58*0.08*G58)/365),0) -> 40 | I58: ='liczba dni zwłoki'!$H$13 -> 144 | J58: ='liczba dni zwłoki'!$I$13 -> 130 | K58: =ROUND((((E58*0.1*I58)/365)+((E58*0.08*J58)/365)),0) -> 32 | L58: =(E58+K58)/E58 -> 1.0689655 | M58: =E58/L58 -> 434.06452 | N58: =E58-M58 -> 29.935484 | O58: =M58+N58 -> 464 | P58: =O58 -> 464 | S58: 19 | T58: styczeń 2015 | U58: 90 | V58: 0 | W58: 1 | X58: 0 | Y58: =U58*6+V58*5+W58*10+X58*9 -> 550 | Z58: ='liczba dni zwłoki'!$E$23 -> 0 | AA58: ='liczba dni zwłoki'!$F$23 -> 36 | AB58: 0 | AC58: ='liczba dni zwłoki'!$H$23 -> 0 | AD58: ='liczba dni zwłoki'!$I$23 -> 36 | AE58: 0
A59: 10 | B59: kwicień 2014 | C59: 91 | D59: 1 | E59: =C59*5+D59*9 -> 464 | F59: ='liczba dni zwłoki'!$E$14 -> 181 | G59: ='liczba dni zwłoki'!$F$14 -> 132 | H59: =ROUND(((E59*0.1*F59)/365)+((E59*0.08*G59)/365),0) -> 36 | I59: ='liczba dni zwłoki'!$H$14 -> 138 | J59: ='liczba dni zwłoki'!$I$14 -> 130 | K59: =ROUND((((E59*0.1*I59)/365)+((E59*0.08*J59)/365)),0) -> 31 | L59: =(E59+K59)/E59 -> 1.0668103 | M59: =E59/L59 -> 434.94141 | N59: =E59-M59 -> 29.058586 | O59: =M59+N59 -> 464 | P59: =O59-Q59 -> 100.99342 | Q59: =N60 -> 363.00658 | X59: suma | Y59: =SUM(Y50:Y58) -> 4998 | AB59: =SUM(AB50:AB58) -> 184 | AE59: =SUM(AE50:AE58) -> 153
D60: Suma | E60: =SUM(E50:E59) -> 4654 | H60: =SUM(H50:H59) -> 539 | K60: =SUM(K50:K59) -> 395 | M60: =SUM(M50:M59) -> 4290.9934 | N60: =E60-M60 -> 363.00658 | O60: =M60+N60 -> 4654 | P60: =SUM(P50:P59) -> 4290.9934 | Q60: =SUM(Q50:Q59) -> 363.00658
A66: ul. Cicha 9 | S66: ul. Cicha 9
F68: Odsetki za zwłokę - przed decyzją o wyłączeniu | I68: Odsetki za zwłokę po wyłączeniu | Z68: Odsetki za zwłokę - przed decyzją o wyłączeniu | AC68: Odsetki za zwłokę po wyłączeniu
A69: Lp | B69: Miesiąc | C69: Ilość osób wg. poszczególnych stawek opłat | E69: Miesięczna opłata za gospodarowanie odpadami na nieruchomości | F69: Liczba dni zwłoki | H69: Kwota odsetek | I69: Liczba dni zwłoki po wyłączeniu | K69: Kwota odsetek po wyłączeniu | L69: Proporcjonalne rozliczenie odsetek i należności głównej | M69: Należność główna | N69: Odsetki | O69: SUMA | P69: Księgowanie należności głównej | Q69: Księgowanie odsetek | S69: Lp | T69: Miesiąc | U69: Ilość osób wg. poszczególnych stawek opłat | Y69: Miesięczna opłata za gospodarowanie odpadami na nieruchomości | Z69: Liczba dni zwłoki | AB69: Kwota odsetek | AC69: Liczba dni zwłoki po wyłączeniu | AE69: Kwota odsetek po wyłączeniu
C70: stawka 5 zł | D70: stawka 9 zł | F70: stawka 10% | G70: stawka 8% | I70: stawka 10% | J70: stawka 8% | U70: stawka 6 zł | V70: stawka 5 zł | W70: stawka 10 zł | X70: stawka 9 zł | Z70: stawka 10% | AA70: stawka 8% | AC70: stawka 10% | AD70: stawka 8%
A71: 1 | B71: lipiec 2013 | C71: 70 | D71: 4 | E71: =C71*5+D71*9 -> 386 | F71: ='liczba dni zwłoki'!$E$5 -> 455 | G71: ='liczba dni zwłoki'!$F$5 -> 132 | H71: =ROUND(((E71*0.1*F71)/365)+((E71*0.08*G71)/365),0) -> 59 | I71: ='liczba dni zwłoki'!$H$5 -> 323 | J71: ='liczba dni zwłoki'!$I$5 -> 130 | K71: =ROUND((((E71*0.1*I71)/365)+((E71*0.08*J71)/365)),0) -> 45 | L71: =(E71+K71)/E71 -> 1.1165803 | M71: =E71/L71 -> 345.69838 | N71: =E71-M71 -> 40.301624 | O71: =M71+N71 -> 386 | P71: =O71 -> 386 | S71: 11 | T71: maj 2014 | U71: 67 | V71: 0 | W71: 4 | X71: 0 | Y71: =U71*6+V71*5+W71*10+X71*9 -> 442 | Z71: ='liczba dni zwłoki'!$E$15 -> 149 | AA71: ='liczba dni zwłoki'!$F$15 -> 132 | AB71: =ROUND((((Y71*0.1*Z71)/365)+((Y71*0.08*AA71)/365)),0) -> 31 | AC71: ='liczba dni zwłoki'!$H$15 -> 106 | AD71: ='liczba dni zwłoki'!$I$15 -> 130 | AE71: =ROUND((((Y71*0.1*AC71)/365)+((Y71*0.08*AD71)/365)),0) -> 25
A72: 2 | B72: sierpień 2013 | C72: 70 | D72: 4 | E72: =+C72*5+D72*9 -> 386 | F72: ='liczba dni zwłoki'!$E$6 -> 422 | G72: ='liczba dni zwłoki'!$F$6 -> 132 | H72: =ROUND(((E72*0.1*F72)/365)+((E72*0.08*G72)/365),0) -> 56 | I72: ='liczba dni zwłoki'!$H$6 -> 290 | J72: ='liczba dni zwłoki'!$I$6 -> 130 | K72: =ROUND((((E72*0.1*I72)/365)+((E72*0.08*J72)/365)),0) -> 42 | L72: =(E72+K72)/E72 -> 1.1088083 | M72: =E72/L72 -> 348.1215 | N72: =E72-M72 -> 37.878505 | O72: =M72+N72 -> 386 | P72: =O72 -> 386 | S72: 12 | T72: czerwiec 2014 | U72: 67 | V72: 0 | W72: 3 | X72: 0 | Y72: =U72*6+V72*5+W72*10+X72*9 -> 432 | Z72: ='liczba dni zwłoki'!$E$16 -> 120 | AA72: ='liczba dni zwłoki'!$F$16 -> 132 | AB72: =ROUND((((Y72*0.1*Z72)/365)+((Y72*0.08*AA72)/365)),0) -> 27 | AC72: ='liczba dni zwłoki'!$H$16 -> 77 | AD72: ='liczba dni zwłoki'!$I$16 -> 130 | AE72: =ROUND((((Y72*0.1*AC72)/365)+((Y72*0.08*AD72)/365)),0) -> 21
A73: 3 | B73: wrzesień 2013 | C73: 67 | D73: 4 | E73: =C73*5+D73*9 -> 371 | F73: ='liczba dni zwłoki'!$E$7 -> 393 | G73: ='liczba dni zwłoki'!$F$7 -> 132 | H73: =ROUND(((E73*0.1*F73)/365)+((E73*0.08*G73)/365),0) -> 51 | I73: ='liczba dni zwłoki'!$H$7 -> 261 | J73: ='liczba dni zwłoki'!$I$7 -> 130 | K73: =ROUND((((E73*0.1*I73)/365)+((E73*0.08*J73)/365)),0) -> 37 | L73: =(E73+K73)/E73 -> 1.0997305 | M73: =E73/L73 -> 337.35539 | N73: =E73-M73 -> 33.644608 | O73: =M73+N73 -> 371 | P73: =O73 -> 371 | S73: 13 | T73: lipiec 2014 | U73: 67 | V73: 0 | W73: 3 | X73: 0 | Y73: =U73*6+V73*5+W73*10+X73*9 -> 432 | Z73: ='liczba dni zwłoki'!$E$17 -> 90 | AA73: ='liczba dni zwłoki'!$F$17 -> 132 | AB73: =ROUND((((Y73*0.1*Z73)/365)+((Y73*0.08*AA73)/365)),0) -> 23 | AC73: ='liczba dni zwłoki'!$H$17 -> 47 | AD73: ='liczba dni zwłoki'!$I$17 -> 130 | AE73: =ROUND((((Y73*0.1*AC73)/365)+((Y73*0.08*AD73)/365)),0) -> 18
A74: 4 | B74: październik 2013 | C74: 67 | D74: 4 | E74: =C74*5+D74*9 -> 371 | F74: ='liczba dni zwłoki'!$E$8 -> 363 | G74: ='liczba dni zwłoki'!$F$8 -> 132 | H74: =ROUND(((E74*0.1*F74)/365)+((E74*0.08*G74)/365),0) -> 48 | I74: ='liczba dni zwłoki'!$H$8 -> 231 | J74: ='liczba dni zwłoki'!$I$8 -> 130 | K74: =ROUND((((E74*0.1*I74)/365)+((E74*0.08*J74)/365)),0) -> 34 | L74: =(E74+K74)/E74 -> 1.0916442 | M74: =E74/L74 -> 339.85432 | N74: =E74-M74 -> 31.145679 | O74: =M74+N74 -> 371 | P74: =O74 -> 371 | S74: 14 | T74: sierpień 2014 | U74: 67 | V74: 0 | W74: 3 | X74: 0 | Y74: =U74*6+V74*5+W74*10+X74*9 -> 432 | Z74: ='liczba dni zwłoki'!$E$18 -> 58 | AA74: ='liczba dni zwłoki'!$F$18 -> 132 | AB74: =ROUND((((Y74*0.1*Z74)/365)+((Y74*0.08*AA74)/365)),0) -> 19 | AC74: ='liczba dni zwłoki'!$H$18 -> 15 | AD74: ='liczba dni zwłoki'!$I$18 -> 130 | AE74: =ROUND((((Y74*0.1*AC74)/365)+((Y74*0.08*AD74)/365)),0) -> 14
A75: 5 | B75: listopad 2013 | C75: 67 | D75: 4 | E75: =C75*5+D75*9 -> 371 | F75: ='liczba dni zwłoki'!$E$9 -> 330 | G75: ='liczba dni zwłoki'!$F$9 -> 132 | H75: =ROUND(((E75*0.1*F75)/365)+((E75*0.08*G75)/365),0) -> 44 | I75: ='liczba dni zwłoki'!$H$9 -> 198 | J75: ='liczba dni zwłoki'!$I$9 -> 130 | K75: =ROUND((((E75*0.1*I75)/365)+((E75*0.08*J75)/365)),0) -> 31 | L75: =(E75+K75)/E75 -> 1.083558 | M75: =E75/L75 -> 342.39055 | N75: =E75-M75 -> 28.609453 | O75: =M75+N75 -> 371 | P75: =O75 -> 371 | S75: 15 | T75: wrzesień 2014 | U75: 67 | V75: 0 | W75: 3 | X75: 0 | Y75: =U75*6+V75*5+W75*10+X75*9 -> 432 | Z75: ='liczba dni zwłoki'!$E$19 -> 28 | AA75: ='liczba dni zwłoki'!$F$19 -> 132 | AB75: =ROUND((((Y75*0.1*Z75)/365)+((Y75*0.08*AA75)/365)),0) -> 16 | AC75: ='liczba dni zwłoki'!$H$19 -> 0 | AD75: ='liczba dni zwłoki'!$I$19 -> 130 | AE75: =ROUND((((Y75*0.1*AC75)/365)+((Y75*0.08*AD75)/365)),0) -> 12
A76: 6 | B76: grudzień 2013 | C76: 67 | D76: 4 | E76: =C76*5+D76*9 -> 371 | F76: ='liczba dni zwłoki'!$E$10 -> 302 | G76: ='liczba dni zwłoki'!$F$10 -> 132 | H76: =ROUND(((E76*0.1*F76)/365)+((E76*0.08*G76)/365),0) -> 41 | I76: ='liczba dni zwłoki'!$H$10 -> 170 | J76: ='liczba dni zwłoki'!$I$10 -> 130 | K76: =ROUND((((E76*0.1*I76)/365)+((E76*0.08*J76)/365)),0) -> 28 | L76: =(E76+K76)/E76 -> 1.0754717 | M76: =E76/L76 -> 344.96491 | N76: =E76-M76 -> 26.035088 | O76: =M76+N76 -> 371 | P76: =O76 -> 371 | S76: 16 | T76: październik 2014 | U76: 67 | V76: 0 | W76: 3 | X76: 0 | Y76: =U76*6+V76*5+W76*10+X76*9 -> 432 | Z76: ='liczba dni zwłoki'!$E$20 -> 0 | AA76: ='liczba dni zwłoki'!$F$20 -> 130 | AB76: =ROUND((((Y76*0.1*Z76)/365)+((Y76*0.08*AA76)/365)),0) -> 12 | AC76: ='liczba dni zwłoki'!$H$20 -> 0 | AD76: ='liczba dni zwłoki'!$I$20 -> 129 | AE76: =ROUND((((Y76*0.1*AC76)/365)+((Y76*0.08*AD76)/365)),0) -> 12
A77: 7 | B77: styczeń 2014 | C77: 67 | D77: 4 | E77: =C77*5+D77*9 -> 371 | F77: ='liczba dni zwłoki'!$E$11 -> 271 | G77: ='liczba dni zwłoki'!$F$11 -> 132 | H77: =ROUND(((E77*0.1*F77)/365)+((E77*0.08*G77)/365),0) -> 38 | I77: ='liczba dni zwłoki'!$H$11 -> 144 | J77: ='liczba dni zwłoki'!$I$11 -> 130 | K77: =ROUND((((E77*0.1*I77)/365)+((E77*0.08*J77)/365)),0) -> 25 | L77: =(E77+K77)/E77 -> 1.0673854 | M77: =E77/L77 -> 347.57828 | N77: =E77-M77 -> 23.421717 | O77: =M77+N77 -> 371 | P77: =O77 -> 371 | S77: 17 | T77: listopad 2014 | U77: 65 | V77: 0 | W77: 3 | X77: 0 | Y77: =U77*6+V77*5+W77*10+X77*9 -> 420 | Z77: ='liczba dni zwłoki'!$E$21 -> 0 | AA77: ='liczba dni zwłoki'!$F$21 -> 99 | AB77: =ROUND((((Y77*0.1*Z77)/365)+((Y77*0.08*AA77)/365)),0) -> 9 | AC77: ='liczba dni zwłoki'!$H$21 -> 0 | AD77: ='liczba dni zwłoki'!$I$21 -> 99 | AE77: =ROUND((((Y77*0.1*AC77)/365)+((Y77*0.08*AD77)/365)),0) -> 9
A78: 8 | B78: luty 2014 | C78: 67 | D78: 4 | E78: =C78*5+D78*9 -> 371 | F78: ='liczba dni zwłoki'!$E$12 -> 240 | G78: ='liczba dni zwłoki'!$F$12 -> 132 | H78: =ROUND(((E78*0.1*F78)/365)+((E78*0.08*G78)/365),0) -> 35 | I78: ='liczba dni zwłoki'!$H$12 -> 144 | J78: ='liczba dni zwłoki'!$I$12 -> 130 | K78: =ROUND((((E78*0.1*I78)/365)+((E78*0.08*J78)/365)),0) -> 25 | L78: =(E78+K78)/E78 -> 1.0673854 | M78: =E78/L78 -> 347.57828 | N78: =E78-M78 -> 23.421717 | O78: =M78+N78 -> 371 | P78: =O78 -> 371 | S78: 18 | T78: grudzień 2014 | U78: 65 | V78: 0 | W78: 3 | X78: 0 | Y78: =U78*6+V78*5+W78*10+X78*9 -> 420 | Z78: ='liczba dni zwłoki'!$E$22 -> 0 | AA78: ='liczba dni zwłoki'!$F$22 -> 69 | AB78: 0 | AC78: ='liczba dni zwłoki'!$H$22 -> 0 | AD78: ='liczba dni zwłoki'!$I$22 -> 69 | AE78: 0
A79: 9 | B79: marzec 2014 | C79: 67 | D79: 4 | E79: =C79*5+D79*9 -> 371 | F79: ='liczba dni zwłoki'!$E$13 -> 212 | G79: ='liczba dni zwłoki'!$F$13 -> 132 | H79: =ROUND(((E79*0.1*F79)/365)+((E79*0.08*G79)/365),0) -> 32 | I79: ='liczba dni zwłoki'!$H$13 -> 144 | J79: ='liczba dni zwłoki'!$I$13 -> 130 | K79: =ROUND((((E79*0.1*I79)/365)+((E79*0.08*J79)/365)),0) -> 25 | L79: =(E79+K79)/E79 -> 1.0673854 | M79: =E79/L79 -> 347.57828 | N79: =E79-M79 -> 23.421717 | O79: =M79+N79 -> 371 | P79: =O79 -> 371 | S79: 19 | T79: styczeń 2015 | U79: 64 | V79: 0 | W79: 3 | X79: 0 | Y79: =U79*6+V79*5+W79*10+X79*9 -> 414 | Z79: ='liczba dni zwłoki'!$E$23 -> 0 | AA79: ='liczba dni zwłoki'!$F$23 -> 36 | AB79: 0 | AC79: ='liczba dni zwłoki'!$H$23 -> 0 | AD79: ='liczba dni zwłoki'!$I$23 -> 36 | AE79: 0
A80: 10 | B80: kwicień 2014 | C80: 67 | D80: 4 | E80: =C80*5+D80*9 -> 371 | F80: ='liczba dni zwłoki'!$E$14 -> 181 | G80: ='liczba dni zwłoki'!$F$14 -> 132 | H80: =ROUND(((E80*0.1*F80)/365)+((E80*0.08*G80)/365),0) -> 29 | I80: ='liczba dni zwłoki'!$H$14 -> 138 | J80: ='liczba dni zwłoki'!$I$14 -> 130 | K80: =ROUND((((E80*0.1*I80)/365)+((E80*0.08*J80)/365)),0) -> 25 | L80: =(E80+K80)/E80 -> 1.0673854 | M80: =E80/L80 -> 347.57828 | N80: =E80-M80 -> 23.421717 | O80: =M80+N80 -> 371 | P80: =O80-Q80 -> 79.698175 | Q80: =N81 -> 291.30182 | X80: suma | Y80: =SUM(Y71:Y79) -> 3856 | AB80: =SUM(AB71:AB79) -> 137 | AE80: =SUM(AE71:AE79) -> 111
D81: Suma | E81: =SUM(E71:E80) -> 3740 | H81: =SUM(H71:H80) -> 433 | K81: =SUM(K71:K80) -> 317 | M81: =SUM(M71:M80) -> 3448.6982 | N81: =E81-M81 -> 291.30182 | O81: =M81+N81 -> 3740 | P81: =SUM(P71:P80) -> 3448.6982 | Q81: =SUM(Q71:Q80) -> 291.30182
A87: ul. Cicha 11 | S87: ul. Cicha 11
F89: Odsetki za zwłokę - przed decyzją o wyłączeniu | I89: Odsetki za zwłokę po wyłączeniu | Z89: Odsetki za zwłokę - przed decyzją o wyłączeniu | AC89: Odsetki za zwłokę po wyłączeniu
A90: Lp | B90: Miesiąc | C90: Ilość osób wg. poszczególnych stawek opłat | E90: Miesięczna opłata za gospodarowanie odpadami na nieruchomości | F90: Liczba dni zwłoki | H90: Kwota odsetek | I90: Liczba dni zwłoki po wyłączeniu | K90: Kwota odsetek po wyłączeniu | L90: Proporcjonalne rozliczenie odsetek i należności głównej | M90: Należność główna | N90: Odsetki | O90: SUMA | P90: Księgowanie należności głównej | Q90: Księgowanie odsetek | S90: Lp | T90: Miesiąc | U90: Ilość osób wg. poszczególnych stawek opłat | Y90: Miesięczna opłata za gospodarowanie odpadami na nieruchomości | Z90: Liczba dni zwłoki | AB90: Kwota odsetek | AC90: Liczba dni zwłoki po wyłączeniu | AE90: Kwota odsetek po wyłączeniu
C91: stawka 5 zł | D91: stawka 9 zł | F91: stawka 10% | G91: stawka 8% | I91: stawka 10% | J91: stawka 8% | U91: stawka 6 zł | V91: stawka 5 zł | W91: stawka 10 zł | X91: stawka 9 zł | Z91: stawka 10% | AA91: stawka 8% | AC91: stawka 10% | AD91: stawka 8%
A92: 1 | B92: lipiec 2013 | C92: 78 | D92: 11 | E92: =C92*5+D92*9 -> 489 | F92: ='liczba dni zwłoki'!$E$5 -> 455 | G92: ='liczba dni zwłoki'!$F$5 -> 132 | H92: =ROUND(((E92*0.1*F92)/365)+((E92*0.08*G92)/365),0) -> 75 | I92: ='liczba dni zwłoki'!$H$5 -> 323 | J92: ='liczba dni zwłoki'!$I$5 -> 130 | K92: =ROUND((((E92*0.1*I92)/365)+((E92*0.08*J92)/365)),0) -> 57 | L92: =(E92+K92)/E92 -> 1.1165644 | M92: =E92/L92 -> 437.95055 | N92: =E92-M92 -> 51.049451 | O92: =M92+N92 -> 489 | P92: =O92 -> 489 | S92: 11 | T92: maj 2014 | U92: 77 | V92: 0 | W92: 11 | X92: 0 | Y92: =U92*6+V92*5+W92*10+X92*9 -> 572 | Z92: ='liczba dni zwłoki'!$E$15 -> 149 | AA92: ='liczba dni zwłoki'!$F$15 -> 132 | AB92: =ROUND((((Y92*0.1*Z92)/365)+((Y92*0.08*AA92)/365)),0) -> 40 | AC92: ='liczba dni zwłoki'!$H$15 -> 106 | AD92: ='liczba dni zwłoki'!$I$15 -> 130 | AE92: =ROUND((((Y92*0.1*AC92)/365)+((Y92*0.08*AD92)/365)),0) -> 33
A93: 2 | B93: sierpień 2013 | C93: 79 | D93: 11 | E93: =+C93*5+D93*9 -> 494 | F93: ='liczba dni zwłoki'!$E$6 -> 422 | G93: ='liczba dni zwłoki'!$F$6 -> 132 | H93: =ROUND(((E93*0.1*F93)/365)+((E93*0.08*G93)/365),0) -> 71 | I93: ='liczba dni zwłoki'!$H$6 -> 290 | J93: ='liczba dni zwłoki'!$I$6 -> 130 | K93: =ROUND((((E93*0.1*I93)/365)+((E93*0.08*J93)/365)),0) -> 53 | L93: =(E93+K93)/E93 -> 1.1072874 | M93: =E93/L93 -> 446.13528 | N93: =E93-M93 -> 47.864717 | O93: =M93+N93 -> 494 | P93: =O93 -> 494 | S93: 12 | T93: czerwiec 2014 | U93: 77 | V93: 0 | W93: 11 | X93: 0 | Y93: =U93*6+V93*5+W93*10+X93*9 -> 572 | Z93: ='liczba dni zwłoki'!$E$16 -> 120 | AA93: ='liczba dni zwłoki'!$F$16 -> 132 | AB93: =ROUND((((Y93*0.1*Z93)/365)+((Y93*0.08*AA93)/365)),0) -> 35 | AC93: ='liczba dni zwłoki'!$H$16 -> 77 | AD93: ='liczba dni zwłoki'!$I$16 -> 130 | AE93: =ROUND((((Y93*0.1*AC93)/365)+((Y93*0.08*AD93)/365)),0) -> 28
A94: 3 | B94: wrzesień 2013 | C94: 79 | D94: 11 | E94: =C94*5+D94*9 -> 494 | F94: ='liczba dni zwłoki'!$E$7 -> 393 | G94: ='liczba dni zwłoki'!$F$7 -> 132 | H94: =ROUND(((E94*0.1*F94)/365)+((E94*0.08*G94)/365),0) -> 67 | I94: ='liczba dni zwłoki'!$H$7 -> 261 | J94: ='liczba dni zwłoki'!$I$7 -> 130 | K94: =ROUND((((E94*0.1*I94)/365)+((E94*0.08*J94)/365)),0) -> 49 | L94: =(E94+K94)/E94 -> 1.0991903 | M94: =E94/L94 -> 449.42173 | N94: =E94-M94 -> 44.578269 | O94: =M94+N94 -> 494 | P94: =O94 -> 494 | S94: 13 | T94: lipiec 2014 | U94: 77 | V94: 0 | W94: 11 | X94: 0 | Y94: =U94*6+V94*5+W94*10+X94*9 -> 572 | Z94: ='liczba dni zwłoki'!$E$17 -> 90 | AA94: ='liczba dni zwłoki'!$F$17 -> 132 | AB94: =ROUND((((Y94*0.1*Z94)/365)+((Y94*0.08*AA94)/365)),0) -> 31 | AC94: ='liczba dni zwłoki'!$H$17 -> 47 | AD94: ='liczba dni zwłoki'!$I$17 -> 130 | AE94: =ROUND((((Y94*0.1*AC94)/365)+((Y94*0.08*AD94)/365)),0) -> 24
A95: 4 | B95: październik 2013 | C95: 79 | D95: 11 | E95: =C95*5+D95*9 -> 494 | F95: ='liczba dni zwłoki'!$E$8 -> 363 | G95: ='liczba dni zwłoki'!$F$8 -> 132 | H95: =ROUND(((E95*0.1*F95)/365)+((E95*0.08*G95)/365),0) -> 63 | I95: ='liczba dni zwłoki'!$H$8 -> 231 | J95: ='liczba dni zwłoki'!$I$8 -> 130 | K95: =ROUND((((E95*0.1*I95)/365)+((E95*0.08*J95)/365)),0) -> 45 | L95: =(E95+K95)/E95 -> 1.0910931 | M95: =E95/L95 -> 452.75696 | N95: =E95-M95 -> 41.243043 | O95: =M95+N95 -> 494 | P95: =O95 -> 494 | S95: 14 | T95: sierpień 2014 | U95: 77 | V95: 0 | W95: 11 | X95: 0 | Y95: =U95*6+V95*5+W95*10+X95*9 -> 572 | Z95: ='liczba dni zwłoki'!$E$18 -> 58 | AA95: ='liczba dni zwłoki'!$F$18 -> 132 | AB95: =ROUND((((Y95*0.1*Z95)/365)+((Y95*0.08*AA95)/365)),0) -> 26 | AC95: ='liczba dni zwłoki'!$H$18 -> 15 | AD95: ='liczba dni zwłoki'!$I$18 -> 130 | AE95: =ROUND((((Y95*0.1*AC95)/365)+((Y95*0.08*AD95)/365)),0) -> 19
A96: 5 | B96: listopad 2013 | C96: 79 | D96: 11 | E96: =C96*5+D96*9 -> 494 | F96: ='liczba dni zwłoki'!$E$9 -> 330 | G96: ='liczba dni zwłoki'!$F$9 -> 132 | H96: =ROUND(((E96*0.1*F96)/365)+((E96*0.08*G96)/365),0) -> 59 | I96: ='liczba dni zwłoki'!$H$9 -> 198 | J96: ='liczba dni zwłoki'!$I$9 -> 130 | K96: =ROUND((((E96*0.1*I96)/365)+((E96*0.08*J96)/365)),0) -> 41 | L96: =(E96+K96)/E96 -> 1.082996 | M96: =E96/L96 -> 456.14206 | N96: =E96-M96 -> 37.857944 | O96: =M96+N96 -> 494 | P96: =O96 -> 494 | S96: 15 | T96: wrzesień 2014 | U96: 77 | V96: 0 | W96: 11 | X96: 0 | Y96: =U96*6+V96*5+W96*10+X96*9 -> 572 | Z96: ='liczba dni zwłoki'!$E$19 -> 28 | AA96: ='liczba dni zwłoki'!$F$19 -> 132 | AB96: =ROUND((((Y96*0.1*Z96)/365)+((Y96*0.08*AA96)/365)),0) -> 21 | AC96: ='liczba dni zwłoki'!$H$19 -> 0 | AD96: ='liczba dni zwłoki'!$I$19 -> 130 | AE96: =ROUND((((Y96*0.1*AC96)/365)+((Y96*0.08*AD96)/365)),0) -> 16
A97: 6 | B97: grudzień 2013 | C97: 79 | D97: 11 | E97: =C97*5+D97*9 -> 494 | F97: ='liczba dni zwłoki'!$E$10 -> 302 | G97: ='liczba dni zwłoki'!$F$10 -> 132 | H97: =ROUND(((E97*0.1*F97)/365)+((E97*0.08*G97)/365),0) -> 55 | I97: ='liczba dni zwłoki'!$H$10 -> 170 | J97: ='liczba dni zwłoki'!$I$10 -> 130 | K97: =ROUND((((E97*0.1*I97)/365)+((E97*0.08*J97)/365)),0) -> 37 | L97: =(E97+K97)/E97 -> 1.0748988 | M97: =E97/L97 -> 459.57815 | N97: =E97-M97 -> 34.421846 | O97: =M97+N97 -> 494 | P97: =O97 -> 494 | S97: 16 | T97: październik 2014 | U97: 77 | V97: 0 | W97: 11 | X97: 0 | Y97: =U97*6+V97*5+W97*10+X97*9 -> 572 | Z97: ='liczba dni zwłoki'!$E$20 -> 0 | AA97: ='liczba dni zwłoki'!$F$20 -> 130 | AB97: =ROUND((((Y97*0.1*Z97)/365)+((Y97*0.08*AA97)/365)),0) -> 16 | AC97: ='liczba dni zwłoki'!$H$20 -> 0 | AD97: ='liczba dni zwłoki'!$I$20 -> 129 | AE97: =ROUND((((Y97*0.1*AC97)/365)+((Y97*0.08*AD97)/365)),0) -> 16
A98: 7 | B98: styczeń 2014 | C98: 78 | D98: 11 | E98: =C98*5+D98*9 -> 489 | F98: ='liczba dni zwłoki'!$E$11 -> 271 | G98: ='liczba dni zwłoki'!$F$11 -> 132 | H98: =ROUND(((E98*0.1*F98)/365)+((E98*0.08*G98)/365),0) -> 50 | I98: ='liczba dni zwłoki'!$H$11 -> 144 | J98: ='liczba dni zwłoki'!$I$11 -> 130 | K98: =ROUND((((E98*0.1*I98)/365)+((E98*0.08*J98)/365)),0) -> 33 | L98: =(E98+K98)/E98 -> 1.0674847 | M98: =E98/L98 -> 458.08621 | N98: =E98-M98 -> 30.913793 | O98: =M98+N98 -> 489 | P98: =O98 -> 489 | S98: 17 | T98: listopad 2014 | U98: 77 | V98: 0 | W98: 11 | X98: 0 | Y98: =U98*6+V98*5+W98*10+X98*9 -> 572 | Z98: ='liczba dni zwłoki'!$E$21 -> 0 | AA98: ='liczba dni zwłoki'!$F$21 -> 99 | AB98: =ROUND((((Y98*0.1*Z98)/365)+((Y98*0.08*AA98)/365)),0) -> 12 | AC98: ='liczba dni zwłoki'!$H$21 -> 0 | AD98: ='liczba dni zwłoki'!$I$21 -> 99 | AE98: =ROUND((((Y98*0.1*AC98)/365)+((Y98*0.08*AD98)/365)),0) -> 12
A99: 8 | B99: luty 2014 | C99: 78 | D99: 11 | E99: =C99*5+D99*9 -> 489 | F99: ='liczba dni zwłoki'!$E$12 -> 240 | G99: ='liczba dni zwłoki'!$F$12 -> 132 | H99: =ROUND(((E99*0.1*F99)/365)+((E99*0.08*G99)/365),0) -> 46 | I99: ='liczba dni zwłoki'!$H$12 -> 144 | J99: ='liczba dni zwłoki'!$I$12 -> 130 | K99: =ROUND((((E99*0.1*I99)/365)+((E99*0.08*J99)/365)),0) -> 33 | L99: =(E99+K99)/E99 -> 1.0674847 | M99: =E99/L99 -> 458.08621 | N99: =E99-M99 -> 30.913793 | O99: =M99+N99 -> 489 | P99: =O99 -> 489 | S99: 18 | T99: grudzień 2014 | U99: 76 | V99: 0 | W99: 11 | X99: 0 | Y99: =U99*6+V99*5+W99*10+X99*9 -> 566 | Z99: ='liczba dni zwłoki'!$E$22 -> 0 | AA99: ='liczba dni zwłoki'!$F$22 -> 69 | AB99: =ROUND((((Y99*0.1*Z99)/365)+((Y99*0.08*AA99)/365)),0) -> 9 | AC99: ='liczba dni zwłoki'!$H$22 -> 0 | AD99: ='liczba dni zwłoki'!$I$22 -> 69 | AE99: =ROUND((((Y99*0.1*AC99)/365)+((Y99*0.08*AD99)/365)),0) -> 9
A100: 9 | B100: marzec 2014 | C100: 77 | D100: 11 | E100: =C100*5+D100*9 -> 484 | F100: ='liczba dni zwłoki'!$E$13 -> 212 | G100: ='liczba dni zwłoki'!$F$13 -> 132 | H100: =ROUND(((E100*0.1*F100)/365)+((E100*0.08*G100)/365),0) -> 42 | I100: ='liczba dni zwłoki'!$H$13 -> 144 | J100: ='liczba dni zwłoki'!$I$13 -> 130 | K100: =ROUND((((E100*0.1*I100)/365)+((E100*0.08*J100)/365)),0) -> 33 | L100: =(E100+K100)/E100 -> 1.0681818 | M100: =E100/L100 -> 453.10638 | N100: =E100-M100 -> 30.893617 | O100: =M100+N100 -> 484 | P100: =O100 -> 484 | S100: 19 | T100: styczeń 2015 | U100: 76 | V100: 0 | W100: 11 | X100: 0 | Y100: =U100*6+V100*5+W100*10+X100*9 -> 566 | Z100: ='liczba dni zwłoki'!$E$23 -> 0 | AA100: ='liczba dni zwłoki'!$F$23 -> 36 | AB100: 0 | AC100: ='liczba dni zwłoki'!$H$23 -> 0 | AD100: ='liczba dni zwłoki'!$I$23 -> 36 | AE100: 0
A101: 10 | B101: kwicień 2014 | C101: 77 | D101: 11 | E101: =C101*5+D101*9 -> 484 | F101: ='liczba dni zwłoki'!$E$14 -> 181 | G101: ='liczba dni zwłoki'!$F$14 -> 132 | H101: =ROUND(((E101*0.1*F101)/365)+((E101*0.08*G101)/365),0) -> 38 | I101: ='liczba dni zwłoki'!$H$14 -> 138 | J101: ='liczba dni zwłoki'!$I$14 -> 130 | K101: =ROUND((((E101*0.1*I101)/365)+((E101*0.08*J101)/365)),0) -> 32 | L101: =(E101+K101)/E101 -> 1.0661157 | M101: =E101/L101 -> 453.9845 | N101: =E101-M101 -> 30.015504 | O101: =M101+N101 -> 484 | P101: =O101-Q101 -> 104.24802 | Q101: =N102 -> 379.75198 | X101: suma | Y101: =SUM(Y92:Y100) -> 5136 | AB101: =SUM(AB92:AB100) -> 190 | AE101: =SUM(AE92:AE100) -> 157
D102: Suma | E102: =SUM(E92:E101) -> 4905 | H102: =SUM(H92:H101) -> 566 | K102: =SUM(K92:K101) -> 413 | M102: =SUM(M92:M101) -> 4525.248 | N102: =E102-M102 -> 379.75198 | O102: =M102+N102 -> 4905 | P102: =SUM(P92:P101) -> 4525.248 | Q102: =SUM(Q92:Q101) -> 379.75198
A109: ul. Cicha 13 | S109: ul. Cicha 13
F111: Odsetki za zwłokę - przed decyzją o wyłączeniu | I111: Odsetki za zwłokę po wyłączeniu | Z111: Odsetki za zwłokę - przed decyzją o wyłączeniu | AC111: Odsetki za zwłokę po wyłączeniu
A112: Lp | B112: Miesiąc | C112: Ilość osób wg. poszczególnych stawek opłat | E112: Miesięczna opłata za gospodarowanie odpadami na nieruchomości | F112: Liczba dni zwłoki | H112: Kwota odsetek | I112: Liczba dni zwłoki po wyłączeniu | K112: Kwota odsetek po wyłączeniu | L112: Proporcjonalne rozliczenie odsetek i należności głównej | M112: Należność główna | N112: Odsetki | O112: SUMA | P112: Księgowanie należności głównej | Q112: Księgowanie odsetek | S112: Lp | T112: Miesiąc | U112: Ilość osób wg. poszczególnych stawek opłat | Y112: Miesięczna opłata za gospodarowanie odpadami na nieruchomości | Z112: Liczba dni zwłoki | AB112: Kwota odsetek | AC112: Liczba dni zwłoki po wyłączeniu | AE112: Kwota odsetek po wyłączeniu
C113: stawka 5 zł | D113: stawka 9 zł | F113: stawka 10% | G113: stawka 8% | I113: stawka 10% | J113: stawka 8% | U113: stawka 6 zł | V113: stawka 5 zł | W113: stawka 10 zł | X113: stawka 9 zł | Z113: stawka 10% | AA113: stawka 8% | AC113: stawka 10% | AD113: stawka 8%
A114: 1 | B114: lipiec 2013 | C114: 39 | D114: 1 | E114: =C114*5+D114*9 -> 204 | F114: ='liczba dni zwłoki'!$E$5 -> 455 | G114: ='liczba dni zwłoki'!$F$5 -> 132 | H114: =ROUND(((E114*0.1*F114)/365)+((E114*0.08*G114)/365),0) -> 31 | I114: ='liczba dni zwłoki'!$H$5 -> 323 | J114: ='liczba dni zwłoki'!$I$5 -> 130 | K114: =ROUND((((E114*0.1*I114)/365)+((E114*0.08*J114)/365)),0) -> 24 | L114: =(E114+K114)/E114 -> 1.1176471 | M114: =E114/L114 -> 182.52632 | N114: =E114-M114 -> 21.473684 | O114: =M114+N114 -> 204 | P114: =O114 -> 204 | S114: 11 | T114: maj 2014 | U114: 40 | V114: 0 | W114: 0 | X114: 0 | Y114: =U114*6+V114*5+W114*10+X114*9 -> 240 | Z114: ='liczba dni zwłoki'!$E$15 -> 149 | AA114: ='liczba dni zwłoki'!$F$15 -> 132 | AB114: =ROUND((((Y114*0.1*Z114)/365)+((Y114*0.08*AA114)/365)),0) -> 17 | AC114: ='liczba dni zwłoki'!$H$15 -> 106 | AD114: ='liczba dni zwłoki'!$I$15 -> 130 | AE114: =ROUND((((Y114*0.1*AC114)/365)+((Y114*0.08*AD114)/365)),0) -> 14
A115: 2 | B115: sierpień 2013 | C115: 39 | D115: 1 | E115: =+C115*5+D115*9 -> 204 | F115: ='liczba dni zwłoki'!$E$6 -> 422 | G115: ='liczba dni zwłoki'!$F$6 -> 132 | H115: =ROUND(((E115*0.1*F115)/365)+((E115*0.08*G115)/365),0) -> 29 | I115: ='liczba dni zwłoki'!$H$6 -> 290 | J115: ='liczba dni zwłoki'!$I$6 -> 130 | K115: =ROUND((((E115*0.1*I115)/365)+((E115*0.08*J115)/365)),0) -> 22 | L115: =(E115+K115)/E115 -> 1.1078431 | M115: =E115/L115 -> 184.14159 | N115: =E115-M115 -> 19.858407 | O115: =M115+N115 -> 204 | P115: =O115 -> 204 | S115: 12 | T115: czerwiec 2014 | U115: 40 | V115: 0 | W115: 0 | X115: 0 | Y115: =U115*6+V115*5+W115*10+X115*9 -> 240 | Z115: ='liczba dni zwłoki'!$E$16 -> 120 | AA115: ='liczba dni zwłoki'!$F$16 -> 132 | AB115: =ROUND((((Y115*0.1*Z115)/365)+((Y115*0.08*AA115)/365)),0) -> 15 | AC115: ='liczba dni zwłoki'!$H$16 -> 77 | AD115: ='liczba dni zwłoki'!$I$16 -> 130 | AE115: =ROUND((((Y115*0.1*AC115)/365)+((Y115*0.08*AD115)/365)),0) -> 12
A116: 3 | B116: wrzesień 2013 | C116: 39 | D116: 1 | E116: =C116*5+D116*9 -> 204 | F116: ='liczba dni zwłoki'!$E$7 -> 393 | G116: ='liczba dni zwłoki'!$F$7 -> 132 | H116: =ROUND(((E116*0.1*F116)/365)+((E116*0.08*G116)/365),0) -> 28 | I116: ='liczba dni zwłoki'!$H$7 -> 261 | J116: ='liczba dni zwłoki'!$I$7 -> 130 | K116: =ROUND((((E116*0.1*I116)/365)+((E116*0.08*J116)/365)),0) -> 20 | L116: =(E116+K116)/E116 -> 1.0980392 | M116: =E116/L116 -> 185.78571 | N116: =E116-M116 -> 18.214286 | O116: =M116+N116 -> 204 | P116: =O116 -> 204 | S116: 13 | T116: lipiec 2014 | U116: 40 | V116: 0 | W116: 0 | X116: 0 | Y116: =U116*6+V116*5+W116*10+X116*9 -> 240 | Z116: ='liczba dni zwłoki'!$E$17 -> 90 | AA116: ='liczba dni zwłoki'!$F$17 -> 132 | AB116: =ROUND((((Y116*0.1*Z116)/365)+((Y116*0.08*AA116)/365)),0) -> 13 | AC116: ='liczba dni zwłoki'!$H$17 -> 47 | AD116: ='liczba dni zwłoki'!$I$17 -> 130 | AE116: =ROUND((((Y116*0.1*AC116)/365)+((Y116*0.08*AD116)/365)),0) -> 10
A117: 4 | B117: październik 2013 | C117: 39 | D117: 1 | E117: =C117*5+D117*9 -> 204 | F117: ='liczba dni zwłoki'!$E$8 -> 363 | G117: ='liczba dni zwłoki'!$F$8 -> 132 | H117: =ROUND(((E117*0.1*F117)/365)+((E117*0.08*G117)/365),0) -> 26 | I117: ='liczba dni zwłoki'!$H$8 -> 231 | J117: ='liczba dni zwłoki'!$I$8 -> 130 | K117: =ROUND((((E117*0.1*I117)/365)+((E117*0.08*J117)/365)),0) -> 19 | L117: =(E117+K117)/E117 -> 1.0931373 | M117: =E117/L117 -> 186.61883 | N117: =E117-M117 -> 17.381166 | O117: =M117+N117 -> 204 | P117: =O117 -> 204 | S117: 14 | T117: sierpień 2014 | U117: 40 | V117: 0 | W117: 0 | X117: 0 | Y117: =U117*6+V117*5+W117*10+X117*9 -> 240 | Z117: ='liczba dni zwłoki'!$E$18 -> 58 | AA117: ='liczba dni zwłoki'!$F$18 -> 132 | AB117: =ROUND((((Y117*0.1*Z117)/365)+((Y117*0.08*AA117)/365)),0) -> 11 | AC117: ='liczba dni zwłoki'!$H$18 -> 15 | AD117: ='liczba dni zwłoki'!$I$18 -> 130 | AE117: =ROUND((((Y117*0.1*AC117)/365)+((Y117*0.08*AD117)/365)),0) -> 8
A118: 5 | B118: listopad 2013 | C118: 39 | D118: 1 | E118: =C118*5+D118*9 -> 204 | F118: ='liczba dni zwłoki'!$E$9 -> 330 | G118: ='liczba dni zwłoki'!$F$9 -> 132 | H118: =ROUND(((E118*0.1*F118)/365)+((E118*0.08*G118)/365),0) -> 24 | I118: ='liczba dni zwłoki'!$H$9 -> 198 | J118: ='liczba dni zwłoki'!$I$9 -> 130 | K118: =ROUND((((E118*0.1*I118)/365)+((E118*0.08*J118)/365)),0) -> 17 | L118: =(E118+K118)/E118 -> 1.0833333 | M118: =E118/L118 -> 188.30769 | N118: =E118-M118 -> 15.692308 | O118: =M118+N118 -> 204 | P118: =O118 -> 204 | S118: 15 | T118: wrzesień 2014 | U118: 40 | V118: 0 | W118: 0 | X118: 0 | Y118: =U118*6+V118*5+W118*10+X118*9 -> 240 | Z118: ='liczba dni zwłoki'!$E$19 -> 28 | AA118: ='liczba dni zwłoki'!$F$19 -> 132 | AB118: =ROUND((((Y118*0.1*Z118)/365)+((Y118*0.08*AA118)/365)),0) -> 9 | AC118: ='liczba dni zwłoki'!$H$19 -> 0 | AD118: ='liczba dni zwłoki'!$I$19 -> 130 | AE118: 0
A119: 6 | B119: grudzień 2013 | C119: 39 | D119: 1 | E119: =C119*5+D119*9 -> 204 | F119: ='liczba dni zwłoki'!$E$10 -> 302 | G119: ='liczba dni zwłoki'!$F$10 -> 132 | H119: =ROUND(((E119*0.1*F119)/365)+((E119*0.08*G119)/365),0) -> 23 | I119: ='liczba dni zwłoki'!$H$10 -> 170 | J119: ='liczba dni zwłoki'!$I$10 -> 130 | K119: =ROUND((((E119*0.1*I119)/365)+((E119*0.08*J119)/365)),0) -> 15 | L119: =(E119+K119)/E119 -> 1.0735294 | M119: =E119/L119 -> 190.0274 | N119: =E119-M119 -> 13.972603 | O119: =M119+N119 -> 204 | P119: =O119 -> 204 | S119: 16 | T119: październik 2014 | U119: 40 | V119: 0 | W119: 0 | X119: 0 | Y119: =U119*6+V119*5+W119*10+X119*9 -> 240 | Z119: ='liczba dni zwłoki'!$E$20 -> 0 | AA119: ='liczba dni zwłoki'!$F$20 -> 130 | AB119: 0 | AC119: ='liczba dni zwłoki'!$H$20 -> 0 | AD119: ='liczba dni zwłoki'!$I$20 -> 129 | AE119: 0
A120: 7 | B120: styczeń 2014 | C120: 39 | D120: 1 | E120: =C120*5+D120*9 -> 204 | F120: ='liczba dni zwłoki'!$E$11 -> 271 | G120: ='liczba dni zwłoki'!$F$11 -> 132 | H120: =ROUND(((E120*0.1*F120)/365)+((E120*0.08*G120)/365),0) -> 21 | I120: ='liczba dni zwłoki'!$H$11 -> 144 | J120: ='liczba dni zwłoki'!$I$11 -> 130 | K120: =ROUND((((E120*0.1*I120)/365)+((E120*0.08*J120)/365)),0) -> 14 | L120: =(E120+K120)/E120 -> 1.0686275 | M120: =E120/L120 -> 190.89908 | N120: =E120-M120 -> 13.100917 | O120: =M120+N120 -> 204 | P120: =O120 -> 204 | S120: 17 | T120: listopad 2014 | U120: 40 | V120: 0 | W120: 0 | X120: 0 | Y120: =U120*6+V120*5+W120*10+X120*9 -> 240 | Z120: ='liczba dni zwłoki'!$E$21 -> 0 | AA120: ='liczba dni zwłoki'!$F$21 -> 99 | AB120: 0 | AC120: ='liczba dni zwłoki'!$H$21 -> 0 | AD120: ='liczba dni zwłoki'!$I$21 -> 99 | AE120: 0
A121: 8 | B121: luty 2014 | C121: 39 | D121: 1 | E121: =C121*5+D121*9 -> 204 | F121: ='liczba dni zwłoki'!$E$12 -> 240 | G121: ='liczba dni zwłoki'!$F$12 -> 132 | H121: =ROUND(((E121*0.1*F121)/365)+((E121*0.08*G121)/365),0) -> 19 | I121: ='liczba dni zwłoki'!$H$12 -> 144 | J121: ='liczba dni zwłoki'!$I$12 -> 130 | K121: =ROUND((((E121*0.1*I121)/365)+((E121*0.08*J121)/365)),0) -> 14 | L121: =(E121+K121)/E121 -> 1.0686275 | M121: =E121/L121 -> 190.89908 | N121: =E121-M121 -> 13.100917 | O121: =M121+N121 -> 204 | P121: =O121 -> 204 | S121: 18 | T121: grudzień 2014 | U121: 40 | V121: 0 | W121: 0 | X121: 0 | Y121: =U121*6+V121*5+W121*10+X121*9 -> 240 | Z121: ='liczba dni zwłoki'!$E$22 -> 0 | AA121: ='liczba dni zwłoki'!$F$22 -> 69 | AB121: 0 | AC121: ='liczba dni zwłoki'!$H$22 -> 0 | AD121: ='liczba dni zwłoki'!$I$22 -> 69 | AE121: 0
A122: 9 | B122: marzec 2014 | C122: 40 | D122: 0 | E122: =C122*5+D122*9 -> 200 | F122: ='liczba dni zwłoki'!$E$13 -> 212 | G122: ='liczba dni zwłoki'!$F$13 -> 132 | H122: =ROUND(((E122*0.1*F122)/365)+((E122*0.08*G122)/365),0) -> 17 | I122: ='liczba dni zwłoki'!$H$13 -> 144 | J122: ='liczba dni zwłoki'!$I$13 -> 130 | K122: =ROUND((((E122*0.1*I122)/365)+((E122*0.08*J122)/365)),0) -> 14 | L122: =(E122+K122)/E122 -> 1.07 | M122: =E122/L122 -> 186.91589 | N122: =E122-M122 -> 13.084112 | O122: =M122+N122 -> 200 | P122: =O122 -> 200 | S122: 19 | T122: styczeń 2015 | U122: 40 | V122: 0 | W122: 0 | X122: 0 | Y122: =U122*6+V122*5+W122*10+X122*9 -> 240 | Z122: ='liczba dni zwłoki'!$E$23 -> 0 | AA122: ='liczba dni zwłoki'!$F$23 -> 36 | AB122: 0 | AC122: ='liczba dni zwłoki'!$H$23 -> 0 | AD122: ='liczba dni zwłoki'!$I$23 -> 36 | AE122: 0
A123: 10 | B123: kwicień 2014 | C123: 40 | D123: 0 | E123: =C123*5+D123*9 -> 200 | F123: ='liczba dni zwłoki'!$E$14 -> 181 | G123: ='liczba dni zwłoki'!$F$14 -> 132 | H123: =ROUND(((E123*0.1*F123)/365)+((E123*0.08*G123)/365),0) -> 16 | I123: ='liczba dni zwłoki'!$H$14 -> 138 | J123: ='liczba dni zwłoki'!$I$14 -> 130 | K123: =ROUND((((E123*0.1*I123)/365)+((E123*0.08*J123)/365)),0) -> 13 | L123: =(E123+K123)/E123 -> 1.065 | M123: =E123/L123 -> 187.79343 | N123: =E123-M123 -> 12.206573 | O123: =M123+N123 -> 200 | P123: =O123-Q123 -> 41.915027 | Q123: =N124 -> 158.08497 | X123: suma | Y123: =SUM(Y114:Y122) -> 2160 | AB123: =SUM(AB114:AB122) -> 65 | AE123: =SUM(AE114:AE122) -> 44
D124: Suma | E124: =SUM(E114:E123) -> 2032 | H124: =SUM(H114:H123) -> 234 | K124: =SUM(K114:K123) -> 172 | M124: =SUM(M114:M123) -> 1873.915 | N124: =E124-M124 -> 158.08497 | O124: =M124+N124 -> 2032 | P124: =SUM(P114:P123) -> 1873.915 | Q124: =SUM(Q114:Q123) -> 158.08497
A130: ul. Cicha 15 | S130: ul. Cicha 15
F132: Odsetki za zwłokę - przed decyzją o wyłączeniu | I132: Odsetki za zwłokę po wyłączeniu | Z132: Odsetki za zwłokę - przed decyzją o wyłączeniu | AC132: Odsetki za zwłokę po wyłączeniu
A133: Lp | B133: Miesiąc | C133: Ilość osób wg. poszczególnych stawek opłat | E133: Miesięczna opłata za gospodarowanie odpadami na nieruchomości | F133: Liczba dni zwłoki | H133: Kwota odsetek | I133: Liczba dni zwłoki po wyłączeniu | K133: Kwota odsetek po wyłączeniu | L133: Proporcjonalne rozliczenie odsetek i należności głównej | M133: Należność główna | N133: Odsetki | O133: SUMA | P133: Księgowanie należności głównej | Q133: Księgowanie odsetek | S133: Lp | T133: Miesiąc | U133: Ilość osób wg. poszczególnych stawek opłat | Y133: Miesięczna opłata za gospodarowanie odpadami na nieruchomości | Z133: Liczba dni zwłoki | AB133: Kwota odsetek | AC133: Liczba dni zwłoki po wyłączeniu | AE133: Kwota odsetek po wyłączeniu
C134: stawka 5 zł | D134: stawka 9 zł | F134: stawka 10% | G134: stawka 8% | I134: stawka 10% | J134: stawka 8% | U134: stawka 6 zł | V134: stawka 5 zł | W134: stawka 10 zł | X134: stawka 9 zł | Z134: stawka 10% | AA134: stawka 8% | AC134: stawka 10% | AD134: stawka 8%
A135: 1 | B135: lipiec 2013 | C135: 82 | D135: 24 | E135: =C135*5+D135*9 -> 626 | F135: ='liczba dni zwłoki'!$E$5 -> 455 | G135: ='liczba dni zwłoki'!$F$5 -> 132 | H135: =ROUND(((E135*0.1*F135)/365)+((E135*0.08*G135)/365),0) -> 96 | I135: ='liczba dni zwłoki'!$H$5 -> 323 | J135: ='liczba dni zwłoki'!$I$5 -> 130 | K135: =ROUND((((E135*0.1*I135)/365)+((E135*0.08*J135)/365)),0) -> 73 | L135: =(E135+K135)/E135 -> 1.1166134 | M135: =E135/L135 -> 560.62375 | N135: =E135-M135 -> 65.376252 | O135: =M135+N135 -> 626 | P135: =O135 -> 626 | S135: 11 | T135: maj 2014 | U135: 81 | V135: 0 | W135: 21 | X135: 0 | Y135: =U135*6+V135*5+W135*10+X135*9 -> 696 | Z135: ='liczba dni zwłoki'!$E$15 -> 149 | AA135: ='liczba dni zwłoki'!$F$15 -> 132 | AB135: =ROUND((((Y135*0.1*Z135)/365)+((Y135*0.08*AA135)/365)),0) -> 49 | AC135: ='liczba dni zwłoki'!$H$15 -> 106 | AD135: ='liczba dni zwłoki'!$I$15 -> 130 | AE135: =ROUND((((Y135*0.1*AC135)/365)+((Y135*0.08*AD135)/365)),0) -> 40
A136: 2 | B136: sierpień 2013 | C136: 82 | D136: 24 | E136: =+C136*5+D136*9 -> 626 | F136: ='liczba dni zwłoki'!$E$6 -> 422 | G136: ='liczba dni zwłoki'!$F$6 -> 132 | H136: =ROUND(((E136*0.1*F136)/365)+((E136*0.08*G136)/365),0) -> 90 | I136: ='liczba dni zwłoki'!$H$6 -> 290 | J136: ='liczba dni zwłoki'!$I$6 -> 130 | K136: =ROUND((((E136*0.1*I136)/365)+((E136*0.08*J136)/365)),0) -> 68 | L136: =(E136+K136)/E136 -> 1.1086262 | M136: =E136/L136 -> 564.66282 | N136: =E136-M136 -> 61.337176 | O136: =M136+N136 -> 626 | P136: =O136 -> 626 | S136: 12 | T136: czerwiec 2014 | U136: 82 | V136: 0 | W136: 21 | X136: 0 | Y136: =U136*6+V136*5+W136*10+X136*9 -> 702 | Z136: ='liczba dni zwłoki'!$E$16 -> 120 | AA136: ='liczba dni zwłoki'!$F$16 -> 132 | AB136: =ROUND((((Y136*0.1*Z136)/365)+((Y136*0.08*AA136)/365)),0) -> 43 | AC136: ='liczba dni zwłoki'!$H$16 -> 77 | AD136: ='liczba dni zwłoki'!$I$16 -> 130 | AE136: =ROUND((((Y136*0.1*AC136)/365)+((Y136*0.08*AD136)/365)),0) -> 35
A137: 3 | B137: wrzesień 2013 | C137: 82 | D137: 24 | E137: =C137*5+D137*9 -> 626 | F137: ='liczba dni zwłoki'!$E$7 -> 393 | G137: ='liczba dni zwłoki'!$F$7 -> 132 | H137: =ROUND(((E137*0.1*F137)/365)+((E137*0.08*G137)/365),0) -> 86 | I137: ='liczba dni zwłoki'!$H$7 -> 261 | J137: ='liczba dni zwłoki'!$I$7 -> 130 | K137: =ROUND((((E137*0.1*I137)/365)+((E137*0.08*J137)/365)),0) -> 63 | L137: =(E137+K137)/E137 -> 1.100639 | M137: =E137/L137 -> 568.76052 | N137: =E137-M137 -> 57.239478 | O137: =M137+N137 -> 626 | P137: =O137 -> 626 | S137: 13 | T137: lipiec 2014 | U137: 84 | V137: 0 | W137: 19 | X137: 0 | Y137: =U137*6+V137*5+W137*10+X137*9 -> 694 | Z137: ='liczba dni zwłoki'!$E$17 -> 90 | AA137: ='liczba dni zwłoki'!$F$17 -> 132 | AB137: =ROUND((((Y137*0.1*Z137)/365)+((Y137*0.08*AA137)/365)),0) -> 37 | AC137: ='liczba dni zwłoki'!$H$17 -> 47 | AD137: ='liczba dni zwłoki'!$I$17 -> 130 | AE137: =ROUND((((Y137*0.1*AC137)/365)+((Y137*0.08*AD137)/365)),0) -> 29
A138: 4 | B138: październik 2013 | C138: 82 | D138: 24 | E138: =C138*5+D138*9 -> 626 | F138: ='liczba dni zwłoki'!$E$8 -> 363 | G138: ='liczba dni zwłoki'!$F$8 -> 132 | H138: =ROUND(((E138*0.1*F138)/365)+((E138*0.08*G138)/365),0) -> 80 | I138: ='liczba dni zwłoki'!$H$8 -> 231 | J138: ='liczba dni zwłoki'!$I$8 -> 130 | K138: =ROUND((((E138*0.1*I138)/365)+((E138*0.08*J138)/365)),0) -> 57 | L138: =(E138+K138)/E138 -> 1.0910543 | M138: =E138/L138 -> 573.75695 | N138: =E138-M138 -> 52.243045 | O138: =M138+N138 -> 626 | P138: =O138 -> 626 | S138: 14 | T138: sierpień 2014 | U138: 84 | V138: 0 | W138: 15 | X138: 0 | Y138: =U138*6+V138*5+W138*10+X138*9 -> 654 | Z138: ='liczba dni zwłoki'!$E$18 -> 58 | AA138: ='liczba dni zwłoki'!$F$18 -> 132 | AB138: =ROUND((((Y138*0.1*Z138)/365)+((Y138*0.08*AA138)/365)),0) -> 29 | AC138: ='liczba dni zwłoki'!$H$18 -> 15 | AD138: ='liczba dni zwłoki'!$I$18 -> 130 | AE138: =ROUND((((Y138*0.1*AC138)/365)+((Y138*0.08*AD138)/365)),0) -> 21
A139: 5 | B139: listopad 2013 | C139: 85 | D139: 21 | E139: =C139*5+D139*9 -> 614 | F139: ='liczba dni zwłoki'!$E$9 -> 330 | G139: ='liczba dni zwłoki'!$F$9 -> 132 | H139: =ROUND(((E139*0.1*F139)/365)+((E139*0.08*G139)/365),0) -> 73 | I139: ='liczba dni zwłoki'!$H$9 -> 198 | J139: ='liczba dni zwłoki'!$I$9 -> 130 | K139: =ROUND((((E139*0.1*I139)/365)+((E139*0.08*J139)/365)),0) -> 51 | L139: =(E139+K139)/E139 -> 1.0830619 | M139: =E139/L139 -> 566.91128 | N139: =E139-M139 -> 47.088722 | O139: =M139+N139 -> 614 | P139: =O139 -> 614 | S139: 15 | T139: wrzesień 2014 | U139: 87 | V139: 0 | W139: 13 | X139: 0 | Y139: =U139*6+V139*5+W139*10+X139*9 -> 652 | Z139: ='liczba dni zwłoki'!$E$19 -> 28 | AA139: ='liczba dni zwłoki'!$F$19 -> 132 | AB139: =ROUND((((Y139*0.1*Z139)/365)+((Y139*0.08*AA139)/365)),0) -> 24 | AC139: ='liczba dni zwłoki'!$H$19 -> 0 | AD139: ='liczba dni zwłoki'!$I$19 -> 130 | AE139: =ROUND((((Y139*0.1*AC139)/365)+((Y139*0.08*AD139)/365)),0) -> 19
A140: 6 | B140: grudzień 2013 | C140: 85 | D140: 21 | E140: =C140*5+D140*9 -> 614 | F140: ='liczba dni zwłoki'!$E$10 -> 302 | G140: ='liczba dni zwłoki'!$F$10 -> 132 | H140: =ROUND(((E140*0.1*F140)/365)+((E140*0.08*G140)/365),0) -> 69 | I140: ='liczba dni zwłoki'!$H$10 -> 170 | J140: ='liczba dni zwłoki'!$I$10 -> 130 | K140: =ROUND((((E140*0.1*I140)/365)+((E140*0.08*J140)/365)),0) -> 46 | L140: =(E140+K140)/E140 -> 1.0749186 | M140: =E140/L140 -> 571.20606 | N140: =E140-M140 -> 42.793939 | O140: =M140+N140 -> 614 | P140: =O140 -> 614 | S140: 16 | T140: październik 2014 | U140: 87 | V140: 0 | W140: 13 | X140: 0 | Y140: =U140*6+V140*5+W140*10+X140*9 -> 652 | Z140: ='liczba dni zwłoki'!$E$20 -> 0 | AA140: ='liczba dni zwłoki'!$F$20 -> 130 | AB140: =ROUND((((Y140*0.1*Z140)/365)+((Y140*0.08*AA140)/365)),0) -> 19 | AC140: ='liczba dni zwłoki'!$H$20 -> 0 | AD140: ='liczba dni zwłoki'!$I$20 -> 129 | AE140: =ROUND((((Y140*0.1*AC140)/365)+((Y140*0.08*AD140)/365)),0) -> 18
...

Sheet Zielona
A2: ul. Zielona 9 | S2: ul. Zielona 9
F4: Odsetki za zwłokę - przed decyzją o wyłączeniu | I4: Odsetki za zwłokę po wyłączeniu | Z4: Odsetki za zwłokę - przed decyzją o wyłączeniu | AC4: Odsetki za zwłokę po wyłączeniu
A5: Lp | B5: Miesiąc | C5: Ilość osób wg. poszczególnych stawek opłat | E5: Miesięczna opłata za gospodarowanie odpadami na nieruchomości | F5: Liczba dni zwłoki | H5: Kwota odsetek | I5: Liczba dni zwłoki po wyłączeniu | K5: Kwota odsetek po wyłączeniu | L5: Proporcjonalne rozliczenie odsetek i należności głównej | M5: Należność główna | N5: Odsetki | O5: SUMA | P5: Księgowanie należności głównej | Q5: Księgowanie odsetek | S5: Lp | T5: Miesiąc | U5: Ilość osób wg. poszczególnych stawek opłat | Y5: Miesięczna opłata za gospodarowanie odpadami na nieruchomości | Z5: Liczba dni zwłoki | AB5: Kwota odsetek | AC5: Liczba dni zwłoki po wyłączeniu | AE5: Kwota odsetek po wyłączeniu
C6: stawka 5 zł | D6: stawka 9 zł | F6: stawka 10% | G6: stawka 8% | I6: stawka 10% | J6: stawka 8% | U6: stawka 6 zł | V6: stawka 5 zł | W6: stawka 10 zł | X6: stawka 9 zł | Z6: stawka 10% | AA6: stawka 8% | AC6: stawka 10% | AD6: stawka 8%
A7: 1 | B7: lipiec 2013 | C7: 9 | D7: 1 | E7: =C7*5+D7*9 -> 54 | F7: ='liczba dni zwłoki'!$E$5 -> 455 | G7: ='liczba dni zwłoki'!$F$5 -> 132 | H7: =ROUND(((E7*0.1*F7)/365)+((E7*0.08*G7)/365),0) -> 8 | I7: ='liczba dni zwłoki'!$H$5 -> 323 | J7: ='liczba dni zwłoki'!$I$5 -> 130 | K7: 0 | L7: =(E7+K7)/E7 -> 1 | M7: =E7/L7 -> 54 | N7: =E7-M7 -> 0 | O7: =M7+N7 -> 54 | P7: =O7 -> 54 | S7: 11 | T7: maj 2014 | U7: 10 | V7: 0 | W7: 0 | X7: 0 | Y7: =U7*6+V7*5+W7*10+X7*9 -> 60 | Z7: ='liczba dni zwłoki'!$E$15 -> 149 | AA7: ='liczba dni zwłoki'!$F$15 -> 132 | AB7: 0 | AC7: ='liczba dni zwłoki'!$H$15 -> 106 | AD7: ='liczba dni zwłoki'!$I$15 -> 130 | AE7: 0
A8: 2 | B8: sierpień 2013 | C8: 10 | D8: 0 | E8: =+C8*5+D8*9 -> 50 | F8: ='liczba dni zwłoki'!$E$6 -> 422 | G8: ='liczba dni zwłoki'!$F$6 -> 132 | H8: 0 | I8: ='liczba dni zwłoki'!$H$6 -> 290 | J8: ='liczba dni zwłoki'!$I$6 -> 130 | K8: 0 | L8: =(E8+K8)/E8 -> 1 | M8: =E8/L8 -> 50 | N8: =E8-M8 -> 0 | O8: =M8+N8 -> 50 | P8: =O8 -> 50 | S8: 12 | T8: czerwiec 2014 | U8: 10 | V8: 0 | W8: 0 | X8: 0 | Y8: =U8*6+V8*5+W8*10+X8*9 -> 60 | Z8: ='liczba dni zwłoki'!$E$16 -> 120 | AA8: ='liczba dni zwłoki'!$F$16 -> 132 | AB8: 0 | AC8: ='liczba dni zwłoki'!$H$16 -> 77 | AD8: ='liczba dni zwłoki'!$I$16 -> 130 | AE8: 0
A9: 3 | B9: wrzesień 2013 | C9: 10 | D9: 0 | E9: =C9*5+D9*9 -> 50 | F9: ='liczba dni zwłoki'!$E$7 -> 393 | G9: ='liczba dni zwłoki'!$F$7 -> 132 | H9: 0 | I9: ='liczba dni zwłoki'!$H$7 -> 261 | J9: ='liczba dni zwłoki'!$I$7 -> 130 | K9: 0 | L9: =(E9+K9)/E9 -> 1 | M9: =E9/L9 -> 50 | N9: =E9-M9 -> 0 | O9: =M9+N9 -> 50 | P9: =O9 -> 50 | S9: 13 | T9: lipiec 2014 | U9: 10 | V9: 0 | W9: 0 | X9: 0 | Y9: =U9*6+V9*5+W9*10+X9*9 -> 60 | Z9: ='liczba dni zwłoki'!$E$17 -> 90 | AA9: ='liczba dni zwłoki'!$F$17 -> 132 | AB9: 0 | AC9: ='liczba dni zwłoki'!$H$17 -> 47 | AD9: ='liczba dni zwłoki'!$I$17 -> 130 | AE9: 0
A10: 4 | B10: październik 2013 | C10: 10 | D10: 0 | E10: =C10*5+D10*9 -> 50 | F10: ='liczba dni zwłoki'!$E$8 -> 363 | G10: ='liczba dni zwłoki'!$F$8 -> 132 | H10: 0 | I10: ='liczba dni zwłoki'!$H$8 -> 231 | J10: ='liczba dni zwłoki'!$I$8 -> 130 | K10: 0 | L10: =(E10+K10)/E10 -> 1 | M10: =E10/L10 -> 50 | N10: =E10-M10 -> 0 | O10: =M10+N10 -> 50 | P10: =O10 -> 50 | S10: 14 | T10: sierpień 2014 | U10: 10 | V10: 0 | W10: 0 | X10: 0 | Y10: =U10*6+V10*5+W10*10+X10*9 -> 60 | Z10: ='liczba dni zwłoki'!$E$18 -> 58 | AA10: ='liczba dni zwłoki'!$F$18 -> 132 | AB10: 0 | AC10: ='liczba dni zwłoki'!$H$18 -> 15 | AD10: ='liczba dni zwłoki'!$I$18 -> 130 | AE10: 0
A11: 5 | B11: listopad 2013 | C11: 10 | D11: 0 | E11: =C11*5+D11*9 -> 50 | F11: ='liczba dni zwłoki'!$E$9 -> 330 | G11: ='liczba dni zwłoki'!$F$9 -> 132 | H11: 0 | I11: ='liczba dni zwłoki'!$H$9 -> 198 | J11: ='liczba dni zwłoki'!$I$9 -> 130 | K11: 0 | L11: =(E11+K11)/E11 -> 1 | M11: =E11/L11 -> 50 | N11: =E11-M11 -> 0 | O11: =M11+N11 -> 50 | P11: =O11 -> 50 | S11: 15 | T11: wrzesień 2014 | U11: 10 | V11: 0 | W11: 0 | X11: 0 | Y11: =U11*6+V11*5+W11*10+X11*9 -> 60 | Z11: ='liczba dni zwłoki'!$E$19 -> 28 | AA11: ='liczba dni zwłoki'!$F$19 -> 132 | AB11: 0 | AC11: ='liczba dni zwłoki'!$H$19 -> 0 | AD11: ='liczba dni zwłoki'!$I$19 -> 130 | AE11: 0
A12: 6 | B12: grudzień 2013 | C12: 10 | D12: 0 | E12: =C12*5+D12*9 -> 50 | F12: ='liczba dni zwłoki'!$E$10 -> 302 | G12: ='liczba dni zwłoki'!$F$10 -> 132 | H12: 0 | I12: ='liczba dni zwłoki'!$H$10 -> 170 | J12: ='liczba dni zwłoki'!$I$10 -> 130 | K12: 0 | L12: =(E12+K12)/E12 -> 1 | M12: =E12/L12 -> 50 | N12: =E12-M12 -> 0 | O12: =M12+N12 -> 50 | P12: =O12 -> 50 | S12: 16 | T12: październik 2014 | U12: 10 | V12: 0 | W12: 0 | X12: 0 | Y12: =U12*6+V12*5+W12*10+X12*9 -> 60 | Z12: ='liczba dni zwłoki'!$E$20 -> 0 | AA12: ='liczba dni zwłoki'!$F$20 -> 130 | AB12: 0 | AC12: ='liczba dni zwłoki'!$H$20 -> 0 | AD12: ='liczba dni zwłoki'!$I$20 -> 129 | AE12: 0
A13: 7 | B13: styczeń 2014 | C13: 10 | D13: 0 | E13: =C13*5+D13*9 -> 50 | F13: ='liczba dni zwłoki'!$E$11 -> 271 | G13: ='liczba dni zwłoki'!$F$11 -> 132 | H13: 0 | I13: ='liczba dni zwłoki'!$H$11 -> 144 | J13: ='liczba dni zwłoki'!$I$11 -> 130 | K13: 0 | L13: =(E13+K13)/E13 -> 1 | M13: =E13/L13 -> 50 | N13: =E13-M13 -> 0 | O13: =M13+N13 -> 50 | P13: =O13 -> 50 | S13: 17 | T13: listopad 2014 | U13: 10 | V13: 0 | W13: 0 | X13: 0 | Y13: =U13*6+V13*5+W13*10+X13*9 -> 60 | Z13: ='liczba dni zwłoki'!$E$21 -> 0 | AA13: ='liczba dni zwłoki'!$F$21 -> 99 | AB13: 0 | AC13: ='liczba dni zwłoki'!$H$21 -> 0 | AD13: ='liczba dni zwłoki'!$I$21 -> 99 | AE13: 0
A14: 8 | B14: luty 2014 | C14: 10 | D14: 0 | E14: =C14*5+D14*9 -> 50 | F14: ='liczba dni zwłoki'!$E$12 -> 240 | G14: ='liczba dni zwłoki'!$F$12 -> 132 | H14: 0 | I14: ='liczba dni zwłoki'!$H$12 -> 144 | J14: ='liczba dni zwłoki'!$I$12 -> 130 | K14: 0 | L14: =(E14+K14)/E14 -> 1 | M14: =E14/L14 -> 50 | N14: =E14-M14 -> 0 | O14: =M14+N14 -> 50 | P14: =O14 -> 50 | S14: 18 | T14: grudzień 2014 | U14: 10 | V14: 0 | W14: 0 | X14: 0 | Y14: =U14*6+V14*5+W14*10+X14*9 -> 60 | Z14: ='liczba dni zwłoki'!$E$22 -> 0 | AA14: ='liczba dni zwłoki'!$F$22 -> 69 | AB14: 0 | AC14: ='liczba dni zwłoki'!$H$22 -> 0 | AD14: ='liczba dni zwłoki'!$I$22 -> 69 | AE14: 0
A15: 9 | B15: marzec 2014 | C15: 10 | D15: 0 | E15: =C15*5+D15*9 -> 50 | F15: ='liczba dni zwłoki'!$E$13 -> 212 | G15: ='liczba dni zwłoki'!$F$13 -> 132 | H15: 0 | I15: ='liczba dni zwłoki'!$H$13 -> 144 | J15: ='liczba dni zwłoki'!$I$13 -> 130 | K15: 0 | L15: =(E15+K15)/E15 -> 1 | M15: =E15/L15 -> 50 | N15: =E15-M15 -> 0 | O15: =M15+N15 -> 50 | P15: =O15 -> 50 | S15: 19 | T15: styczeń 2015 | U15: 10 | V15: 0 | W15: 0 | X15: 0 | Y15: =U15*6+V15*5+W15*10+X15*9 -> 60 | Z15: ='liczba dni zwłoki'!$E$23 -> 0 | AA15: ='liczba dni zwłoki'!$F$23 -> 36 | AB15: =ROUND((((Y15*0.1*Z15)/365)+((Y15*0.08*AA15)/365)),0) -> 0 | AC15: ='liczba dni zwłoki'!$H$23 -> 0 | AD15: ='liczba dni zwłoki'!$I$23 -> 36 | AE15: =ROUND((((Y15*0.1*AC15)/365)+((Y15*0.08*AD15)/365)),0) -> 0
A16: 10 | B16: kwicień 2014 | C16: 10 | D16: 0 | E16: =C16*5+D16*9 -> 50 | F16: ='liczba dni zwłoki'!$E$14 -> 181 | G16: ='liczba dni zwłoki'!$F$14 -> 132 | H16: 0 | I16: ='liczba dni zwłoki'!$H$14 -> 138 | J16: ='liczba dni zwłoki'!$I$14 -> 130 | K16: 0 | L16: =(E16+K16)/E16 -> 1 | M16: =E16/L16 -> 50 | N16: =E16-M16 -> 0 | O16: =M16+N16 -> 50 | P16: =O16-Q16 -> 50 | Q16: =N17 -> 0 | X16: suma | Y16: =SUM(Y7:Y15) -> 540 | AB16: =SUM(AB7:AB15) -> 0 | AE16: =SUM(AE7:AE15) -> 0
D17: suma | E17: =SUM(E7:E16) -> 504 | H17: =SUM(H7:H16) -> 8 | K17: =SUM(K7:K16) -> 0 | M17: =SUM(M7:M16) -> 504 | N17: =E17-M17 -> 0 | O17: =M17+N17 -> 504 | P17: =SUM(P7:P16) -> 504 | Q17: =SUM(Q7:Q16) -> 0

Sheet Mickiewicza
A2: ul. Mickiewicza 8A | S2: ul. Mickiewicza 8A
F4: Odsetki za zwłokę - przed decyzją o wyłączeniu | I4: Odsetki za zwłokę po wyłączeniu | Z4: Odsetki za zwłokę - przed decyzją o wyłączeniu | AC4: Odsetki za zwłokę po wyłączeniu
A5: Lp | B5: Miesiąc | C5: Ilość osób wg. poszczególnych stawek opłat | E5: Miesięczna opłata za gospodarowanie odpadami na nieruchomości | F5: Liczba dni zwłoki | H5: Kwota odsetek | I5: Liczba dni zwłoki po wyłączeniu | K5: Kwota odsetek po wyłączeniu | L5: Proporcjonalne rozliczenie odsetek i należności głównej | M5: Należność główna | N5: Odsetki | O5: SUMA | P5: Księgowanie należności głównej | Q5: Księgowanie odsetek | S5: Lp | T5: Miesiąc | U5: Ilość osób wg. poszczególnych stawek opłat | Y5: Miesięczna opłata za gospodarowanie odpadami na nieruchomości | Z5: Liczba dni zwłoki | AB5: Kwota odsetek | AC5: Liczba dni zwłoki po wyłączeniu | AE5: Kwota odsetek po wyłączeniu
C6: stawka 5 zł | D6: stawka 9 zł | F6: stawka 10% | G6: stawka 8% | I6: stawka 10% | J6: stawka 8% | U6: stawka 6 zł | V6: stawka 5 zł | W6: stawka 10 zł | X6: stawka 9 zł | Z6: stawka 10% | AA6: stawka 8% | AC6: stawka 10% | AD6: stawka 8%
A7: 1 | B7: lipiec 2013 | C7: 70 | D7: 10 | E7: =C7*5+D7*9 -> 440 | F7: ='liczba dni zwłoki'!$E$5 -> 455 | G7: ='liczba dni zwłoki'!$F$5 -> 132 | H7: =ROUND(((E7*0.1*F7)/365)+((E7*0.08*G7)/365),0) -> 68 | I7: ='liczba dni zwłoki'!$H$5 -> 323 | J7: ='liczba dni zwłoki'!$I$5 -> 130 | K7: =ROUND((((E7*0.1*I7)/365)+((E7*0.08*J7)/365)),0) -> 51 | L7: =(E7+K7)/E7 -> 1.1159091 | M7: =E7/L7 -> 394.29735 | N7: =E7-M7 -> 45.702648 | O7: =M7+N7 -> 440 | P7: =O7 -> 440 | S7: 11 | T7: maj 2014 | U7: 71 | V7: 0 | W7: 10 | X7: 0 | Y7: =U7*6+V7*5+W7*10+X7*9 -> 526 | Z7: ='liczba dni zwłoki'!$E$15 -> 149 | AA7: ='liczba dni zwłoki'!$F$15 -> 132 | AB7: =ROUND((((Y7*0.1*Z7)/365)+((Y7*0.08*AA7)/365)),0) -> 37 | AC7: ='liczba dni zwłoki'!$H$15 -> 106 | AD7: ='liczba dni zwłoki'!$I$15 -> 130 | AE7: =ROUND((((Y7*0.1*AC7)/365)+((Y7*0.08*AD7)/365)),0) -> 30
A8: 2 | B8: sierpień 2013 | C8: 71 | D8: 10 | E8: =+C8*5+D8*9 -> 445 | F8: ='liczba dni zwłoki'!$E$6 -> 422 | G8: ='liczba dni zwłoki'!$F$6 -> 132 | H8: =ROUND(((E8*0.1*F8)/365)+((E8*0.08*G8)/365),0) -> 64 | I8: ='liczba dni zwłoki'!$H$6 -> 290 | J8: ='liczba dni zwłoki'!$I$6 -> 130 | K8: =ROUND((((E8*0.1*I8)/365)+((E8*0.08*J8)/365)),0) -> 48 | L8: =(E8+K8)/E8 -> 1.1078652 | M8: =E8/L8 -> 401.67343 | N8: =E8-M8 -> 43.326572 | O8: =M8+N8 -> 445 | P8: =O8 -> 445 | S8: 12 | T8: czerwiec 2014 | U8: 71 | V8: 0 | W8: 10 | X8: 0 | Y8: =U8*6+V8*5+W8*10+X8*9 -> 526 | Z8: ='liczba dni zwłoki'!$E$16 -> 120 | AA8: ='liczba dni zwłoki'!$F$16 -> 132 | AB8: =ROUND((((Y8*0.1*Z8)/365)+((Y8*0.08*AA8)/365)),0) -> 33 | AC8: ='liczba dni zwłoki'!$H$16 -> 77 | AD8: ='liczba dni zwłoki'!$I$16 -> 130 | AE8: =ROUND((((Y8*0.1*AC8)/365)+((Y8*0.08*AD8)/365)),0) -> 26
A9: 3 | B9: wrzesień 2013 | C9: 71 | D9: 10 | E9: =C9*5+D9*9 -> 445 | F9: ='liczba dni zwłoki'!$E$7 -> 393 | G9: ='liczba dni zwłoki'!$F$7 -> 132 | H9: =ROUND(((E9*0.1*F9)/365)+((E9*0.08*G9)/365),0) -> 61 | I9: ='liczba dni zwłoki'!$H$7 -> 261 | J9: ='liczba dni zwłoki'!$I$7 -> 130 | K9: =ROUND((((E9*0.1*I9)/365)+((E9*0.08*J9)/365)),0) -> 45 | L9: =(E9+K9)/E9 -> 1.1011236 | M9: =E9/L9 -> 404.13265 | N9: =E9-M9 -> 40.867347 | O9: =M9+N9 -> 445 | P9: =O9 -> 445 | S9: 13 | T9: lipiec 2014 | U9: 68 | V9: 0 | W9: 10 | X9: 0 | Y9: =U9*6+V9*5+W9*10+X9*9 -> 508 | Z9: ='liczba dni zwłoki'!$E$17 -> 90 | AA9: ='liczba dni zwłoki'!$F$17 -> 132 | AB9: =ROUND((((Y9*0.1*Z9)/365)+((Y9*0.08*AA9)/365)),0) -> 27 | AC9: ='liczba dni zwłoki'!$H$17 -> 47 | AD9: ='liczba dni zwłoki'!$I$17 -> 130 | AE9: =ROUND((((Y9*0.1*AC9)/365)+((Y9*0.08*AD9)/365)),0) -> 21
A10: 4 | B10: październik 2013 | C10: 71 | D10: 10 | E10: =C10*5+D10*9 -> 445 | F10: ='liczba dni zwłoki'!$E$8 -> 363 | G10: ='liczba dni zwłoki'!$F$8 -> 132 | H10: =ROUND(((E10*0.1*F10)/365)+((E10*0.08*G10)/365),0) -> 57 | I10: ='liczba dni zwłoki'!$H$8 -> 231 | J10: ='liczba dni zwłoki'!$I$8 -> 130 | K10: =ROUND((((E10*0.1*I10)/365)+((E10*0.08*J10)/365)),0) -> 41 | L10: =(E10+K10)/E10 -> 1.0921348 | M10: =E10/L10 -> 407.45885 | N10: =E10-M10 -> 37.541152 | O10: =M10+N10 -> 445 | P10: =O10 -> 445 | S10: 14 | T10: sierpień 2014 | U10: 68 | V10: 0 | W10: 10 | X10: 0 | Y10: =U10*6+V10*5+W10*10+X10*9 -> 508 | Z10: ='liczba dni zwłoki'!$E$18 -> 58 | AA10: ='liczba dni zwłoki'!$F$18 -> 132 | AB10: =ROUND((((Y10*0.1*Z10)/365)+((Y10*0.08*AA10)/365)),0) -> 23 | AC10: ='liczba dni zwłoki'!$H$18 -> 15 | AD10: ='liczba dni zwłoki'!$I$18 -> 130 | AE10: =ROUND((((Y10*0.1*AC10)/365)+((Y10*0.08*AD10)/365)),0) -> 17
A11: 5 | B11: listopad 2013 | C11: 71 | D11: 10 | E11: =C11*5+D11*9 -> 445 | F11: ='liczba dni zwłoki'!$E$9 -> 330 | G11: ='liczba dni zwłoki'!$F$9 -> 132 | H11: =ROUND(((E11*0.1*F11)/365)+((E11*0.08*G11)/365),0) -> 53 | I11: ='liczba dni zwłoki'!$H$9 -> 198 | J11: ='liczba dni zwłoki'!$I$9 -> 130 | K11: =ROUND((((E11*0.1*I11)/365)+((E11*0.08*J11)/365)),0) -> 37 | L11: =(E11+K11)/E11 -> 1.0831461 | M11: =E11/L11 -> 410.84025 | N11: =E11-M11 -> 34.159751 | O11: =M11+N11 -> 445 | P11: =O11 -> 445 | S11: 15 | T11: wrzesień 2014 | U11: 68 | V11: 0 | W11: 10 | X11: 0 | Y11: =U11*6+V11*5+W11*10+X11*9 -> 508 | Z11: ='liczba dni zwłoki'!$E$19 -> 28 | AA11: ='liczba dni zwłoki'!$F$19 -> 132 | AB11: =ROUND((((Y11*0.1*Z11)/365)+((Y11*0.08*AA11)/365)),0) -> 19 | AC11: ='liczba dni zwłoki'!$H$19 -> 0 | AD11: ='liczba dni zwłoki'!$I$19 -> 130 | AE11: =ROUND((((Y11*0.1*AC11)/365)+((Y11*0.08*AD11)/365)),0) -> 14
A12: 6 | B12: grudzień 2013 | C12: 71 | D12: 10 | E12: =C12*5+D12*9 -> 445 | F12: ='liczba dni zwłoki'!$E$10 -> 302 | G12: ='liczba dni zwłoki'!$F$10 -> 132 | H12: =ROUND(((E12*0.1*F12)/365)+((E12*0.08*G12)/365),0) -> 50 | I12: ='liczba dni zwłoki'!$H$10 -> 170 | J12: ='liczba dni zwłoki'!$I$10 -> 130 | K12: =ROUND((((E12*0.1*I12)/365)+((E12*0.08*J12)/365)),0) -> 33 | L12: =(E12+K12)/E12 -> 1.0741573 | M12: =E12/L12 -> 414.27824 | N12: =E12-M12 -> 30.721757 | O12: =M12+N12 -> 445 | P12: =O12 -> 445 | S12: 16 | T12: październik 2014 | U12: 68 | V12: 0 | W12: 10 | X12: 0 | Y12: =U12*6+V12*5+W12*10+X12*9 -> 508 | Z12: ='liczba dni zwłoki'!$E$20 -> 0 | AA12: ='liczba dni zwłoki'!$F$20 -> 130 | AB12: =ROUND((((Y12*0.1*Z12)/365)+((Y12*0.08*AA12)/365)),0) -> 14 | AC12: ='liczba dni zwłoki'!$H$20 -> 0 | AD12: ='liczba dni zwłoki'!$I$20 -> 129 | AE12: =ROUND((((Y12*0.1*AC12)/365)+((Y12*0.08*AD12)/365)),0) -> 14
A13: 7 | B13: styczeń 2014 | C13: 71 | D13: 10 | E13: =C13*5+D13*9 -> 445 | F13: ='liczba dni zwłoki'!$E$11 -> 271 | G13: ='liczba dni zwłoki'!$F$11 -> 132 | H13: =ROUND(((E13*0.1*F13)/365)+((E13*0.08*G13)/365),0) -> 46 | I13: ='liczba dni zwłoki'!$H$11 -> 144 | J13: ='liczba dni zwłoki'!$I$11 -> 130 | K13: =ROUND((((E13*0.1*I13)/365)+((E13*0.08*J13)/365)),0) -> 30 | L13: =(E13+K13)/E13 -> 1.0674157 | M13: =E13/L13 -> 416.89474 | N13: =E13-M13 -> 28.105263 | O13: =M13+N13 -> 445 | P13: =O13 -> 445 | S13: 17 | T13: listopad 2014 | U13: 68 | V13: 0 | W13: 10 | X13: 0 | Y13: =U13*6+V13*5+W13*10+X13*9 -> 508 | Z13: ='liczba dni zwłoki'!$E$21 -> 0 | AA13: ='liczba dni zwłoki'!$F$21 -> 99 | AB13: =ROUND((((Y13*0.1*Z13)/365)+((Y13*0.08*AA13)/365)),0) -> 11 | AC13: ='liczba dni zwłoki'!$H$21 -> 0 | AD13: ='liczba dni zwłoki'!$I$21 -> 99 | AE13: =ROUND((((Y13*0.1*AC13)/365)+((Y13*0.08*AD13)/365)),0) -> 11
A14: 8 | B14: luty 2014 | C14: 71 | D14: 10 | E14: =C14*5+D14*9 -> 445 | F14: ='liczba dni zwłoki'!$E$12 -> 240 | G14: ='liczba dni zwłoki'!$F$12 -> 132 | H14: =ROUND(((E14*0.1*F14)/365)+((E14*0.08*G14)/365),0) -> 42 | I14: ='liczba dni zwłoki'!$H$12 -> 144 | J14: ='liczba dni zwłoki'!$I$12 -> 130 | K14: =ROUND((((E14*0.1*I14)/365)+((E14*0.08*J14)/365)),0) -> 30 | L14: =(E14+K14)/E14 -> 1.0674157 | M14: =E14/L14 -> 416.89474 | N14: =E14-M14 -> 28.105263 | O14: =M14+N14 -> 445 | P14: =O14 -> 445 | S14: 18 | T14: grudzień 2014 | U14: 66 | V14: 0 | W14: 10 | X14: 0 | Y14: =U14*6+V14*5+W14*10+X14*9 -> 496 | Z14: ='liczba dni zwłoki'!$E$22 -> 0 | AA14: ='liczba dni zwłoki'!$F$22 -> 69 | AB14: =ROUND((((Y14*0.1*Z14)/365)+((Y14*0.08*AA14)/365)),0) -> 8 | AC14: ='liczba dni zwłoki'!$H$22 -> 0 | AD14: ='liczba dni zwłoki'!$I$22 -> 69 | AE14: =ROUND((((Y14*0.1*AC14)/365)+((Y14*0.08*AD14)/365)),0) -> 8
A15: 9 | B15: marzec 2014 | C15: 71 | D15: 10 | E15: =C15*5+D15*9 -> 445 | F15: ='liczba dni zwłoki'!$E$13 -> 212 | G15: ='liczba dni zwłoki'!$F$13 -> 132 | H15: =ROUND(((E15*0.1*F15)/365)+((E15*0.08*G15)/365),0) -> 39 | I15: ='liczba dni zwłoki'!$H$13 -> 144 | J15: ='liczba dni zwłoki'!$I$13 -> 130 | K15: =ROUND((((E15*0.1*I15)/365)+((E15*0.08*J15)/365)),0) -> 30 | L15: =(E15+K15)/E15 -> 1.0674157 | M15: =E15/L15 -> 416.89474 | N15: =E15-M15 -> 28.105263 | O15: =M15+N15 -> 445 | P15: =O15 -> 445 | S15: 19 | T15: styczeń 2015 | U15: 66 | V15: 0 | W15: 10 | X15: 0 | Y15: =U15*6+V15*5+W15*10+X15*9 -> 496 | Z15: ='liczba dni zwłoki'!$E$23 -> 0 | AA15: ='liczba dni zwłoki'!$F$23 -> 36 | AB15: 0 | AC15: ='liczba dni zwłoki'!$H$23 -> 0 | AD15: ='liczba dni zwłoki'!$I$23 -> 36 | AE15: 0
